BEGIN:VCALENDAR
VERSION:2.0
PRODID:-//Cape Atlantic Intergroup - ECPv6.15.20//NONSGML v1.0//EN
CALSCALE:GREGORIAN
METHOD:PUBLISH
X-WR-CALNAME:Cape Atlantic Intergroup
X-ORIGINAL-URL:https://capeatlanticaa.org
X-WR-CALDESC:Events for Cape Atlantic Intergroup
REFRESH-INTERVAL;VALUE=DURATION:PT1H
X-Robots-Tag:noindex
X-PUBLISHED-TTL:PT1H
BEGIN:VTIMEZONE
TZID:America/New_York
BEGIN:DAYLIGHT
TZOFFSETFROM:-0500
TZOFFSETTO:-0400
TZNAME:EDT
DTSTART:20240310T070000
END:DAYLIGHT
BEGIN:STANDARD
TZOFFSETFROM:-0400
TZOFFSETTO:-0500
TZNAME:EST
DTSTART:20241103T060000
END:STANDARD
BEGIN:DAYLIGHT
TZOFFSETFROM:-0500
TZOFFSETTO:-0400
TZNAME:EDT
DTSTART:20250309T070000
END:DAYLIGHT
BEGIN:STANDARD
TZOFFSETFROM:-0400
TZOFFSETTO:-0500
TZNAME:EST
DTSTART:20251102T060000
END:STANDARD
BEGIN:DAYLIGHT
TZOFFSETFROM:-0500
TZOFFSETTO:-0400
TZNAME:EDT
DTSTART:20260308T070000
END:DAYLIGHT
BEGIN:STANDARD
TZOFFSETFROM:-0400
TZOFFSETTO:-0500
TZNAME:EST
DTSTART:20261101T060000
END:STANDARD
END:VTIMEZONE
BEGIN:VEVENT
DTSTART;TZID=America/New_York:20250406T183000
DTEND;TZID=America/New_York:20250406T193000
DTSTAMP:20260421T075942
CREATED:20250305T191010Z
LAST-MODIFIED:20250305T191010Z
UID:10001425-1743964200-1743967800@capeatlanticaa.org
SUMMARY:District 18 Monthly Meeting
DESCRIPTION:
URL:https://capeatlanticaa.org/event/district-18-monthly-meeting/2025-04-06/
LOCATION:Holy Trinity Episcopal Church OC\, 2998 Bay Ave\, Ocean City\, 08226\, United States
ATTACH;FMTTYPE=image/jpeg:https://capeatlanticaa.org/wp-content/uploads/2025/03/District-18-Monthly-Mtg-Flyer.1.jpeg
GEO:39.2587373;-74.609435
X-APPLE-STRUCTURED-LOCATION;VALUE=URI;X-ADDRESS=Holy Trinity Episcopal Church OC 2998 Bay Ave Ocean City 08226 United States;X-APPLE-RADIUS=500;X-TITLE=2998 Bay Ave:geo:-74.609435,39.2587373
END:VEVENT
END:VCALENDAR