BEGIN:VCALENDAR
VERSION:2.0
PRODID:-//Cape Atlantic Intergroup - ECPv6.15.20//NONSGML v1.0//EN
CALSCALE:GREGORIAN
METHOD:PUBLISH
X-ORIGINAL-URL:https://capeatlanticaa.org
X-WR-CALDESC:Events for Cape Atlantic Intergroup
REFRESH-INTERVAL;VALUE=DURATION:PT1H
X-Robots-Tag:noindex
X-PUBLISHED-TTL:PT1H
BEGIN:VTIMEZONE
TZID:America/New_York
BEGIN:DAYLIGHT
TZOFFSETFROM:-0500
TZOFFSETTO:-0400
TZNAME:EDT
DTSTART:20240310T070000
END:DAYLIGHT
BEGIN:STANDARD
TZOFFSETFROM:-0400
TZOFFSETTO:-0500
TZNAME:EST
DTSTART:20241103T060000
END:STANDARD
BEGIN:DAYLIGHT
TZOFFSETFROM:-0500
TZOFFSETTO:-0400
TZNAME:EDT
DTSTART:20250309T070000
END:DAYLIGHT
BEGIN:STANDARD
TZOFFSETFROM:-0400
TZOFFSETTO:-0500
TZNAME:EST
DTSTART:20251102T060000
END:STANDARD
BEGIN:DAYLIGHT
TZOFFSETFROM:-0500
TZOFFSETTO:-0400
TZNAME:EDT
DTSTART:20260308T070000
END:DAYLIGHT
BEGIN:STANDARD
TZOFFSETFROM:-0400
TZOFFSETTO:-0500
TZNAME:EST
DTSTART:20261101T060000
END:STANDARD
END:VTIMEZONE
BEGIN:VEVENT
DTSTART;TZID=America/New_York:20250426T091500
DTEND;TZID=America/New_York:20250426T170000
DTSTAMP:20260422T051038
CREATED:20250329T013249Z
LAST-MODIFIED:20250329T013249Z
UID:10001492-1745658900-1745686800@capeatlanticaa.org
SUMMARY:18th Annual Beyond Your Wildest Dreams - Living the AA Slogans
DESCRIPTION:In person and on Zoom \nZoom ID  831 805 1102
URL:https://capeatlanticaa.org/event/18th-annual-beyond-your-wildest-dreams-living-the-aa-slogans/
LOCATION:MARIS STELLA AUDITORIUM\, 50TH & OCEAN DRIVE\, AVALON\, NJ\, 08202\, United States
GEO:39.0840721;-74.7357964
X-APPLE-STRUCTURED-LOCATION;VALUE=URI;X-ADDRESS=MARIS STELLA AUDITORIUM 50TH & OCEAN DRIVE AVALON NJ 08202 United States;X-APPLE-RADIUS=500;X-TITLE=50TH & OCEAN DRIVE:geo:-74.7357964,39.0840721
END:VEVENT
BEGIN:VEVENT
DTSTART;TZID=America/New_York:20250426T100000
DTEND;TZID=America/New_York:20250426T120000
DTSTAMP:20260422T051038
CREATED:20250130T015634Z
LAST-MODIFIED:20250130T015634Z
UID:10001351-1745661600-1745668800@capeatlanticaa.org
SUMMARY:Fellowship of the Spirit Presents: Spring Into Action
DESCRIPTION:
URL:https://capeatlanticaa.org/event/fellowship-of-the-spirit-presents-spring-into-action/
LOCATION:Fusion Church (Formerly Ventnor Community)\, 5300 Ventnor Avenue\, Ventnor\, NJ\, 08406\, United States
GEO:39.3430462;-74.4717274
X-APPLE-STRUCTURED-LOCATION;VALUE=URI;X-ADDRESS=Fusion Church (Formerly Ventnor Community) 5300 Ventnor Avenue Ventnor NJ 08406 United States;X-APPLE-RADIUS=500;X-TITLE=5300 Ventnor Avenue:geo:-74.4717274,39.3430462
END:VEVENT
END:VCALENDAR