BEGIN:VCALENDAR
VERSION:2.0
PRODID:-//Cape Atlantic Intergroup - ECPv6.15.20//NONSGML v1.0//EN
CALSCALE:GREGORIAN
METHOD:PUBLISH
X-ORIGINAL-URL:https://capeatlanticaa.org
X-WR-CALDESC:Events for Cape Atlantic Intergroup
REFRESH-INTERVAL;VALUE=DURATION:PT1H
X-Robots-Tag:noindex
X-PUBLISHED-TTL:PT1H
BEGIN:VTIMEZONE
TZID:America/New_York
BEGIN:DAYLIGHT
TZOFFSETFROM:-0500
TZOFFSETTO:-0400
TZNAME:EDT
DTSTART:20240310T070000
END:DAYLIGHT
BEGIN:STANDARD
TZOFFSETFROM:-0400
TZOFFSETTO:-0500
TZNAME:EST
DTSTART:20241103T060000
END:STANDARD
BEGIN:DAYLIGHT
TZOFFSETFROM:-0500
TZOFFSETTO:-0400
TZNAME:EDT
DTSTART:20250309T070000
END:DAYLIGHT
BEGIN:STANDARD
TZOFFSETFROM:-0400
TZOFFSETTO:-0500
TZNAME:EST
DTSTART:20251102T060000
END:STANDARD
BEGIN:DAYLIGHT
TZOFFSETFROM:-0500
TZOFFSETTO:-0400
TZNAME:EDT
DTSTART:20260308T070000
END:DAYLIGHT
BEGIN:STANDARD
TZOFFSETFROM:-0400
TZOFFSETTO:-0500
TZNAME:EST
DTSTART:20261101T060000
END:STANDARD
END:VTIMEZONE
BEGIN:VEVENT
DTSTART;TZID=America/New_York:20250614T110000
DTEND;TZID=America/New_York:20250614T150000
DTSTAMP:20260423T070625
CREATED:20250417T011320Z
LAST-MODIFIED:20250421T220548Z
UID:10001936-1749898800-1749913200@capeatlanticaa.org
SUMMARY:CAIG Annual Family Picnic
DESCRIPTION:Manahawking Lake Park \nUnder the Pavillion
URL:https://capeatlanticaa.org/event/district-15-annual-picnic/
LOCATION:A. Paul King County Park\, 2\, W Bay Ave\, Manahawkin\, 08050\, United States
CATEGORIES:>Fellowship Events
GEO:39.6954517;-74.2590814
X-APPLE-STRUCTURED-LOCATION;VALUE=URI;X-ADDRESS=A. Paul King County Park 2 W Bay Ave Manahawkin 08050 United States;X-APPLE-RADIUS=500;X-TITLE=2\, W Bay Ave:geo:-74.2590814,39.6954517
END:VEVENT
END:VCALENDAR