BEGIN:VCALENDAR
VERSION:2.0
PRODID:-//Cape Atlantic Intergroup - ECPv6.15.20//NONSGML v1.0//EN
CALSCALE:GREGORIAN
METHOD:PUBLISH
X-ORIGINAL-URL:https://capeatlanticaa.org
X-WR-CALDESC:Events for Cape Atlantic Intergroup
REFRESH-INTERVAL;VALUE=DURATION:PT1H
X-Robots-Tag:noindex
X-PUBLISHED-TTL:PT1H
BEGIN:VTIMEZONE
TZID:America/New_York
BEGIN:DAYLIGHT
TZOFFSETFROM:-0500
TZOFFSETTO:-0400
TZNAME:EDT
DTSTART:20240310T070000
END:DAYLIGHT
BEGIN:STANDARD
TZOFFSETFROM:-0400
TZOFFSETTO:-0500
TZNAME:EST
DTSTART:20241103T060000
END:STANDARD
BEGIN:DAYLIGHT
TZOFFSETFROM:-0500
TZOFFSETTO:-0400
TZNAME:EDT
DTSTART:20250309T070000
END:DAYLIGHT
BEGIN:STANDARD
TZOFFSETFROM:-0400
TZOFFSETTO:-0500
TZNAME:EST
DTSTART:20251102T060000
END:STANDARD
BEGIN:DAYLIGHT
TZOFFSETFROM:-0500
TZOFFSETTO:-0400
TZNAME:EDT
DTSTART:20260308T070000
END:DAYLIGHT
BEGIN:STANDARD
TZOFFSETFROM:-0400
TZOFFSETTO:-0500
TZNAME:EST
DTSTART:20261101T060000
END:STANDARD
END:VTIMEZONE
BEGIN:VEVENT
DTSTART;TZID=America/New_York:20250703T000000
DTEND;TZID=America/New_York:20250706T235959
DTSTAMP:20260423T084506
CREATED:20240829T012010Z
LAST-MODIFIED:20240829T012010Z
UID:10000372-1751500800-1751846399@capeatlanticaa.org
SUMMARY:2025 A.A. International Convention
DESCRIPTION:
URL:https://capeatlanticaa.org/event/2025-a-a-international-convention/
END:VEVENT
BEGIN:VEVENT
DTSTART;TZID=America/New_York:20250705T120000
DTEND;TZID=America/New_York:20250705T213000
DTSTAMP:20260423T084506
CREATED:20250602T234119Z
LAST-MODIFIED:20250602T234119Z
UID:10002065-1751716800-1751751000@capeatlanticaa.org
SUMMARY:Rocketed to the 4th Dimension!🚀
DESCRIPTION:
URL:https://capeatlanticaa.org/event/rocketed-to-the-4th-dimension%f0%9f%9a%80/
LOCATION:Bartram Avenue Beach\, Atlantic City\, Bartram Avenue\, Atlantic City\, NJ\, 08401\, United States
GEO:39.348944;-74.463735
X-APPLE-STRUCTURED-LOCATION;VALUE=URI;X-ADDRESS=Bartram Avenue Beach Atlantic City Bartram Avenue Atlantic City NJ 08401 United States;X-APPLE-RADIUS=500;X-TITLE=Bartram Avenue:geo:-74.463735,39.348944
END:VEVENT
END:VCALENDAR