BEGIN:VCALENDAR
VERSION:2.0
PRODID:-//Cape Atlantic Intergroup - ECPv6.15.20//NONSGML v1.0//EN
CALSCALE:GREGORIAN
METHOD:PUBLISH
X-WR-CALNAME:Cape Atlantic Intergroup
X-ORIGINAL-URL:https://capeatlanticaa.org
X-WR-CALDESC:Events for Cape Atlantic Intergroup
REFRESH-INTERVAL;VALUE=DURATION:PT1H
X-Robots-Tag:noindex
X-PUBLISHED-TTL:PT1H
BEGIN:VTIMEZONE
TZID:America/New_York
BEGIN:DAYLIGHT
TZOFFSETFROM:-0500
TZOFFSETTO:-0400
TZNAME:EDT
DTSTART:20240310T070000
END:DAYLIGHT
BEGIN:STANDARD
TZOFFSETFROM:-0400
TZOFFSETTO:-0500
TZNAME:EST
DTSTART:20241103T060000
END:STANDARD
BEGIN:DAYLIGHT
TZOFFSETFROM:-0500
TZOFFSETTO:-0400
TZNAME:EDT
DTSTART:20250309T070000
END:DAYLIGHT
BEGIN:STANDARD
TZOFFSETFROM:-0400
TZOFFSETTO:-0500
TZNAME:EST
DTSTART:20251102T060000
END:STANDARD
BEGIN:DAYLIGHT
TZOFFSETFROM:-0500
TZOFFSETTO:-0400
TZNAME:EDT
DTSTART:20260308T070000
END:DAYLIGHT
BEGIN:STANDARD
TZOFFSETFROM:-0400
TZOFFSETTO:-0500
TZNAME:EST
DTSTART:20261101T060000
END:STANDARD
END:VTIMEZONE
BEGIN:VEVENT
DTSTART;TZID=America/New_York:20250907T150000
DTEND;TZID=America/New_York:20250907T160000
DTSTAMP:20260423T151040
CREATED:20250829T193244Z
LAST-MODIFIED:20250829T193244Z
UID:10002228-1757257200-1757260800@capeatlanticaa.org
SUMMARY:Convention Business Mtg (Virtual) - EACYPAA
DESCRIPTION:1st Sunday of the Month – Virtual Only \nMeeting ID: 849 0624 3322 \nPasscode: 194831
URL:https://capeatlanticaa.org/event/convention-business-mtg-virtual-eacypaa/2025-09-07/
ATTACH;FMTTYPE=image/jpeg:https://capeatlanticaa.org/wp-content/uploads/2025/08/EACYPAA-Business-Mtg.jpg
END:VEVENT
BEGIN:VEVENT
DTSTART;TZID=America/New_York:20250907T183000
DTEND;TZID=America/New_York:20250907T193000
DTSTAMP:20260423T151040
CREATED:20250224T162852Z
LAST-MODIFIED:20250707T163525Z
UID:10002453-1757269800-1757273400@capeatlanticaa.org
SUMMARY:2025 Roundup Committee Hybrid Meeting
DESCRIPTION:1st Monday of the month @ 6:30Pm \nAt the Intergroup Office and on Zoom. \nZoom ID  81277145161 \nPassword    417323
URL:https://capeatlanticaa.org/event/2025-roundup-committee-hybrid-meeting/2025-09-07/
LOCATION:Intergroup Office\, New Road\, Northfield\, NJ\, 08225\, United States
CATEGORIES:>Service Meetings
GEO:39.3732308;-74.5547204
X-APPLE-STRUCTURED-LOCATION;VALUE=URI;X-ADDRESS=Intergroup Office New Road Northfield NJ 08225 United States;X-APPLE-RADIUS=500;X-TITLE=New Road:geo:-74.5547204,39.3732308
END:VEVENT
BEGIN:VEVENT
DTSTART;TZID=America/New_York:20250907T183000
DTEND;TZID=America/New_York:20250907T193000
DTSTAMP:20260423T151040
CREATED:20250305T191010Z
LAST-MODIFIED:20250305T191010Z
UID:10001430-1757269800-1757273400@capeatlanticaa.org
SUMMARY:District 18 Monthly Meeting
DESCRIPTION:
URL:https://capeatlanticaa.org/event/district-18-monthly-meeting/2025-09-07/
LOCATION:Holy Trinity Episcopal Church OC\, 2998 Bay Ave\, Ocean City\, 08226\, United States
ATTACH;FMTTYPE=image/jpeg:https://capeatlanticaa.org/wp-content/uploads/2025/03/District-18-Monthly-Mtg-Flyer.1.jpeg
GEO:39.2587373;-74.609435
X-APPLE-STRUCTURED-LOCATION;VALUE=URI;X-ADDRESS=Holy Trinity Episcopal Church OC 2998 Bay Ave Ocean City 08226 United States;X-APPLE-RADIUS=500;X-TITLE=2998 Bay Ave:geo:-74.609435,39.2587373
END:VEVENT
END:VCALENDAR