BEGIN:VCALENDAR
VERSION:2.0
PRODID:-//Cape Atlantic Intergroup - ECPv6.15.20//NONSGML v1.0//EN
CALSCALE:GREGORIAN
METHOD:PUBLISH
X-WR-CALNAME:Cape Atlantic Intergroup
X-ORIGINAL-URL:https://capeatlanticaa.org
X-WR-CALDESC:Events for Cape Atlantic Intergroup
REFRESH-INTERVAL;VALUE=DURATION:PT1H
X-Robots-Tag:noindex
X-PUBLISHED-TTL:PT1H
BEGIN:VTIMEZONE
TZID:America/New_York
BEGIN:DAYLIGHT
TZOFFSETFROM:-0500
TZOFFSETTO:-0400
TZNAME:EDT
DTSTART:20240310T070000
END:DAYLIGHT
BEGIN:STANDARD
TZOFFSETFROM:-0400
TZOFFSETTO:-0500
TZNAME:EST
DTSTART:20241103T060000
END:STANDARD
BEGIN:DAYLIGHT
TZOFFSETFROM:-0500
TZOFFSETTO:-0400
TZNAME:EDT
DTSTART:20250309T070000
END:DAYLIGHT
BEGIN:STANDARD
TZOFFSETFROM:-0400
TZOFFSETTO:-0500
TZNAME:EST
DTSTART:20251102T060000
END:STANDARD
BEGIN:DAYLIGHT
TZOFFSETFROM:-0500
TZOFFSETTO:-0400
TZNAME:EDT
DTSTART:20260308T070000
END:DAYLIGHT
BEGIN:STANDARD
TZOFFSETFROM:-0400
TZOFFSETTO:-0500
TZNAME:EST
DTSTART:20261101T060000
END:STANDARD
END:VTIMEZONE
BEGIN:VEVENT
DTSTART;TZID=America/New_York:20251207T190000
DTEND;TZID=America/New_York:20251207T210000
DTSTAMP:20260423T175203
CREATED:20251013T162911Z
LAST-MODIFIED:20260302T174149Z
UID:10002304-1765134000-1765141200@capeatlanticaa.org
SUMMARY:3rd Step Candlelight Group Monthly Fellowship Dinner
DESCRIPTION:
URL:https://capeatlanticaa.org/event/3rd-step-candlelight-group-monthly-fellowship-dinner/2025-12-07/
LOCATION:Applebees\, 700 Consumer Square\, Mays Landing\, NJ\, 08330\, United States
CATEGORIES:>Fellowship Events
ATTACH;FMTTYPE=image/jpeg:https://capeatlanticaa.org/wp-content/uploads/2026/03/IMG_4922.jpeg
GEO:39.4506644;-74.6364822
X-APPLE-STRUCTURED-LOCATION;VALUE=URI;X-ADDRESS=Applebees 700 Consumer Square Mays Landing NJ 08330 United States;X-APPLE-RADIUS=500;X-TITLE=700 Consumer Square:geo:-74.6364822,39.4506644
END:VEVENT
BEGIN:VEVENT
DTSTART;TZID=America/New_York:20251213T180000
DTEND;TZID=America/New_York:20251213T230000
DTSTAMP:20260423T175203
CREATED:20251011T232613Z
LAST-MODIFIED:20251104T022314Z
UID:10002301-1765648800-1765666800@capeatlanticaa.org
SUMMARY:Dance Under the Stars
DESCRIPTION:Hosted by District 15\, enjoy live music food and fellowship.
URL:https://capeatlanticaa.org/event/dance-under-the-stars/
LOCATION:Church of the Holy Spirit\, 220 E. Main Street\, Tuckerton\, NJ\, United States
CATEGORIES:>Fellowship Events
GEO:39.6037162;-74.3356982
X-APPLE-STRUCTURED-LOCATION;VALUE=URI;X-ADDRESS=Church of the Holy Spirit 220 E. Main Street Tuckerton NJ United States;X-APPLE-RADIUS=500;X-TITLE=220 E. Main Street:geo:-74.3356982,39.6037162
END:VEVENT
BEGIN:VEVENT
DTSTART;TZID=America/New_York:20251213T200000
DTEND;TZID=America/New_York:20251213T220000
DTSTAMP:20260423T175203
CREATED:20251114T182322Z
LAST-MODIFIED:20251114T182322Z
UID:10002430-1765656000-1765663200@capeatlanticaa.org
SUMMARY:DJ Skate AA Takeover
DESCRIPTION:
URL:https://capeatlanticaa.org/event/dj-skate-aa-takeover/
LOCATION:Winding River Ice Rink\, 1211 Whitesville Rd\, Toms River\, 08753\, United States
CATEGORIES:>Fellowship Events
GEO:39.9886689;-74.2156931
X-APPLE-STRUCTURED-LOCATION;VALUE=URI;X-ADDRESS=Winding River Ice Rink 1211 Whitesville Rd Toms River 08753 United States;X-APPLE-RADIUS=500;X-TITLE=1211 Whitesville Rd:geo:-74.2156931,39.9886689
END:VEVENT
BEGIN:VEVENT
DTSTART;TZID=America/New_York:20251220T160000
DTEND;TZID=America/New_York:20251220T180000
DTSTAMP:20260423T175203
CREATED:20251219T114422Z
LAST-MODIFIED:20251219T114422Z
UID:10002443-1766246400-1766253600@capeatlanticaa.org
SUMMARY:Roll into Sobriety!
DESCRIPTION:
URL:https://capeatlanticaa.org/event/roll-into-sobriety/
LOCATION:Young’s Skating Center\, Park Road 763\, Hamilton\, NJ\, 08330\, United States
CATEGORIES:>Fellowship Events
GEO:39.4627108;-74.733677
X-APPLE-STRUCTURED-LOCATION;VALUE=URI;X-ADDRESS=Young’s Skating Center Park Road 763 Hamilton NJ 08330 United States;X-APPLE-RADIUS=500;X-TITLE=Park Road 763:geo:-74.733677,39.4627108
END:VEVENT
BEGIN:VEVENT
DTSTART;TZID=America/New_York:20251231T180000
DTEND;TZID=America/New_York:20251231T220000
DTSTAMP:20260423T175203
CREATED:20251118T104735Z
LAST-MODIFIED:20251118T104735Z
UID:10002431-1767204000-1767218400@capeatlanticaa.org
SUMMARY:Countdown to 2026
DESCRIPTION:
URL:https://capeatlanticaa.org/event/countdown-to-2026/
LOCATION:Absecon United Methodist Church\, 100 Pitney Rd\, Absecon\, NJ\, 08201\, United States
CATEGORIES:>Fellowship Events
GEO:39.426649;-74.4992709
X-APPLE-STRUCTURED-LOCATION;VALUE=URI;X-ADDRESS=Absecon United Methodist Church 100 Pitney Rd Absecon NJ 08201 United States;X-APPLE-RADIUS=500;X-TITLE=100 Pitney Rd:geo:-74.4992709,39.426649
END:VEVENT
END:VCALENDAR