BEGIN:VCALENDAR
VERSION:2.0
PRODID:-//Cape Atlantic Intergroup - ECPv6.15.20//NONSGML v1.0//EN
CALSCALE:GREGORIAN
METHOD:PUBLISH
X-ORIGINAL-URL:https://capeatlanticaa.org
X-WR-CALDESC:Events for Cape Atlantic Intergroup
REFRESH-INTERVAL;VALUE=DURATION:PT1H
X-Robots-Tag:noindex
X-PUBLISHED-TTL:PT1H
BEGIN:VTIMEZONE
TZID:America/New_York
BEGIN:DAYLIGHT
TZOFFSETFROM:-0500
TZOFFSETTO:-0400
TZNAME:EDT
DTSTART:20250309T070000
END:DAYLIGHT
BEGIN:STANDARD
TZOFFSETFROM:-0400
TZOFFSETTO:-0500
TZNAME:EST
DTSTART:20251102T060000
END:STANDARD
BEGIN:DAYLIGHT
TZOFFSETFROM:-0500
TZOFFSETTO:-0400
TZNAME:EDT
DTSTART:20260308T070000
END:DAYLIGHT
BEGIN:STANDARD
TZOFFSETFROM:-0400
TZOFFSETTO:-0500
TZNAME:EST
DTSTART:20261101T060000
END:STANDARD
BEGIN:DAYLIGHT
TZOFFSETFROM:-0500
TZOFFSETTO:-0400
TZNAME:EDT
DTSTART:20270314T070000
END:DAYLIGHT
BEGIN:STANDARD
TZOFFSETFROM:-0400
TZOFFSETTO:-0500
TZNAME:EST
DTSTART:20271107T060000
END:STANDARD
END:VTIMEZONE
BEGIN:VEVENT
DTSTART;TZID=America/New_York:20260301T190000
DTEND;TZID=America/New_York:20260301T210000
DTSTAMP:20260423T142348
CREATED:20251013T162911Z
LAST-MODIFIED:20260302T174149Z
UID:10002307-1772391600-1772398800@capeatlanticaa.org
SUMMARY:3rd Step Candlelight Group Monthly Fellowship Dinner
DESCRIPTION:
URL:https://capeatlanticaa.org/event/3rd-step-candlelight-group-monthly-fellowship-dinner/2026-03-01/
LOCATION:Applebees\, 700 Consumer Square\, Mays Landing\, NJ\, 08330\, United States
CATEGORIES:>Fellowship Events
ATTACH;FMTTYPE=image/jpeg:https://capeatlanticaa.org/wp-content/uploads/2026/03/IMG_4922.jpeg
GEO:39.4506644;-74.6364822
X-APPLE-STRUCTURED-LOCATION;VALUE=URI;X-ADDRESS=Applebees 700 Consumer Square Mays Landing NJ 08330 United States;X-APPLE-RADIUS=500;X-TITLE=700 Consumer Square:geo:-74.6364822,39.4506644
END:VEVENT
BEGIN:VEVENT
DTSTART;TZID=America/New_York:20260304T193000
DTEND;TZID=America/New_York:20260304T203000
DTSTAMP:20260423T142348
CREATED:20260219T021701Z
LAST-MODIFIED:20260219T021701Z
UID:10002523-1772652600-1772656200@capeatlanticaa.org
SUMMARY:Fellowship of the Spirit Special Guest Speaker
DESCRIPTION:
URL:https://capeatlanticaa.org/event/fellowship-of-the-spirit-special-guest-speaker/
LOCATION:Fusion Church (Formerly Ventnor Community)\, 5300 Ventnor Avenue\, Ventnor\, NJ\, 08406\, United States
CATEGORIES:>Fellowship Events
GEO:39.3430462;-74.4717274
X-APPLE-STRUCTURED-LOCATION;VALUE=URI;X-ADDRESS=Fusion Church (Formerly Ventnor Community) 5300 Ventnor Avenue Ventnor NJ 08406 United States;X-APPLE-RADIUS=500;X-TITLE=5300 Ventnor Avenue:geo:-74.4717274,39.3430462
END:VEVENT
BEGIN:VEVENT
DTSTART;TZID=America/New_York:20260312T180000
DTEND;TZID=America/New_York:20260312T200000
DTSTAMP:20260423T142348
CREATED:20260123T031336Z
LAST-MODIFIED:20260123T031336Z
UID:10002520-1773338400-1773345600@capeatlanticaa.org
SUMMARY:Stone Harbor Big Book Special Event
DESCRIPTION:
URL:https://capeatlanticaa.org/event/stone-harbor-big-book-special-event/
LOCATION:St Mary’s Episcopal Church\, 9425 3rd Ave\, Stone Harbor\, United States
CATEGORIES:>Fellowship Events,>Group Anniversaries
GEO:39.0555902;-74.7602918
X-APPLE-STRUCTURED-LOCATION;VALUE=URI;X-ADDRESS=St Mary’s Episcopal Church 9425 3rd Ave Stone Harbor United States;X-APPLE-RADIUS=500;X-TITLE=9425 3rd Ave:geo:-74.7602918,39.0555902
END:VEVENT
BEGIN:VEVENT
DTSTART;TZID=America/New_York:20260314T193000
DTEND;TZID=America/New_York:20260314T213000
DTSTAMP:20260423T142348
CREATED:20260309T224205Z
LAST-MODIFIED:20260309T224205Z
UID:10002640-1773516600-1773523800@capeatlanticaa.org
SUMMARY:Easy Does It Group Movie Night
DESCRIPTION:
URL:https://capeatlanticaa.org/event/easy-does-it-group-movie-night/
LOCATION:St. Thomas of Villanova\, Ship Bottom\, NJ\, 08008\, United States
CATEGORIES:>Fellowship Events
GEO:39.6468626;-74.1780266
END:VEVENT
END:VCALENDAR