BEGIN:VCALENDAR
VERSION:2.0
PRODID:-//Cape Atlantic Intergroup - ECPv6.15.20//NONSGML v1.0//EN
CALSCALE:GREGORIAN
METHOD:PUBLISH
X-WR-CALNAME:Cape Atlantic Intergroup
X-ORIGINAL-URL:https://capeatlanticaa.org
X-WR-CALDESC:Events for Cape Atlantic Intergroup
REFRESH-INTERVAL;VALUE=DURATION:PT1H
X-Robots-Tag:noindex
X-PUBLISHED-TTL:PT1H
BEGIN:VTIMEZONE
TZID:America/New_York
BEGIN:DAYLIGHT
TZOFFSETFROM:-0500
TZOFFSETTO:-0400
TZNAME:EDT
DTSTART:20270314T070000
END:DAYLIGHT
BEGIN:STANDARD
TZOFFSETFROM:-0400
TZOFFSETTO:-0500
TZNAME:EST
DTSTART:20271107T060000
END:STANDARD
BEGIN:DAYLIGHT
TZOFFSETFROM:-0500
TZOFFSETTO:-0400
TZNAME:EDT
DTSTART:20280312T070000
END:DAYLIGHT
BEGIN:STANDARD
TZOFFSETFROM:-0400
TZOFFSETTO:-0500
TZNAME:EST
DTSTART:20281105T060000
END:STANDARD
BEGIN:DAYLIGHT
TZOFFSETFROM:-0500
TZOFFSETTO:-0400
TZNAME:EDT
DTSTART:20290311T070000
END:DAYLIGHT
BEGIN:STANDARD
TZOFFSETFROM:-0400
TZOFFSETTO:-0500
TZNAME:EST
DTSTART:20291104T060000
END:STANDARD
BEGIN:DAYLIGHT
TZOFFSETFROM:-0500
TZOFFSETTO:-0400
TZNAME:EDT
DTSTART:20300310T070000
END:DAYLIGHT
BEGIN:STANDARD
TZOFFSETFROM:-0400
TZOFFSETTO:-0500
TZNAME:EST
DTSTART:20301103T060000
END:STANDARD
END:VTIMEZONE
BEGIN:VEVENT
DTSTART;TZID=America/New_York:20281204T193000
DTEND;TZID=America/New_York:20281204T210000
DTSTAMP:20260421T183014
CREATED:20250414T223011Z
LAST-MODIFIED:20260304T201444Z
UID:10001858-1859571000-1859576400@capeatlanticaa.org
SUMMARY:Intergroup Business Meeting
DESCRIPTION:All members can attend the monthly Business Meeting for Intergroup\nMeeting is held monthly – 3rd Wednesday of the month. LEARN MORE \nIntergroup Reps (IGRs) from area Groups attend this meeting to hear the reports from the Intergroup Steering Panel and Committees. \nHybrid Meeting ID: 832 9623 3517   No PW \nCLICK TO JOIN MEETING
URL:https://capeatlanticaa.org/event/intergroup-business-meeting-2-2/2028-12-04/
LOCATION:CAIG Office\, 1418 New Rd\, Suite 4\, Northfield\, NJ\, 08225\, United States
CATEGORIES:>Service Meetings
GEO:39.389011;-74.567032
X-APPLE-STRUCTURED-LOCATION;VALUE=URI;X-ADDRESS=CAIG Office 1418 New Rd Suite 4 Northfield NJ 08225 United States;X-APPLE-RADIUS=500;X-TITLE=1418 New Rd\, Suite 4:geo:-74.567032,39.389011
END:VEVENT
BEGIN:VEVENT
DTSTART;TZID=America/New_York:20281206T193000
DTEND;TZID=America/New_York:20281206T203000
DTSTAMP:20260421T183014
CREATED:20260415T102728Z
LAST-MODIFIED:20260415T102728Z
UID:10002682-1859743800-1859747400@capeatlanticaa.org
SUMMARY:CAYPAA Event Planning Meetings
DESCRIPTION:
URL:https://capeatlanticaa.org/event/caypaa-event-planning-meetings/2028-12-06/
LOCATION:Intergroup Office\, New Road\, Northfield\, NJ\, 08225\, United States
CATEGORIES:>Service Meetings
ATTACH;FMTTYPE=image/jpeg:https://capeatlanticaa.org/wp-content/uploads/2026/04/IMG_5091.jpeg
GEO:39.3732308;-74.5547204
X-APPLE-STRUCTURED-LOCATION;VALUE=URI;X-ADDRESS=Intergroup Office New Road Northfield NJ 08225 United States;X-APPLE-RADIUS=500;X-TITLE=New Road:geo:-74.5547204,39.3732308
END:VEVENT
BEGIN:VEVENT
DTSTART;TZID=America/New_York:20281207T183000
DTEND;TZID=America/New_York:20281207T193000
DTSTAMP:20260421T183014
CREATED:20241001T013715Z
LAST-MODIFIED:20260110T102019Z
UID:10001551-1859826600-1859830200@capeatlanticaa.org
SUMMARY:District 16 & 17 Monthly Meeting
DESCRIPTION:https://us05web.zoom.us/j/83348991388?pwd=jvkVrZe1DOyZEh2zgxQWQ2HqAMelak.1 \nZoom ID : 833 4899 1388 \nPassword : Area45
URL:https://capeatlanticaa.org/event/district-16-17-monthly-meeting/2028-12-07/
LOCATION:Intergroup Office\, New Road\, Northfield\, NJ\, 08225\, United States
GEO:39.3732308;-74.5547204
X-APPLE-STRUCTURED-LOCATION;VALUE=URI;X-ADDRESS=Intergroup Office New Road Northfield NJ 08225 United States;X-APPLE-RADIUS=500;X-TITLE=New Road:geo:-74.5547204,39.3732308
END:VEVENT
BEGIN:VEVENT
DTSTART;TZID=America/New_York:20281211T183000
DTEND;TZID=America/New_York:20281211T193000
DTSTAMP:20260421T183014
CREATED:20260120T021529Z
LAST-MODIFIED:20260120T021529Z
UID:10002490-1860172200-1860175800@capeatlanticaa.org
SUMMARY:Roundup Committee Hybrid Meeting
DESCRIPTION:Meeting ID: 812 7714 5161 Passcode: 417323  CLICK TO JOIN NOW
URL:https://capeatlanticaa.org/event/roundup-committee-hybrid-meeting/2028-12-11/
LOCATION:Intergroup Office\, New Road\, Northfield\, NJ\, 08225\, United States
GEO:39.3732308;-74.5547204
X-APPLE-STRUCTURED-LOCATION;VALUE=URI;X-ADDRESS=Intergroup Office New Road Northfield NJ 08225 United States;X-APPLE-RADIUS=500;X-TITLE=New Road:geo:-74.5547204,39.3732308
END:VEVENT
BEGIN:VEVENT
DTSTART;TZID=America/New_York:20281213T180000
DTEND;TZID=America/New_York:20281213T190000
DTSTAMP:20260421T183014
CREATED:20241107T020820Z
LAST-MODIFIED:20241107T020820Z
UID:10001141-1860343200-1860346800@capeatlanticaa.org
SUMMARY:District 15 Monthly Hybrid Meeting
DESCRIPTION:GOOGLE MEETING LINK      meet.google.com/rod-eiqn-its \n  \nFor more information call 609-467-8183
URL:https://capeatlanticaa.org/event/district-15-monthly-hybrid-meeting/2028-12-13/
LOCATION:Holy Spirit Episcopal Church\, 220 E. Main Street
ATTACH;FMTTYPE=image/png:https://capeatlanticaa.org/wp-content/uploads/2024/11/IMG_2646.png
END:VEVENT
BEGIN:VEVENT
DTSTART;TZID=America/New_York:20281213T193000
DTEND;TZID=America/New_York:20281213T210000
DTSTAMP:20260421T183014
CREATED:20250414T224052Z
LAST-MODIFIED:20250414T224052Z
UID:10001919-1860348600-1860354000@capeatlanticaa.org
SUMMARY:Intergroup Steering Meeting
DESCRIPTION:The 2nd Wednesday of the month\, at 7:30\n1418 New Rd\, Suite 4\, Northfield NJ 08225 \nMeeting ID 542 744 809   CLICK TO JOIN NOW
URL:https://capeatlanticaa.org/event/intergroup-steering-meeting/2028-12-13/
LOCATION:Intergroup Office\, New Road\, Northfield\, NJ\, 08225\, United States
GEO:39.3732308;-74.5547204
X-APPLE-STRUCTURED-LOCATION;VALUE=URI;X-ADDRESS=Intergroup Office New Road Northfield NJ 08225 United States;X-APPLE-RADIUS=500;X-TITLE=New Road:geo:-74.5547204,39.3732308
END:VEVENT
BEGIN:VEVENT
DTSTART;TZID=America/New_York:20281220T193000
DTEND;TZID=America/New_York:20281220T210000
DTSTAMP:20260421T183014
CREATED:20260305T004502Z
LAST-MODIFIED:20260305T005115Z
UID:10002612-1860953400-1860958800@capeatlanticaa.org
SUMMARY:Intergroup Business Meeting
DESCRIPTION:All members can attend the monthly Business Meeting for Intergroup Meeting is held monthly – 3rd Wednesday of the month. LEARN MORE \nIntergroup Reps (IGRs) from area Groups attend this meeting to hear the reports from the Intergroup Steering Panel and Committees. Hybrid Meeting ID: 83296233517   No PW   CLICK TO JOIN MEETING
URL:https://capeatlanticaa.org/event/intergroup-business-meeting-2-3/2028-12-20/
LOCATION:Intergroup Office\, New Road\, Northfield\, NJ\, 08225\, United States
GEO:39.3732308;-74.5547204
X-APPLE-STRUCTURED-LOCATION;VALUE=URI;X-ADDRESS=Intergroup Office New Road Northfield NJ 08225 United States;X-APPLE-RADIUS=500;X-TITLE=New Road:geo:-74.5547204,39.3732308
END:VEVENT
BEGIN:VEVENT
DTSTART;TZID=America/New_York:20281231T160000
DTEND;TZID=America/New_York:20281231T170000
DTSTAMP:20260421T183014
CREATED:20251104T004639Z
LAST-MODIFIED:20251111T021618Z
UID:10002404-1861891200-1861894800@capeatlanticaa.org
SUMMARY:District 19 Monthly Hybrid Meeting
DESCRIPTION:Meeting ID:  861 1052 1946 \nPassword:  GSR19
URL:https://capeatlanticaa.org/event/district-19-monthly-hybrid-meeting/2028-12-31/
LOCATION:The Twelve Step House\, West Oak Avenue\, Wildwood\, New Jersey\, 08260\, United States
GEO:38.9921249;-74.8162518
X-APPLE-STRUCTURED-LOCATION;VALUE=URI;X-ADDRESS=The Twelve Step House West Oak Avenue Wildwood New Jersey 08260 United States;X-APPLE-RADIUS=500;X-TITLE=West Oak Avenue:geo:-74.8162518,38.9921249
END:VEVENT
BEGIN:VEVENT
DTSTART;TZID=America/New_York:20290103T193000
DTEND;TZID=America/New_York:20290103T203000
DTSTAMP:20260421T183014
CREATED:20260415T102728Z
LAST-MODIFIED:20260415T102728Z
UID:10002683-1862163000-1862166600@capeatlanticaa.org
SUMMARY:CAYPAA Event Planning Meetings
DESCRIPTION:
URL:https://capeatlanticaa.org/event/caypaa-event-planning-meetings/2029-01-03/
LOCATION:Intergroup Office\, New Road\, Northfield\, NJ\, 08225\, United States
CATEGORIES:>Service Meetings
ATTACH;FMTTYPE=image/jpeg:https://capeatlanticaa.org/wp-content/uploads/2026/04/IMG_5091.jpeg
GEO:39.3732308;-74.5547204
X-APPLE-STRUCTURED-LOCATION;VALUE=URI;X-ADDRESS=Intergroup Office New Road Northfield NJ 08225 United States;X-APPLE-RADIUS=500;X-TITLE=New Road:geo:-74.5547204,39.3732308
END:VEVENT
BEGIN:VEVENT
DTSTART;TZID=America/New_York:20290104T183000
DTEND;TZID=America/New_York:20290104T193000
DTSTAMP:20260421T183014
CREATED:20241001T013715Z
LAST-MODIFIED:20260110T102019Z
UID:10001552-1862245800-1862249400@capeatlanticaa.org
SUMMARY:District 16 & 17 Monthly Meeting
DESCRIPTION:https://us05web.zoom.us/j/83348991388?pwd=jvkVrZe1DOyZEh2zgxQWQ2HqAMelak.1 \nZoom ID : 833 4899 1388 \nPassword : Area45
URL:https://capeatlanticaa.org/event/district-16-17-monthly-meeting/2029-01-04/
LOCATION:Intergroup Office\, New Road\, Northfield\, NJ\, 08225\, United States
GEO:39.3732308;-74.5547204
X-APPLE-STRUCTURED-LOCATION;VALUE=URI;X-ADDRESS=Intergroup Office New Road Northfield NJ 08225 United States;X-APPLE-RADIUS=500;X-TITLE=New Road:geo:-74.5547204,39.3732308
END:VEVENT
BEGIN:VEVENT
DTSTART;TZID=America/New_York:20290104T193000
DTEND;TZID=America/New_York:20290104T210000
DTSTAMP:20260421T183014
CREATED:20250414T223011Z
LAST-MODIFIED:20260304T201444Z
UID:10002555-1862249400-1862254800@capeatlanticaa.org
SUMMARY:Intergroup Business Meeting
DESCRIPTION:All members can attend the monthly Business Meeting for Intergroup\nMeeting is held monthly – 3rd Wednesday of the month. LEARN MORE \nIntergroup Reps (IGRs) from area Groups attend this meeting to hear the reports from the Intergroup Steering Panel and Committees. \nHybrid Meeting ID: 832 9623 3517   No PW \nCLICK TO JOIN MEETING
URL:https://capeatlanticaa.org/event/intergroup-business-meeting-2-2/2029-01-04/
LOCATION:CAIG Office\, 1418 New Rd\, Suite 4\, Northfield\, NJ\, 08225\, United States
CATEGORIES:>Service Meetings
GEO:39.389011;-74.567032
X-APPLE-STRUCTURED-LOCATION;VALUE=URI;X-ADDRESS=CAIG Office 1418 New Rd Suite 4 Northfield NJ 08225 United States;X-APPLE-RADIUS=500;X-TITLE=1418 New Rd\, Suite 4:geo:-74.567032,39.389011
END:VEVENT
BEGIN:VEVENT
DTSTART;TZID=America/New_York:20290107T183000
DTEND;TZID=America/New_York:20290107T193000
DTSTAMP:20260421T183014
CREATED:20250305T191010Z
LAST-MODIFIED:20250305T191010Z
UID:10001470-1862505000-1862508600@capeatlanticaa.org
SUMMARY:District 18 Monthly Meeting
DESCRIPTION:
URL:https://capeatlanticaa.org/event/district-18-monthly-meeting/2029-01-07/
LOCATION:Holy Trinity Episcopal Church OC\, 2998 Bay Ave\, Ocean City\, 08226\, United States
ATTACH;FMTTYPE=image/jpeg:https://capeatlanticaa.org/wp-content/uploads/2025/03/District-18-Monthly-Mtg-Flyer.1.jpeg
GEO:39.2587373;-74.609435
X-APPLE-STRUCTURED-LOCATION;VALUE=URI;X-ADDRESS=Holy Trinity Episcopal Church OC 2998 Bay Ave Ocean City 08226 United States;X-APPLE-RADIUS=500;X-TITLE=2998 Bay Ave:geo:-74.609435,39.2587373
END:VEVENT
BEGIN:VEVENT
DTSTART;TZID=America/New_York:20290107T190000
DTEND;TZID=America/New_York:20290107T210000
DTSTAMP:20260421T183014
CREATED:20251013T162911Z
LAST-MODIFIED:20260302T174149Z
UID:10002341-1862506800-1862514000@capeatlanticaa.org
SUMMARY:3rd Step Candlelight Group Monthly Fellowship Dinner
DESCRIPTION:
URL:https://capeatlanticaa.org/event/3rd-step-candlelight-group-monthly-fellowship-dinner/2029-01-07/
LOCATION:Applebees\, 700 Consumer Square\, Mays Landing\, NJ\, 08330\, United States
CATEGORIES:>Fellowship Events
ATTACH;FMTTYPE=image/jpeg:https://capeatlanticaa.org/wp-content/uploads/2026/03/IMG_4922.jpeg
GEO:39.4506644;-74.6364822
X-APPLE-STRUCTURED-LOCATION;VALUE=URI;X-ADDRESS=Applebees 700 Consumer Square Mays Landing NJ 08330 United States;X-APPLE-RADIUS=500;X-TITLE=700 Consumer Square:geo:-74.6364822,39.4506644
END:VEVENT
BEGIN:VEVENT
DTSTART;TZID=America/New_York:20290108T183000
DTEND;TZID=America/New_York:20290108T193000
DTSTAMP:20260421T183014
CREATED:20260120T021529Z
LAST-MODIFIED:20260120T021529Z
UID:10002491-1862591400-1862595000@capeatlanticaa.org
SUMMARY:Roundup Committee Hybrid Meeting
DESCRIPTION:Meeting ID: 812 7714 5161 Passcode: 417323  CLICK TO JOIN NOW
URL:https://capeatlanticaa.org/event/roundup-committee-hybrid-meeting/2029-01-08/
LOCATION:Intergroup Office\, New Road\, Northfield\, NJ\, 08225\, United States
GEO:39.3732308;-74.5547204
X-APPLE-STRUCTURED-LOCATION;VALUE=URI;X-ADDRESS=Intergroup Office New Road Northfield NJ 08225 United States;X-APPLE-RADIUS=500;X-TITLE=New Road:geo:-74.5547204,39.3732308
END:VEVENT
BEGIN:VEVENT
DTSTART;TZID=America/New_York:20290110T180000
DTEND;TZID=America/New_York:20290110T190000
DTSTAMP:20260421T183014
CREATED:20241107T020820Z
LAST-MODIFIED:20241107T020820Z
UID:10001142-1862762400-1862766000@capeatlanticaa.org
SUMMARY:District 15 Monthly Hybrid Meeting
DESCRIPTION:GOOGLE MEETING LINK      meet.google.com/rod-eiqn-its \n  \nFor more information call 609-467-8183
URL:https://capeatlanticaa.org/event/district-15-monthly-hybrid-meeting/2029-01-10/
LOCATION:Holy Spirit Episcopal Church\, 220 E. Main Street
ATTACH;FMTTYPE=image/png:https://capeatlanticaa.org/wp-content/uploads/2024/11/IMG_2646.png
END:VEVENT
BEGIN:VEVENT
DTSTART;TZID=America/New_York:20290110T193000
DTEND;TZID=America/New_York:20290110T210000
DTSTAMP:20260421T183014
CREATED:20250414T224052Z
LAST-MODIFIED:20250414T224052Z
UID:10001920-1862767800-1862773200@capeatlanticaa.org
SUMMARY:Intergroup Steering Meeting
DESCRIPTION:The 2nd Wednesday of the month\, at 7:30\n1418 New Rd\, Suite 4\, Northfield NJ 08225 \nMeeting ID 542 744 809   CLICK TO JOIN NOW
URL:https://capeatlanticaa.org/event/intergroup-steering-meeting/2029-01-10/
LOCATION:Intergroup Office\, New Road\, Northfield\, NJ\, 08225\, United States
GEO:39.3732308;-74.5547204
X-APPLE-STRUCTURED-LOCATION;VALUE=URI;X-ADDRESS=Intergroup Office New Road Northfield NJ 08225 United States;X-APPLE-RADIUS=500;X-TITLE=New Road:geo:-74.5547204,39.3732308
END:VEVENT
BEGIN:VEVENT
DTSTART;TZID=America/New_York:20290117T193000
DTEND;TZID=America/New_York:20290117T210000
DTSTAMP:20260421T183014
CREATED:20260305T004502Z
LAST-MODIFIED:20260305T005115Z
UID:10002613-1863372600-1863378000@capeatlanticaa.org
SUMMARY:Intergroup Business Meeting
DESCRIPTION:All members can attend the monthly Business Meeting for Intergroup Meeting is held monthly – 3rd Wednesday of the month. LEARN MORE \nIntergroup Reps (IGRs) from area Groups attend this meeting to hear the reports from the Intergroup Steering Panel and Committees. Hybrid Meeting ID: 83296233517   No PW   CLICK TO JOIN MEETING
URL:https://capeatlanticaa.org/event/intergroup-business-meeting-2-3/2029-01-17/
LOCATION:Intergroup Office\, New Road\, Northfield\, NJ\, 08225\, United States
GEO:39.3732308;-74.5547204
X-APPLE-STRUCTURED-LOCATION;VALUE=URI;X-ADDRESS=Intergroup Office New Road Northfield NJ 08225 United States;X-APPLE-RADIUS=500;X-TITLE=New Road:geo:-74.5547204,39.3732308
END:VEVENT
BEGIN:VEVENT
DTSTART;TZID=America/New_York:20290128T160000
DTEND;TZID=America/New_York:20290128T170000
DTSTAMP:20260421T183014
CREATED:20251104T004639Z
LAST-MODIFIED:20251111T021618Z
UID:10002405-1864310400-1864314000@capeatlanticaa.org
SUMMARY:District 19 Monthly Hybrid Meeting
DESCRIPTION:Meeting ID:  861 1052 1946 \nPassword:  GSR19
URL:https://capeatlanticaa.org/event/district-19-monthly-hybrid-meeting/2029-01-28/
LOCATION:The Twelve Step House\, West Oak Avenue\, Wildwood\, New Jersey\, 08260\, United States
GEO:38.9921249;-74.8162518
X-APPLE-STRUCTURED-LOCATION;VALUE=URI;X-ADDRESS=The Twelve Step House West Oak Avenue Wildwood New Jersey 08260 United States;X-APPLE-RADIUS=500;X-TITLE=West Oak Avenue:geo:-74.8162518,38.9921249
END:VEVENT
BEGIN:VEVENT
DTSTART;TZID=America/New_York:20290201T183000
DTEND;TZID=America/New_York:20290201T193000
DTSTAMP:20260421T183014
CREATED:20241001T013715Z
LAST-MODIFIED:20260110T102019Z
UID:10001553-1864665000-1864668600@capeatlanticaa.org
SUMMARY:District 16 & 17 Monthly Meeting
DESCRIPTION:https://us05web.zoom.us/j/83348991388?pwd=jvkVrZe1DOyZEh2zgxQWQ2HqAMelak.1 \nZoom ID : 833 4899 1388 \nPassword : Area45
URL:https://capeatlanticaa.org/event/district-16-17-monthly-meeting/2029-02-01/
LOCATION:Intergroup Office\, New Road\, Northfield\, NJ\, 08225\, United States
GEO:39.3732308;-74.5547204
X-APPLE-STRUCTURED-LOCATION;VALUE=URI;X-ADDRESS=Intergroup Office New Road Northfield NJ 08225 United States;X-APPLE-RADIUS=500;X-TITLE=New Road:geo:-74.5547204,39.3732308
END:VEVENT
BEGIN:VEVENT
DTSTART;TZID=America/New_York:20290204T183000
DTEND;TZID=America/New_York:20290204T193000
DTSTAMP:20260421T183014
CREATED:20250305T191010Z
LAST-MODIFIED:20250305T191010Z
UID:10001471-1864924200-1864927800@capeatlanticaa.org
SUMMARY:District 18 Monthly Meeting
DESCRIPTION:
URL:https://capeatlanticaa.org/event/district-18-monthly-meeting/2029-02-04/
LOCATION:Holy Trinity Episcopal Church OC\, 2998 Bay Ave\, Ocean City\, 08226\, United States
ATTACH;FMTTYPE=image/jpeg:https://capeatlanticaa.org/wp-content/uploads/2025/03/District-18-Monthly-Mtg-Flyer.1.jpeg
GEO:39.2587373;-74.609435
X-APPLE-STRUCTURED-LOCATION;VALUE=URI;X-ADDRESS=Holy Trinity Episcopal Church OC 2998 Bay Ave Ocean City 08226 United States;X-APPLE-RADIUS=500;X-TITLE=2998 Bay Ave:geo:-74.609435,39.2587373
END:VEVENT
BEGIN:VEVENT
DTSTART;TZID=America/New_York:20290204T190000
DTEND;TZID=America/New_York:20290204T210000
DTSTAMP:20260421T183014
CREATED:20251013T162911Z
LAST-MODIFIED:20260302T174149Z
UID:10002342-1864926000-1864933200@capeatlanticaa.org
SUMMARY:3rd Step Candlelight Group Monthly Fellowship Dinner
DESCRIPTION:
URL:https://capeatlanticaa.org/event/3rd-step-candlelight-group-monthly-fellowship-dinner/2029-02-04/
LOCATION:Applebees\, 700 Consumer Square\, Mays Landing\, NJ\, 08330\, United States
CATEGORIES:>Fellowship Events
ATTACH;FMTTYPE=image/jpeg:https://capeatlanticaa.org/wp-content/uploads/2026/03/IMG_4922.jpeg
GEO:39.4506644;-74.6364822
X-APPLE-STRUCTURED-LOCATION;VALUE=URI;X-ADDRESS=Applebees 700 Consumer Square Mays Landing NJ 08330 United States;X-APPLE-RADIUS=500;X-TITLE=700 Consumer Square:geo:-74.6364822,39.4506644
END:VEVENT
BEGIN:VEVENT
DTSTART;TZID=America/New_York:20290204T193000
DTEND;TZID=America/New_York:20290204T210000
DTSTAMP:20260421T183014
CREATED:20250414T223011Z
LAST-MODIFIED:20260304T201444Z
UID:10002556-1864927800-1864933200@capeatlanticaa.org
SUMMARY:Intergroup Business Meeting
DESCRIPTION:All members can attend the monthly Business Meeting for Intergroup\nMeeting is held monthly – 3rd Wednesday of the month. LEARN MORE \nIntergroup Reps (IGRs) from area Groups attend this meeting to hear the reports from the Intergroup Steering Panel and Committees. \nHybrid Meeting ID: 832 9623 3517   No PW \nCLICK TO JOIN MEETING
URL:https://capeatlanticaa.org/event/intergroup-business-meeting-2-2/2029-02-04/
LOCATION:CAIG Office\, 1418 New Rd\, Suite 4\, Northfield\, NJ\, 08225\, United States
CATEGORIES:>Service Meetings
GEO:39.389011;-74.567032
X-APPLE-STRUCTURED-LOCATION;VALUE=URI;X-ADDRESS=CAIG Office 1418 New Rd Suite 4 Northfield NJ 08225 United States;X-APPLE-RADIUS=500;X-TITLE=1418 New Rd\, Suite 4:geo:-74.567032,39.389011
END:VEVENT
BEGIN:VEVENT
DTSTART;TZID=America/New_York:20290207T193000
DTEND;TZID=America/New_York:20290207T203000
DTSTAMP:20260421T183014
CREATED:20260415T102728Z
LAST-MODIFIED:20260415T102728Z
UID:10002684-1865187000-1865190600@capeatlanticaa.org
SUMMARY:CAYPAA Event Planning Meetings
DESCRIPTION:
URL:https://capeatlanticaa.org/event/caypaa-event-planning-meetings/2029-02-07/
LOCATION:Intergroup Office\, New Road\, Northfield\, NJ\, 08225\, United States
CATEGORIES:>Service Meetings
ATTACH;FMTTYPE=image/jpeg:https://capeatlanticaa.org/wp-content/uploads/2026/04/IMG_5091.jpeg
GEO:39.3732308;-74.5547204
X-APPLE-STRUCTURED-LOCATION;VALUE=URI;X-ADDRESS=Intergroup Office New Road Northfield NJ 08225 United States;X-APPLE-RADIUS=500;X-TITLE=New Road:geo:-74.5547204,39.3732308
END:VEVENT
BEGIN:VEVENT
DTSTART;TZID=America/New_York:20290212T183000
DTEND;TZID=America/New_York:20290212T193000
DTSTAMP:20260421T183014
CREATED:20260120T021529Z
LAST-MODIFIED:20260120T021529Z
UID:10002492-1865615400-1865619000@capeatlanticaa.org
SUMMARY:Roundup Committee Hybrid Meeting
DESCRIPTION:Meeting ID: 812 7714 5161 Passcode: 417323  CLICK TO JOIN NOW
URL:https://capeatlanticaa.org/event/roundup-committee-hybrid-meeting/2029-02-12/
LOCATION:Intergroup Office\, New Road\, Northfield\, NJ\, 08225\, United States
GEO:39.3732308;-74.5547204
X-APPLE-STRUCTURED-LOCATION;VALUE=URI;X-ADDRESS=Intergroup Office New Road Northfield NJ 08225 United States;X-APPLE-RADIUS=500;X-TITLE=New Road:geo:-74.5547204,39.3732308
END:VEVENT
BEGIN:VEVENT
DTSTART;TZID=America/New_York:20290214T180000
DTEND;TZID=America/New_York:20290214T190000
DTSTAMP:20260421T183014
CREATED:20241107T020820Z
LAST-MODIFIED:20241107T020820Z
UID:10001143-1865786400-1865790000@capeatlanticaa.org
SUMMARY:District 15 Monthly Hybrid Meeting
DESCRIPTION:GOOGLE MEETING LINK      meet.google.com/rod-eiqn-its \n  \nFor more information call 609-467-8183
URL:https://capeatlanticaa.org/event/district-15-monthly-hybrid-meeting/2029-02-14/
LOCATION:Holy Spirit Episcopal Church\, 220 E. Main Street
ATTACH;FMTTYPE=image/png:https://capeatlanticaa.org/wp-content/uploads/2024/11/IMG_2646.png
END:VEVENT
BEGIN:VEVENT
DTSTART;TZID=America/New_York:20290214T193000
DTEND;TZID=America/New_York:20290214T210000
DTSTAMP:20260421T183014
CREATED:20250414T224052Z
LAST-MODIFIED:20250414T224052Z
UID:10001921-1865791800-1865797200@capeatlanticaa.org
SUMMARY:Intergroup Steering Meeting
DESCRIPTION:The 2nd Wednesday of the month\, at 7:30\n1418 New Rd\, Suite 4\, Northfield NJ 08225 \nMeeting ID 542 744 809   CLICK TO JOIN NOW
URL:https://capeatlanticaa.org/event/intergroup-steering-meeting/2029-02-14/
LOCATION:Intergroup Office\, New Road\, Northfield\, NJ\, 08225\, United States
GEO:39.3732308;-74.5547204
X-APPLE-STRUCTURED-LOCATION;VALUE=URI;X-ADDRESS=Intergroup Office New Road Northfield NJ 08225 United States;X-APPLE-RADIUS=500;X-TITLE=New Road:geo:-74.5547204,39.3732308
END:VEVENT
BEGIN:VEVENT
DTSTART;TZID=America/New_York:20290221T193000
DTEND;TZID=America/New_York:20290221T210000
DTSTAMP:20260421T183014
CREATED:20260305T004502Z
LAST-MODIFIED:20260305T005115Z
UID:10002614-1866396600-1866402000@capeatlanticaa.org
SUMMARY:Intergroup Business Meeting
DESCRIPTION:All members can attend the monthly Business Meeting for Intergroup Meeting is held monthly – 3rd Wednesday of the month. LEARN MORE \nIntergroup Reps (IGRs) from area Groups attend this meeting to hear the reports from the Intergroup Steering Panel and Committees. Hybrid Meeting ID: 83296233517   No PW   CLICK TO JOIN MEETING
URL:https://capeatlanticaa.org/event/intergroup-business-meeting-2-3/2029-02-21/
LOCATION:Intergroup Office\, New Road\, Northfield\, NJ\, 08225\, United States
GEO:39.3732308;-74.5547204
X-APPLE-STRUCTURED-LOCATION;VALUE=URI;X-ADDRESS=Intergroup Office New Road Northfield NJ 08225 United States;X-APPLE-RADIUS=500;X-TITLE=New Road:geo:-74.5547204,39.3732308
END:VEVENT
BEGIN:VEVENT
DTSTART;TZID=America/New_York:20290225T160000
DTEND;TZID=America/New_York:20290225T170000
DTSTAMP:20260421T183014
CREATED:20251104T004639Z
LAST-MODIFIED:20251111T021618Z
UID:10002406-1866729600-1866733200@capeatlanticaa.org
SUMMARY:District 19 Monthly Hybrid Meeting
DESCRIPTION:Meeting ID:  861 1052 1946 \nPassword:  GSR19
URL:https://capeatlanticaa.org/event/district-19-monthly-hybrid-meeting/2029-02-25/
LOCATION:The Twelve Step House\, West Oak Avenue\, Wildwood\, New Jersey\, 08260\, United States
GEO:38.9921249;-74.8162518
X-APPLE-STRUCTURED-LOCATION;VALUE=URI;X-ADDRESS=The Twelve Step House West Oak Avenue Wildwood New Jersey 08260 United States;X-APPLE-RADIUS=500;X-TITLE=West Oak Avenue:geo:-74.8162518,38.9921249
END:VEVENT
BEGIN:VEVENT
DTSTART;TZID=America/New_York:20290301T183000
DTEND;TZID=America/New_York:20290301T193000
DTSTAMP:20260421T183014
CREATED:20241001T013715Z
LAST-MODIFIED:20260110T102019Z
UID:10001554-1867084200-1867087800@capeatlanticaa.org
SUMMARY:District 16 & 17 Monthly Meeting
DESCRIPTION:https://us05web.zoom.us/j/83348991388?pwd=jvkVrZe1DOyZEh2zgxQWQ2HqAMelak.1 \nZoom ID : 833 4899 1388 \nPassword : Area45
URL:https://capeatlanticaa.org/event/district-16-17-monthly-meeting/2029-03-01/
LOCATION:Intergroup Office\, New Road\, Northfield\, NJ\, 08225\, United States
GEO:39.3732308;-74.5547204
X-APPLE-STRUCTURED-LOCATION;VALUE=URI;X-ADDRESS=Intergroup Office New Road Northfield NJ 08225 United States;X-APPLE-RADIUS=500;X-TITLE=New Road:geo:-74.5547204,39.3732308
END:VEVENT
BEGIN:VEVENT
DTSTART;TZID=America/New_York:20290304T183000
DTEND;TZID=America/New_York:20290304T193000
DTSTAMP:20260421T183014
CREATED:20250305T191010Z
LAST-MODIFIED:20250305T191010Z
UID:10001472-1867343400-1867347000@capeatlanticaa.org
SUMMARY:District 18 Monthly Meeting
DESCRIPTION:
URL:https://capeatlanticaa.org/event/district-18-monthly-meeting/2029-03-04/
LOCATION:Holy Trinity Episcopal Church OC\, 2998 Bay Ave\, Ocean City\, 08226\, United States
ATTACH;FMTTYPE=image/jpeg:https://capeatlanticaa.org/wp-content/uploads/2025/03/District-18-Monthly-Mtg-Flyer.1.jpeg
GEO:39.2587373;-74.609435
X-APPLE-STRUCTURED-LOCATION;VALUE=URI;X-ADDRESS=Holy Trinity Episcopal Church OC 2998 Bay Ave Ocean City 08226 United States;X-APPLE-RADIUS=500;X-TITLE=2998 Bay Ave:geo:-74.609435,39.2587373
END:VEVENT
END:VCALENDAR