BEGIN:VCALENDAR
VERSION:2.0
PRODID:-//Cape Atlantic Intergroup - ECPv6.15.20//NONSGML v1.0//EN
CALSCALE:GREGORIAN
METHOD:PUBLISH
X-WR-CALNAME:Cape Atlantic Intergroup
X-ORIGINAL-URL:https://capeatlanticaa.org
X-WR-CALDESC:Events for Cape Atlantic Intergroup
REFRESH-INTERVAL;VALUE=DURATION:PT1H
X-Robots-Tag:noindex
X-PUBLISHED-TTL:PT1H
BEGIN:VTIMEZONE
TZID:America/New_York
BEGIN:DAYLIGHT
TZOFFSETFROM:-0500
TZOFFSETTO:-0400
TZNAME:EDT
DTSTART:20290311T070000
END:DAYLIGHT
BEGIN:STANDARD
TZOFFSETFROM:-0400
TZOFFSETTO:-0500
TZNAME:EST
DTSTART:20291104T060000
END:STANDARD
BEGIN:DAYLIGHT
TZOFFSETFROM:-0500
TZOFFSETTO:-0400
TZNAME:EDT
DTSTART:20300310T070000
END:DAYLIGHT
BEGIN:STANDARD
TZOFFSETFROM:-0400
TZOFFSETTO:-0500
TZNAME:EST
DTSTART:20301103T060000
END:STANDARD
BEGIN:DAYLIGHT
TZOFFSETFROM:-0500
TZOFFSETTO:-0400
TZNAME:EDT
DTSTART:20310309T070000
END:DAYLIGHT
BEGIN:STANDARD
TZOFFSETFROM:-0400
TZOFFSETTO:-0500
TZNAME:EST
DTSTART:20311102T060000
END:STANDARD
END:VTIMEZONE
BEGIN:VEVENT
DTSTART;TZID=America/New_York:20300807T193000
DTEND;TZID=America/New_York:20300807T203000
DTSTAMP:20260422T175525
CREATED:20260415T102728Z
LAST-MODIFIED:20260415T102728Z
UID:10002702-1912361400-1912365000@capeatlanticaa.org
SUMMARY:CAYPAA Event Planning Meetings
DESCRIPTION:
URL:https://capeatlanticaa.org/event/caypaa-event-planning-meetings/2030-08-07/
LOCATION:Intergroup Office\, New Road\, Northfield\, NJ\, 08225\, United States
CATEGORIES:>Service Meetings
ATTACH;FMTTYPE=image/jpeg:https://capeatlanticaa.org/wp-content/uploads/2026/04/IMG_5091.jpeg
GEO:39.3732308;-74.5547204
X-APPLE-STRUCTURED-LOCATION;VALUE=URI;X-ADDRESS=Intergroup Office New Road Northfield NJ 08225 United States;X-APPLE-RADIUS=500;X-TITLE=New Road:geo:-74.5547204,39.3732308
END:VEVENT
BEGIN:VEVENT
DTSTART;TZID=America/New_York:20300812T183000
DTEND;TZID=America/New_York:20300812T193000
DTSTAMP:20260422T175525
CREATED:20260120T021529Z
LAST-MODIFIED:20260120T021529Z
UID:10002510-1912789800-1912793400@capeatlanticaa.org
SUMMARY:Roundup Committee Hybrid Meeting
DESCRIPTION:Meeting ID: 812 7714 5161 Passcode: 417323  CLICK TO JOIN NOW
URL:https://capeatlanticaa.org/event/roundup-committee-hybrid-meeting/2030-08-12/
LOCATION:Intergroup Office\, New Road\, Northfield\, NJ\, 08225\, United States
GEO:39.3732308;-74.5547204
X-APPLE-STRUCTURED-LOCATION;VALUE=URI;X-ADDRESS=Intergroup Office New Road Northfield NJ 08225 United States;X-APPLE-RADIUS=500;X-TITLE=New Road:geo:-74.5547204,39.3732308
END:VEVENT
BEGIN:VEVENT
DTSTART;TZID=America/New_York:20300821T193000
DTEND;TZID=America/New_York:20300821T210000
DTSTAMP:20260422T175525
CREATED:20260305T004502Z
LAST-MODIFIED:20260305T005115Z
UID:10002632-1913571000-1913576400@capeatlanticaa.org
SUMMARY:Intergroup Business Meeting
DESCRIPTION:All members can attend the monthly Business Meeting for Intergroup Meeting is held monthly – 3rd Wednesday of the month. LEARN MORE \nIntergroup Reps (IGRs) from area Groups attend this meeting to hear the reports from the Intergroup Steering Panel and Committees. Hybrid Meeting ID: 83296233517   No PW   CLICK TO JOIN MEETING
URL:https://capeatlanticaa.org/event/intergroup-business-meeting-2-3/2030-08-21/
LOCATION:Intergroup Office\, New Road\, Northfield\, NJ\, 08225\, United States
GEO:39.3732308;-74.5547204
X-APPLE-STRUCTURED-LOCATION;VALUE=URI;X-ADDRESS=Intergroup Office New Road Northfield NJ 08225 United States;X-APPLE-RADIUS=500;X-TITLE=New Road:geo:-74.5547204,39.3732308
END:VEVENT
BEGIN:VEVENT
DTSTART;TZID=America/New_York:20300825T160000
DTEND;TZID=America/New_York:20300825T170000
DTSTAMP:20260422T175525
CREATED:20251104T004639Z
LAST-MODIFIED:20251111T021618Z
UID:10002424-1913904000-1913907600@capeatlanticaa.org
SUMMARY:District 19 Monthly Hybrid Meeting
DESCRIPTION:Meeting ID:  861 1052 1946 \nPassword:  GSR19
URL:https://capeatlanticaa.org/event/district-19-monthly-hybrid-meeting/2030-08-25/
LOCATION:The Twelve Step House\, West Oak Avenue\, Wildwood\, New Jersey\, 08260\, United States
GEO:38.9921249;-74.8162518
X-APPLE-STRUCTURED-LOCATION;VALUE=URI;X-ADDRESS=The Twelve Step House West Oak Avenue Wildwood New Jersey 08260 United States;X-APPLE-RADIUS=500;X-TITLE=West Oak Avenue:geo:-74.8162518,38.9921249
END:VEVENT
BEGIN:VEVENT
DTSTART;TZID=America/New_York:20300901T190000
DTEND;TZID=America/New_York:20300901T210000
DTSTAMP:20260422T175525
CREATED:20251013T162911Z
LAST-MODIFIED:20260302T174149Z
UID:10002361-1914519600-1914526800@capeatlanticaa.org
SUMMARY:3rd Step Candlelight Group Monthly Fellowship Dinner
DESCRIPTION:
URL:https://capeatlanticaa.org/event/3rd-step-candlelight-group-monthly-fellowship-dinner/2030-09-01/
LOCATION:Applebees\, 700 Consumer Square\, Mays Landing\, NJ\, 08330\, United States
CATEGORIES:>Fellowship Events
ATTACH;FMTTYPE=image/jpeg:https://capeatlanticaa.org/wp-content/uploads/2026/03/IMG_4922.jpeg
GEO:39.4506644;-74.6364822
X-APPLE-STRUCTURED-LOCATION;VALUE=URI;X-ADDRESS=Applebees 700 Consumer Square Mays Landing NJ 08330 United States;X-APPLE-RADIUS=500;X-TITLE=700 Consumer Square:geo:-74.6364822,39.4506644
END:VEVENT
BEGIN:VEVENT
DTSTART;TZID=America/New_York:20300904T193000
DTEND;TZID=America/New_York:20300904T203000
DTSTAMP:20260422T175525
CREATED:20260415T102728Z
LAST-MODIFIED:20260415T102728Z
UID:10002703-1914780600-1914784200@capeatlanticaa.org
SUMMARY:CAYPAA Event Planning Meetings
DESCRIPTION:
URL:https://capeatlanticaa.org/event/caypaa-event-planning-meetings/2030-09-04/
LOCATION:Intergroup Office\, New Road\, Northfield\, NJ\, 08225\, United States
CATEGORIES:>Service Meetings
ATTACH;FMTTYPE=image/jpeg:https://capeatlanticaa.org/wp-content/uploads/2026/04/IMG_5091.jpeg
GEO:39.3732308;-74.5547204
X-APPLE-STRUCTURED-LOCATION;VALUE=URI;X-ADDRESS=Intergroup Office New Road Northfield NJ 08225 United States;X-APPLE-RADIUS=500;X-TITLE=New Road:geo:-74.5547204,39.3732308
END:VEVENT
BEGIN:VEVENT
DTSTART;TZID=America/New_York:20300904T193000
DTEND;TZID=America/New_York:20300904T210000
DTSTAMP:20260422T175525
CREATED:20250414T223011Z
LAST-MODIFIED:20260304T201444Z
UID:10002572-1914780600-1914786000@capeatlanticaa.org
SUMMARY:Intergroup Business Meeting
DESCRIPTION:All members can attend the monthly Business Meeting for Intergroup\nMeeting is held monthly – 3rd Wednesday of the month. LEARN MORE \nIntergroup Reps (IGRs) from area Groups attend this meeting to hear the reports from the Intergroup Steering Panel and Committees. \nHybrid Meeting ID: 832 9623 3517   No PW \nCLICK TO JOIN MEETING
URL:https://capeatlanticaa.org/event/intergroup-business-meeting-2-2/2030-09-04/
LOCATION:CAIG Office\, 1418 New Rd\, Suite 4\, Northfield\, NJ\, 08225\, United States
CATEGORIES:>Service Meetings
GEO:39.389011;-74.567032
X-APPLE-STRUCTURED-LOCATION;VALUE=URI;X-ADDRESS=CAIG Office 1418 New Rd Suite 4 Northfield NJ 08225 United States;X-APPLE-RADIUS=500;X-TITLE=1418 New Rd\, Suite 4:geo:-74.567032,39.389011
END:VEVENT
BEGIN:VEVENT
DTSTART;TZID=America/New_York:20300905T183000
DTEND;TZID=America/New_York:20300905T193000
DTSTAMP:20260422T175525
CREATED:20241001T013715Z
LAST-MODIFIED:20260110T102019Z
UID:10002437-1914863400-1914867000@capeatlanticaa.org
SUMMARY:District 16 & 17 Monthly Meeting
DESCRIPTION:https://us05web.zoom.us/j/83348991388?pwd=jvkVrZe1DOyZEh2zgxQWQ2HqAMelak.1 \nZoom ID : 833 4899 1388 \nPassword : Area45
URL:https://capeatlanticaa.org/event/district-16-17-monthly-meeting/2030-09-05/
LOCATION:Intergroup Office\, New Road\, Northfield\, NJ\, 08225\, United States
GEO:39.3732308;-74.5547204
X-APPLE-STRUCTURED-LOCATION;VALUE=URI;X-ADDRESS=Intergroup Office New Road Northfield NJ 08225 United States;X-APPLE-RADIUS=500;X-TITLE=New Road:geo:-74.5547204,39.3732308
END:VEVENT
BEGIN:VEVENT
DTSTART;TZID=America/New_York:20300909T183000
DTEND;TZID=America/New_York:20300909T193000
DTSTAMP:20260422T175525
CREATED:20260120T021529Z
LAST-MODIFIED:20260120T021529Z
UID:10002511-1915209000-1915212600@capeatlanticaa.org
SUMMARY:Roundup Committee Hybrid Meeting
DESCRIPTION:Meeting ID: 812 7714 5161 Passcode: 417323  CLICK TO JOIN NOW
URL:https://capeatlanticaa.org/event/roundup-committee-hybrid-meeting/2030-09-09/
LOCATION:Intergroup Office\, New Road\, Northfield\, NJ\, 08225\, United States
GEO:39.3732308;-74.5547204
X-APPLE-STRUCTURED-LOCATION;VALUE=URI;X-ADDRESS=Intergroup Office New Road Northfield NJ 08225 United States;X-APPLE-RADIUS=500;X-TITLE=New Road:geo:-74.5547204,39.3732308
END:VEVENT
BEGIN:VEVENT
DTSTART;TZID=America/New_York:20300918T193000
DTEND;TZID=America/New_York:20300918T210000
DTSTAMP:20260422T175525
CREATED:20260305T004502Z
LAST-MODIFIED:20260305T005115Z
UID:10002633-1915990200-1915995600@capeatlanticaa.org
SUMMARY:Intergroup Business Meeting
DESCRIPTION:All members can attend the monthly Business Meeting for Intergroup Meeting is held monthly – 3rd Wednesday of the month. LEARN MORE \nIntergroup Reps (IGRs) from area Groups attend this meeting to hear the reports from the Intergroup Steering Panel and Committees. Hybrid Meeting ID: 83296233517   No PW   CLICK TO JOIN MEETING
URL:https://capeatlanticaa.org/event/intergroup-business-meeting-2-3/2030-09-18/
LOCATION:Intergroup Office\, New Road\, Northfield\, NJ\, 08225\, United States
GEO:39.3732308;-74.5547204
X-APPLE-STRUCTURED-LOCATION;VALUE=URI;X-ADDRESS=Intergroup Office New Road Northfield NJ 08225 United States;X-APPLE-RADIUS=500;X-TITLE=New Road:geo:-74.5547204,39.3732308
END:VEVENT
BEGIN:VEVENT
DTSTART;TZID=America/New_York:20300929T160000
DTEND;TZID=America/New_York:20300929T170000
DTSTAMP:20260422T175525
CREATED:20251104T004639Z
LAST-MODIFIED:20251111T021618Z
UID:10002425-1916928000-1916931600@capeatlanticaa.org
SUMMARY:District 19 Monthly Hybrid Meeting
DESCRIPTION:Meeting ID:  861 1052 1946 \nPassword:  GSR19
URL:https://capeatlanticaa.org/event/district-19-monthly-hybrid-meeting/2030-09-29/
LOCATION:The Twelve Step House\, West Oak Avenue\, Wildwood\, New Jersey\, 08260\, United States
GEO:38.9921249;-74.8162518
X-APPLE-STRUCTURED-LOCATION;VALUE=URI;X-ADDRESS=The Twelve Step House West Oak Avenue Wildwood New Jersey 08260 United States;X-APPLE-RADIUS=500;X-TITLE=West Oak Avenue:geo:-74.8162518,38.9921249
END:VEVENT
BEGIN:VEVENT
DTSTART;TZID=America/New_York:20301002T193000
DTEND;TZID=America/New_York:20301002T203000
DTSTAMP:20260422T175525
CREATED:20260415T102728Z
LAST-MODIFIED:20260415T102728Z
UID:10002704-1917199800-1917203400@capeatlanticaa.org
SUMMARY:CAYPAA Event Planning Meetings
DESCRIPTION:
URL:https://capeatlanticaa.org/event/caypaa-event-planning-meetings/2030-10-02/
LOCATION:Intergroup Office\, New Road\, Northfield\, NJ\, 08225\, United States
CATEGORIES:>Service Meetings
ATTACH;FMTTYPE=image/jpeg:https://capeatlanticaa.org/wp-content/uploads/2026/04/IMG_5091.jpeg
GEO:39.3732308;-74.5547204
X-APPLE-STRUCTURED-LOCATION;VALUE=URI;X-ADDRESS=Intergroup Office New Road Northfield NJ 08225 United States;X-APPLE-RADIUS=500;X-TITLE=New Road:geo:-74.5547204,39.3732308
END:VEVENT
BEGIN:VEVENT
DTSTART;TZID=America/New_York:20301003T183000
DTEND;TZID=America/New_York:20301003T193000
DTSTAMP:20260422T175525
CREATED:20241001T013715Z
LAST-MODIFIED:20260110T102019Z
UID:10002438-1917282600-1917286200@capeatlanticaa.org
SUMMARY:District 16 & 17 Monthly Meeting
DESCRIPTION:https://us05web.zoom.us/j/83348991388?pwd=jvkVrZe1DOyZEh2zgxQWQ2HqAMelak.1 \nZoom ID : 833 4899 1388 \nPassword : Area45
URL:https://capeatlanticaa.org/event/district-16-17-monthly-meeting/2030-10-03/
LOCATION:Intergroup Office\, New Road\, Northfield\, NJ\, 08225\, United States
GEO:39.3732308;-74.5547204
X-APPLE-STRUCTURED-LOCATION;VALUE=URI;X-ADDRESS=Intergroup Office New Road Northfield NJ 08225 United States;X-APPLE-RADIUS=500;X-TITLE=New Road:geo:-74.5547204,39.3732308
END:VEVENT
BEGIN:VEVENT
DTSTART;TZID=America/New_York:20301004T193000
DTEND;TZID=America/New_York:20301004T210000
DTSTAMP:20260422T175525
CREATED:20250414T223011Z
LAST-MODIFIED:20260304T201444Z
UID:10002573-1917372600-1917378000@capeatlanticaa.org
SUMMARY:Intergroup Business Meeting
DESCRIPTION:All members can attend the monthly Business Meeting for Intergroup\nMeeting is held monthly – 3rd Wednesday of the month. LEARN MORE \nIntergroup Reps (IGRs) from area Groups attend this meeting to hear the reports from the Intergroup Steering Panel and Committees. \nHybrid Meeting ID: 832 9623 3517   No PW \nCLICK TO JOIN MEETING
URL:https://capeatlanticaa.org/event/intergroup-business-meeting-2-2/2030-10-04/
LOCATION:CAIG Office\, 1418 New Rd\, Suite 4\, Northfield\, NJ\, 08225\, United States
CATEGORIES:>Service Meetings
GEO:39.389011;-74.567032
X-APPLE-STRUCTURED-LOCATION;VALUE=URI;X-ADDRESS=CAIG Office 1418 New Rd Suite 4 Northfield NJ 08225 United States;X-APPLE-RADIUS=500;X-TITLE=1418 New Rd\, Suite 4:geo:-74.567032,39.389011
END:VEVENT
BEGIN:VEVENT
DTSTART;TZID=America/New_York:20301006T190000
DTEND;TZID=America/New_York:20301006T210000
DTSTAMP:20260422T175525
CREATED:20251013T162911Z
LAST-MODIFIED:20260302T174149Z
UID:10002362-1917543600-1917550800@capeatlanticaa.org
SUMMARY:3rd Step Candlelight Group Monthly Fellowship Dinner
DESCRIPTION:
URL:https://capeatlanticaa.org/event/3rd-step-candlelight-group-monthly-fellowship-dinner/2030-10-06/
LOCATION:Applebees\, 700 Consumer Square\, Mays Landing\, NJ\, 08330\, United States
CATEGORIES:>Fellowship Events
ATTACH;FMTTYPE=image/jpeg:https://capeatlanticaa.org/wp-content/uploads/2026/03/IMG_4922.jpeg
GEO:39.4506644;-74.6364822
X-APPLE-STRUCTURED-LOCATION;VALUE=URI;X-ADDRESS=Applebees 700 Consumer Square Mays Landing NJ 08330 United States;X-APPLE-RADIUS=500;X-TITLE=700 Consumer Square:geo:-74.6364822,39.4506644
END:VEVENT
BEGIN:VEVENT
DTSTART;TZID=America/New_York:20301014T183000
DTEND;TZID=America/New_York:20301014T193000
DTSTAMP:20260422T175525
CREATED:20260120T021529Z
LAST-MODIFIED:20260120T021529Z
UID:10002512-1918233000-1918236600@capeatlanticaa.org
SUMMARY:Roundup Committee Hybrid Meeting
DESCRIPTION:Meeting ID: 812 7714 5161 Passcode: 417323  CLICK TO JOIN NOW
URL:https://capeatlanticaa.org/event/roundup-committee-hybrid-meeting/2030-10-14/
LOCATION:Intergroup Office\, New Road\, Northfield\, NJ\, 08225\, United States
GEO:39.3732308;-74.5547204
X-APPLE-STRUCTURED-LOCATION;VALUE=URI;X-ADDRESS=Intergroup Office New Road Northfield NJ 08225 United States;X-APPLE-RADIUS=500;X-TITLE=New Road:geo:-74.5547204,39.3732308
END:VEVENT
BEGIN:VEVENT
DTSTART;TZID=America/New_York:20301016T193000
DTEND;TZID=America/New_York:20301016T210000
DTSTAMP:20260422T175525
CREATED:20260305T004502Z
LAST-MODIFIED:20260305T005115Z
UID:10002634-1918409400-1918414800@capeatlanticaa.org
SUMMARY:Intergroup Business Meeting
DESCRIPTION:All members can attend the monthly Business Meeting for Intergroup Meeting is held monthly – 3rd Wednesday of the month. LEARN MORE \nIntergroup Reps (IGRs) from area Groups attend this meeting to hear the reports from the Intergroup Steering Panel and Committees. Hybrid Meeting ID: 83296233517   No PW   CLICK TO JOIN MEETING
URL:https://capeatlanticaa.org/event/intergroup-business-meeting-2-3/2030-10-16/
LOCATION:Intergroup Office\, New Road\, Northfield\, NJ\, 08225\, United States
GEO:39.3732308;-74.5547204
X-APPLE-STRUCTURED-LOCATION;VALUE=URI;X-ADDRESS=Intergroup Office New Road Northfield NJ 08225 United States;X-APPLE-RADIUS=500;X-TITLE=New Road:geo:-74.5547204,39.3732308
END:VEVENT
BEGIN:VEVENT
DTSTART;TZID=America/New_York:20301027T160000
DTEND;TZID=America/New_York:20301027T170000
DTSTAMP:20260422T175525
CREATED:20251104T004639Z
LAST-MODIFIED:20251111T021618Z
UID:10002426-1919347200-1919350800@capeatlanticaa.org
SUMMARY:District 19 Monthly Hybrid Meeting
DESCRIPTION:Meeting ID:  861 1052 1946 \nPassword:  GSR19
URL:https://capeatlanticaa.org/event/district-19-monthly-hybrid-meeting/2030-10-27/
LOCATION:The Twelve Step House\, West Oak Avenue\, Wildwood\, New Jersey\, 08260\, United States
GEO:38.9921249;-74.8162518
X-APPLE-STRUCTURED-LOCATION;VALUE=URI;X-ADDRESS=The Twelve Step House West Oak Avenue Wildwood New Jersey 08260 United States;X-APPLE-RADIUS=500;X-TITLE=West Oak Avenue:geo:-74.8162518,38.9921249
END:VEVENT
BEGIN:VEVENT
DTSTART;TZID=America/New_York:20301103T190000
DTEND;TZID=America/New_York:20301103T210000
DTSTAMP:20260422T175525
CREATED:20251013T162911Z
LAST-MODIFIED:20260302T174149Z
UID:10002529-1919962800-1919970000@capeatlanticaa.org
SUMMARY:3rd Step Candlelight Group Monthly Fellowship Dinner
DESCRIPTION:
URL:https://capeatlanticaa.org/event/3rd-step-candlelight-group-monthly-fellowship-dinner/2030-11-03/
LOCATION:Applebees\, 700 Consumer Square\, Mays Landing\, NJ\, 08330\, United States
CATEGORIES:>Fellowship Events
ATTACH;FMTTYPE=image/jpeg:https://capeatlanticaa.org/wp-content/uploads/2026/03/IMG_4922.jpeg
GEO:39.4506644;-74.6364822
X-APPLE-STRUCTURED-LOCATION;VALUE=URI;X-ADDRESS=Applebees 700 Consumer Square Mays Landing NJ 08330 United States;X-APPLE-RADIUS=500;X-TITLE=700 Consumer Square:geo:-74.6364822,39.4506644
END:VEVENT
BEGIN:VEVENT
DTSTART;TZID=America/New_York:20301104T193000
DTEND;TZID=America/New_York:20301104T210000
DTSTAMP:20260422T175525
CREATED:20250414T223011Z
LAST-MODIFIED:20260304T201444Z
UID:10002574-1920051000-1920056400@capeatlanticaa.org
SUMMARY:Intergroup Business Meeting
DESCRIPTION:All members can attend the monthly Business Meeting for Intergroup\nMeeting is held monthly – 3rd Wednesday of the month. LEARN MORE \nIntergroup Reps (IGRs) from area Groups attend this meeting to hear the reports from the Intergroup Steering Panel and Committees. \nHybrid Meeting ID: 832 9623 3517   No PW \nCLICK TO JOIN MEETING
URL:https://capeatlanticaa.org/event/intergroup-business-meeting-2-2/2030-11-04/
LOCATION:CAIG Office\, 1418 New Rd\, Suite 4\, Northfield\, NJ\, 08225\, United States
CATEGORIES:>Service Meetings
GEO:39.389011;-74.567032
X-APPLE-STRUCTURED-LOCATION;VALUE=URI;X-ADDRESS=CAIG Office 1418 New Rd Suite 4 Northfield NJ 08225 United States;X-APPLE-RADIUS=500;X-TITLE=1418 New Rd\, Suite 4:geo:-74.567032,39.389011
END:VEVENT
BEGIN:VEVENT
DTSTART;TZID=America/New_York:20301106T193000
DTEND;TZID=America/New_York:20301106T203000
DTSTAMP:20260422T175525
CREATED:20260415T102728Z
LAST-MODIFIED:20260415T102728Z
UID:10002705-1920223800-1920227400@capeatlanticaa.org
SUMMARY:CAYPAA Event Planning Meetings
DESCRIPTION:
URL:https://capeatlanticaa.org/event/caypaa-event-planning-meetings/2030-11-06/
LOCATION:Intergroup Office\, New Road\, Northfield\, NJ\, 08225\, United States
CATEGORIES:>Service Meetings
ATTACH;FMTTYPE=image/jpeg:https://capeatlanticaa.org/wp-content/uploads/2026/04/IMG_5091.jpeg
GEO:39.3732308;-74.5547204
X-APPLE-STRUCTURED-LOCATION;VALUE=URI;X-ADDRESS=Intergroup Office New Road Northfield NJ 08225 United States;X-APPLE-RADIUS=500;X-TITLE=New Road:geo:-74.5547204,39.3732308
END:VEVENT
BEGIN:VEVENT
DTSTART;TZID=America/New_York:20301107T183000
DTEND;TZID=America/New_York:20301107T193000
DTSTAMP:20260422T175525
CREATED:20241001T013715Z
LAST-MODIFIED:20260110T102019Z
UID:10002439-1920306600-1920310200@capeatlanticaa.org
SUMMARY:District 16 & 17 Monthly Meeting
DESCRIPTION:https://us05web.zoom.us/j/83348991388?pwd=jvkVrZe1DOyZEh2zgxQWQ2HqAMelak.1 \nZoom ID : 833 4899 1388 \nPassword : Area45
URL:https://capeatlanticaa.org/event/district-16-17-monthly-meeting/2030-11-07/
LOCATION:Intergroup Office\, New Road\, Northfield\, NJ\, 08225\, United States
GEO:39.3732308;-74.5547204
X-APPLE-STRUCTURED-LOCATION;VALUE=URI;X-ADDRESS=Intergroup Office New Road Northfield NJ 08225 United States;X-APPLE-RADIUS=500;X-TITLE=New Road:geo:-74.5547204,39.3732308
END:VEVENT
BEGIN:VEVENT
DTSTART;TZID=America/New_York:20301111T183000
DTEND;TZID=America/New_York:20301111T193000
DTSTAMP:20260422T175525
CREATED:20260120T021529Z
LAST-MODIFIED:20260120T021529Z
UID:10002513-1920652200-1920655800@capeatlanticaa.org
SUMMARY:Roundup Committee Hybrid Meeting
DESCRIPTION:Meeting ID: 812 7714 5161 Passcode: 417323  CLICK TO JOIN NOW
URL:https://capeatlanticaa.org/event/roundup-committee-hybrid-meeting/2030-11-11/
LOCATION:Intergroup Office\, New Road\, Northfield\, NJ\, 08225\, United States
GEO:39.3732308;-74.5547204
X-APPLE-STRUCTURED-LOCATION;VALUE=URI;X-ADDRESS=Intergroup Office New Road Northfield NJ 08225 United States;X-APPLE-RADIUS=500;X-TITLE=New Road:geo:-74.5547204,39.3732308
END:VEVENT
BEGIN:VEVENT
DTSTART;TZID=America/New_York:20301120T193000
DTEND;TZID=America/New_York:20301120T210000
DTSTAMP:20260422T175525
CREATED:20260305T004502Z
LAST-MODIFIED:20260305T005115Z
UID:10002635-1921433400-1921438800@capeatlanticaa.org
SUMMARY:Intergroup Business Meeting
DESCRIPTION:All members can attend the monthly Business Meeting for Intergroup Meeting is held monthly – 3rd Wednesday of the month. LEARN MORE \nIntergroup Reps (IGRs) from area Groups attend this meeting to hear the reports from the Intergroup Steering Panel and Committees. Hybrid Meeting ID: 83296233517   No PW   CLICK TO JOIN MEETING
URL:https://capeatlanticaa.org/event/intergroup-business-meeting-2-3/2030-11-20/
LOCATION:Intergroup Office\, New Road\, Northfield\, NJ\, 08225\, United States
GEO:39.3732308;-74.5547204
X-APPLE-STRUCTURED-LOCATION;VALUE=URI;X-ADDRESS=Intergroup Office New Road Northfield NJ 08225 United States;X-APPLE-RADIUS=500;X-TITLE=New Road:geo:-74.5547204,39.3732308
END:VEVENT
BEGIN:VEVENT
DTSTART;TZID=America/New_York:20301201T190000
DTEND;TZID=America/New_York:20301201T210000
DTSTAMP:20260422T175525
CREATED:20251013T162911Z
LAST-MODIFIED:20260302T174149Z
UID:10002530-1922382000-1922389200@capeatlanticaa.org
SUMMARY:3rd Step Candlelight Group Monthly Fellowship Dinner
DESCRIPTION:
URL:https://capeatlanticaa.org/event/3rd-step-candlelight-group-monthly-fellowship-dinner/2030-12-01/
LOCATION:Applebees\, 700 Consumer Square\, Mays Landing\, NJ\, 08330\, United States
CATEGORIES:>Fellowship Events
ATTACH;FMTTYPE=image/jpeg:https://capeatlanticaa.org/wp-content/uploads/2026/03/IMG_4922.jpeg
GEO:39.4506644;-74.6364822
X-APPLE-STRUCTURED-LOCATION;VALUE=URI;X-ADDRESS=Applebees 700 Consumer Square Mays Landing NJ 08330 United States;X-APPLE-RADIUS=500;X-TITLE=700 Consumer Square:geo:-74.6364822,39.4506644
END:VEVENT
BEGIN:VEVENT
DTSTART;TZID=America/New_York:20301204T193000
DTEND;TZID=America/New_York:20301204T203000
DTSTAMP:20260422T175525
CREATED:20260415T102728Z
LAST-MODIFIED:20260415T102728Z
UID:10002706-1922643000-1922646600@capeatlanticaa.org
SUMMARY:CAYPAA Event Planning Meetings
DESCRIPTION:
URL:https://capeatlanticaa.org/event/caypaa-event-planning-meetings/2030-12-04/
LOCATION:Intergroup Office\, New Road\, Northfield\, NJ\, 08225\, United States
CATEGORIES:>Service Meetings
ATTACH;FMTTYPE=image/jpeg:https://capeatlanticaa.org/wp-content/uploads/2026/04/IMG_5091.jpeg
GEO:39.3732308;-74.5547204
X-APPLE-STRUCTURED-LOCATION;VALUE=URI;X-ADDRESS=Intergroup Office New Road Northfield NJ 08225 United States;X-APPLE-RADIUS=500;X-TITLE=New Road:geo:-74.5547204,39.3732308
END:VEVENT
BEGIN:VEVENT
DTSTART;TZID=America/New_York:20301204T193000
DTEND;TZID=America/New_York:20301204T210000
DTSTAMP:20260422T175525
CREATED:20250414T223011Z
LAST-MODIFIED:20260304T201444Z
UID:10002575-1922643000-1922648400@capeatlanticaa.org
SUMMARY:Intergroup Business Meeting
DESCRIPTION:All members can attend the monthly Business Meeting for Intergroup\nMeeting is held monthly – 3rd Wednesday of the month. LEARN MORE \nIntergroup Reps (IGRs) from area Groups attend this meeting to hear the reports from the Intergroup Steering Panel and Committees. \nHybrid Meeting ID: 832 9623 3517   No PW \nCLICK TO JOIN MEETING
URL:https://capeatlanticaa.org/event/intergroup-business-meeting-2-2/2030-12-04/
LOCATION:CAIG Office\, 1418 New Rd\, Suite 4\, Northfield\, NJ\, 08225\, United States
CATEGORIES:>Service Meetings
GEO:39.389011;-74.567032
X-APPLE-STRUCTURED-LOCATION;VALUE=URI;X-ADDRESS=CAIG Office 1418 New Rd Suite 4 Northfield NJ 08225 United States;X-APPLE-RADIUS=500;X-TITLE=1418 New Rd\, Suite 4:geo:-74.567032,39.389011
END:VEVENT
BEGIN:VEVENT
DTSTART;TZID=America/New_York:20301205T183000
DTEND;TZID=America/New_York:20301205T193000
DTSTAMP:20260422T175525
CREATED:20241001T013715Z
LAST-MODIFIED:20260110T102019Z
UID:10002440-1922725800-1922729400@capeatlanticaa.org
SUMMARY:District 16 & 17 Monthly Meeting
DESCRIPTION:https://us05web.zoom.us/j/83348991388?pwd=jvkVrZe1DOyZEh2zgxQWQ2HqAMelak.1 \nZoom ID : 833 4899 1388 \nPassword : Area45
URL:https://capeatlanticaa.org/event/district-16-17-monthly-meeting/2030-12-05/
LOCATION:Intergroup Office\, New Road\, Northfield\, NJ\, 08225\, United States
GEO:39.3732308;-74.5547204
X-APPLE-STRUCTURED-LOCATION;VALUE=URI;X-ADDRESS=Intergroup Office New Road Northfield NJ 08225 United States;X-APPLE-RADIUS=500;X-TITLE=New Road:geo:-74.5547204,39.3732308
END:VEVENT
BEGIN:VEVENT
DTSTART;TZID=America/New_York:20301209T183000
DTEND;TZID=America/New_York:20301209T193000
DTSTAMP:20260422T175525
CREATED:20260120T021529Z
LAST-MODIFIED:20260120T021529Z
UID:10002514-1923071400-1923075000@capeatlanticaa.org
SUMMARY:Roundup Committee Hybrid Meeting
DESCRIPTION:Meeting ID: 812 7714 5161 Passcode: 417323  CLICK TO JOIN NOW
URL:https://capeatlanticaa.org/event/roundup-committee-hybrid-meeting/2030-12-09/
LOCATION:Intergroup Office\, New Road\, Northfield\, NJ\, 08225\, United States
GEO:39.3732308;-74.5547204
X-APPLE-STRUCTURED-LOCATION;VALUE=URI;X-ADDRESS=Intergroup Office New Road Northfield NJ 08225 United States;X-APPLE-RADIUS=500;X-TITLE=New Road:geo:-74.5547204,39.3732308
END:VEVENT
BEGIN:VEVENT
DTSTART;TZID=America/New_York:20301218T193000
DTEND;TZID=America/New_York:20301218T210000
DTSTAMP:20260422T175525
CREATED:20260305T004502Z
LAST-MODIFIED:20260305T005115Z
UID:10002636-1923852600-1923858000@capeatlanticaa.org
SUMMARY:Intergroup Business Meeting
DESCRIPTION:All members can attend the monthly Business Meeting for Intergroup Meeting is held monthly – 3rd Wednesday of the month. LEARN MORE \nIntergroup Reps (IGRs) from area Groups attend this meeting to hear the reports from the Intergroup Steering Panel and Committees. Hybrid Meeting ID: 83296233517   No PW   CLICK TO JOIN MEETING
URL:https://capeatlanticaa.org/event/intergroup-business-meeting-2-3/2030-12-18/
LOCATION:Intergroup Office\, New Road\, Northfield\, NJ\, 08225\, United States
GEO:39.3732308;-74.5547204
X-APPLE-STRUCTURED-LOCATION;VALUE=URI;X-ADDRESS=Intergroup Office New Road Northfield NJ 08225 United States;X-APPLE-RADIUS=500;X-TITLE=New Road:geo:-74.5547204,39.3732308
END:VEVENT
END:VCALENDAR