BEGIN:VCALENDAR
VERSION:2.0
PRODID:-//Cape Atlantic Intergroup - ECPv6.15.20//NONSGML v1.0//EN
CALSCALE:GREGORIAN
METHOD:PUBLISH
X-ORIGINAL-URL:https://capeatlanticaa.org
X-WR-CALDESC:Events for Cape Atlantic Intergroup
REFRESH-INTERVAL;VALUE=DURATION:PT1H
X-Robots-Tag:noindex
X-PUBLISHED-TTL:PT1H
BEGIN:VTIMEZONE
TZID:America/New_York
BEGIN:DAYLIGHT
TZOFFSETFROM:-0500
TZOFFSETTO:-0400
TZNAME:EDT
DTSTART:20250309T070000
END:DAYLIGHT
BEGIN:STANDARD
TZOFFSETFROM:-0400
TZOFFSETTO:-0500
TZNAME:EST
DTSTART:20251102T060000
END:STANDARD
BEGIN:DAYLIGHT
TZOFFSETFROM:-0500
TZOFFSETTO:-0400
TZNAME:EDT
DTSTART:20260308T070000
END:DAYLIGHT
BEGIN:STANDARD
TZOFFSETFROM:-0400
TZOFFSETTO:-0500
TZNAME:EST
DTSTART:20261101T060000
END:STANDARD
BEGIN:DAYLIGHT
TZOFFSETFROM:-0500
TZOFFSETTO:-0400
TZNAME:EDT
DTSTART:20270314T070000
END:DAYLIGHT
BEGIN:STANDARD
TZOFFSETFROM:-0400
TZOFFSETTO:-0500
TZNAME:EST
DTSTART:20271107T060000
END:STANDARD
END:VTIMEZONE
BEGIN:VEVENT
DTSTART;TZID=America/New_York:20260503T150000
DTEND;TZID=America/New_York:20260503T160000
DTSTAMP:20260423T055008
CREATED:20250829T193244Z
LAST-MODIFIED:20250829T193244Z
UID:10002236-1777820400-1777824000@capeatlanticaa.org
SUMMARY:Convention Business Mtg (Virtual) - EACYPAA
DESCRIPTION:1st Sunday of the Month – Virtual Only \nMeeting ID: 849 0624 3322 \nPasscode: 194831
URL:https://capeatlanticaa.org/event/convention-business-mtg-virtual-eacypaa/2026-05-03/
ATTACH;FMTTYPE=image/jpeg:https://capeatlanticaa.org/wp-content/uploads/2025/08/EACYPAA-Business-Mtg.jpg
END:VEVENT
BEGIN:VEVENT
DTSTART;TZID=America/New_York:20260503T183000
DTEND;TZID=America/New_York:20260503T193000
DTSTAMP:20260423T055008
CREATED:20250305T191010Z
LAST-MODIFIED:20250305T191010Z
UID:10001438-1777833000-1777836600@capeatlanticaa.org
SUMMARY:District 18 Monthly Meeting
DESCRIPTION:
URL:https://capeatlanticaa.org/event/district-18-monthly-meeting/2026-05-03/
LOCATION:Holy Trinity Episcopal Church OC\, 2998 Bay Ave\, Ocean City\, 08226\, United States
ATTACH;FMTTYPE=image/jpeg:https://capeatlanticaa.org/wp-content/uploads/2025/03/District-18-Monthly-Mtg-Flyer.1.jpeg
GEO:39.2587373;-74.609435
X-APPLE-STRUCTURED-LOCATION;VALUE=URI;X-ADDRESS=Holy Trinity Episcopal Church OC 2998 Bay Ave Ocean City 08226 United States;X-APPLE-RADIUS=500;X-TITLE=2998 Bay Ave:geo:-74.609435,39.2587373
END:VEVENT
BEGIN:VEVENT
DTSTART;TZID=America/New_York:20260503T190000
DTEND;TZID=America/New_York:20260503T210000
DTSTAMP:20260423T055008
CREATED:20251013T162911Z
LAST-MODIFIED:20260302T174149Z
UID:10002309-1777834800-1777842000@capeatlanticaa.org
SUMMARY:3rd Step Candlelight Group Monthly Fellowship Dinner
DESCRIPTION:
URL:https://capeatlanticaa.org/event/3rd-step-candlelight-group-monthly-fellowship-dinner/2026-05-03/
LOCATION:Applebees\, 700 Consumer Square\, Mays Landing\, NJ\, 08330\, United States
CATEGORIES:>Fellowship Events
ATTACH;FMTTYPE=image/jpeg:https://capeatlanticaa.org/wp-content/uploads/2026/03/IMG_4922.jpeg
GEO:39.4506644;-74.6364822
X-APPLE-STRUCTURED-LOCATION;VALUE=URI;X-ADDRESS=Applebees 700 Consumer Square Mays Landing NJ 08330 United States;X-APPLE-RADIUS=500;X-TITLE=700 Consumer Square:geo:-74.6364822,39.4506644
END:VEVENT
BEGIN:VEVENT
DTSTART;TZID=America/New_York:20260506T193000
DTEND;TZID=America/New_York:20260506T203000
DTSTAMP:20260423T055008
CREATED:20260413T201823Z
LAST-MODIFIED:20260413T201823Z
UID:10002650-1778095800-1778099400@capeatlanticaa.org
SUMMARY:Fellowship of the Spirit Guest Speaker
DESCRIPTION:
URL:https://capeatlanticaa.org/event/fellowship-of-the-spirit-guest-speaker-2/
LOCATION:Fusion Church (Formerly Ventnor Community)\, 5300 Ventnor Avenue\, Ventnor\, NJ\, 08406\, United States
CATEGORIES:>Fellowship Events
ATTACH;FMTTYPE=image/jpeg:https://capeatlanticaa.org/wp-content/uploads/2026/04/IMG_5086.jpeg
GEO:39.3430462;-74.4717274
X-APPLE-STRUCTURED-LOCATION;VALUE=URI;X-ADDRESS=Fusion Church (Formerly Ventnor Community) 5300 Ventnor Avenue Ventnor NJ 08406 United States;X-APPLE-RADIUS=500;X-TITLE=5300 Ventnor Avenue:geo:-74.4717274,39.3430462
END:VEVENT
BEGIN:VEVENT
DTSTART;TZID=America/New_York:20260506T193000
DTEND;TZID=America/New_York:20260506T203000
DTSTAMP:20260423T055008
CREATED:20260415T102728Z
LAST-MODIFIED:20260415T102728Z
UID:10002651-1778095800-1778099400@capeatlanticaa.org
SUMMARY:CAYPAA Event Planning Meetings
DESCRIPTION:
URL:https://capeatlanticaa.org/event/caypaa-event-planning-meetings/2026-05-06/
LOCATION:Intergroup Office\, New Road\, Northfield\, NJ\, 08225\, United States
CATEGORIES:>Service Meetings
ATTACH;FMTTYPE=image/jpeg:https://capeatlanticaa.org/wp-content/uploads/2026/04/IMG_5091.jpeg
GEO:39.3732308;-74.5547204
X-APPLE-STRUCTURED-LOCATION;VALUE=URI;X-ADDRESS=Intergroup Office New Road Northfield NJ 08225 United States;X-APPLE-RADIUS=500;X-TITLE=New Road:geo:-74.5547204,39.3732308
END:VEVENT
BEGIN:VEVENT
DTSTART;TZID=America/New_York:20260507T183000
DTEND;TZID=America/New_York:20260507T193000
DTSTAMP:20260423T055008
CREATED:20241001T013715Z
LAST-MODIFIED:20260110T102019Z
UID:10001520-1778178600-1778182200@capeatlanticaa.org
SUMMARY:District 16 & 17 Monthly Meeting
DESCRIPTION:https://us05web.zoom.us/j/83348991388?pwd=jvkVrZe1DOyZEh2zgxQWQ2HqAMelak.1 \nZoom ID : 833 4899 1388 \nPassword : Area45
URL:https://capeatlanticaa.org/event/district-16-17-monthly-meeting/2026-05-07/
LOCATION:Intergroup Office\, New Road\, Northfield\, NJ\, 08225\, United States
GEO:39.3732308;-74.5547204
X-APPLE-STRUCTURED-LOCATION;VALUE=URI;X-ADDRESS=Intergroup Office New Road Northfield NJ 08225 United States;X-APPLE-RADIUS=500;X-TITLE=New Road:geo:-74.5547204,39.3732308
END:VEVENT
BEGIN:VEVENT
DTSTART;TZID=America/New_York:20260511T183000
DTEND;TZID=America/New_York:20260511T193000
DTSTAMP:20260423T055008
CREATED:20260120T021529Z
LAST-MODIFIED:20260120T021529Z
UID:10002459-1778524200-1778527800@capeatlanticaa.org
SUMMARY:Roundup Committee Hybrid Meeting
DESCRIPTION:Meeting ID: 812 7714 5161 Passcode: 417323  CLICK TO JOIN NOW
URL:https://capeatlanticaa.org/event/roundup-committee-hybrid-meeting/2026-05-11/
LOCATION:Intergroup Office\, New Road\, Northfield\, NJ\, 08225\, United States
GEO:39.3732308;-74.5547204
X-APPLE-STRUCTURED-LOCATION;VALUE=URI;X-ADDRESS=Intergroup Office New Road Northfield NJ 08225 United States;X-APPLE-RADIUS=500;X-TITLE=New Road:geo:-74.5547204,39.3732308
END:VEVENT
BEGIN:VEVENT
DTSTART;TZID=America/New_York:20260513T180000
DTEND;TZID=America/New_York:20260513T190000
DTSTAMP:20260423T055008
CREATED:20241107T020820Z
LAST-MODIFIED:20241107T020820Z
UID:10001110-1778695200-1778698800@capeatlanticaa.org
SUMMARY:District 15 Monthly Hybrid Meeting
DESCRIPTION:GOOGLE MEETING LINK      meet.google.com/rod-eiqn-its \n  \nFor more information call 609-467-8183
URL:https://capeatlanticaa.org/event/district-15-monthly-hybrid-meeting/2026-05-13/
LOCATION:Holy Spirit Episcopal Church\, 220 E. Main Street
ATTACH;FMTTYPE=image/png:https://capeatlanticaa.org/wp-content/uploads/2024/11/IMG_2646.png
END:VEVENT
BEGIN:VEVENT
DTSTART;TZID=America/New_York:20260513T193000
DTEND;TZID=America/New_York:20260513T210000
DTSTAMP:20260423T055008
CREATED:20250414T224052Z
LAST-MODIFIED:20250414T224052Z
UID:10001888-1778700600-1778706000@capeatlanticaa.org
SUMMARY:Intergroup Steering Meeting
DESCRIPTION:The 2nd Wednesday of the month\, at 7:30\n1418 New Rd\, Suite 4\, Northfield NJ 08225 \nMeeting ID 542 744 809   CLICK TO JOIN NOW
URL:https://capeatlanticaa.org/event/intergroup-steering-meeting/2026-05-13/
LOCATION:Intergroup Office\, New Road\, Northfield\, NJ\, 08225\, United States
GEO:39.3732308;-74.5547204
X-APPLE-STRUCTURED-LOCATION;VALUE=URI;X-ADDRESS=Intergroup Office New Road Northfield NJ 08225 United States;X-APPLE-RADIUS=500;X-TITLE=New Road:geo:-74.5547204,39.3732308
END:VEVENT
BEGIN:VEVENT
DTSTART;TZID=America/New_York:20260516T110000
DTEND;TZID=America/New_York:20260516T130000
DTSTAMP:20260423T055008
CREATED:20260402T215726Z
LAST-MODIFIED:20260402T215726Z
UID:10002648-1778929200-1778936400@capeatlanticaa.org
SUMMARY:52nd Mays Landing Serenity Anniversary
DESCRIPTION:
URL:https://capeatlanticaa.org/event/52nd-mays-landing-serenity-anniversary/
LOCATION:Mays Landing Presbyterian Church\, 6002 Main Street\, Mays Landing\, NJ\, 08330\, United States
CATEGORIES:>Group Anniversaries
ATTACH;FMTTYPE=image/jpeg:https://capeatlanticaa.org/wp-content/uploads/2026/04/IMG_5040.jpeg
GEO:39.4520784;-74.7278773
X-APPLE-STRUCTURED-LOCATION;VALUE=URI;X-ADDRESS=Mays Landing Presbyterian Church 6002 Main Street Mays Landing NJ 08330 United States;X-APPLE-RADIUS=500;X-TITLE=6002 Main Street:geo:-74.7278773,39.4520784
END:VEVENT
BEGIN:VEVENT
DTSTART;TZID=America/New_York:20260517T150000
DTEND;TZID=America/New_York:20260517T160000
DTSTAMP:20260423T055008
CREATED:20250829T193554Z
LAST-MODIFIED:20250829T193742Z
UID:10002286-1779030000-1779033600@capeatlanticaa.org
SUMMARY:Convention Business Mtg (Hybrid) - EACYPAA
DESCRIPTION:3rd Sunday of the Month – In Person at the Shoralan Club \nHybrid Meeting: \nMeeting ID: 849 0624 3322 \nPasscode: 194831 \nVisit the website to learn more about the Convention: https://www.njypaa.org/
URL:https://capeatlanticaa.org/event/convention-business-mtg-hybrid-eacypaa/2026-05-17/
LOCATION:Shoralan Club\, 1001 Ocean Ave N\,\, Belmar\, 07719\, United States
ATTACH;FMTTYPE=image/jpeg:https://capeatlanticaa.org/wp-content/uploads/2025/08/EACYPAA-Business-Mtg.jpg
GEO:40.1767087;-74.0140946
X-APPLE-STRUCTURED-LOCATION;VALUE=URI;X-ADDRESS=Shoralan Club 1001 Ocean Ave N Belmar 07719 United States;X-APPLE-RADIUS=500;X-TITLE=1001 Ocean Ave N\,:geo:-74.0140946,40.1767087
END:VEVENT
BEGIN:VEVENT
DTSTART;TZID=America/New_York:20260520T193000
DTEND;TZID=America/New_York:20260520T210000
DTSTAMP:20260423T055008
CREATED:20260305T004502Z
LAST-MODIFIED:20260305T005115Z
UID:10002581-1779305400-1779310800@capeatlanticaa.org
SUMMARY:Intergroup Business Meeting
DESCRIPTION:All members can attend the monthly Business Meeting for Intergroup Meeting is held monthly – 3rd Wednesday of the month. LEARN MORE \nIntergroup Reps (IGRs) from area Groups attend this meeting to hear the reports from the Intergroup Steering Panel and Committees. Hybrid Meeting ID: 83296233517   No PW   CLICK TO JOIN MEETING
URL:https://capeatlanticaa.org/event/intergroup-business-meeting-2-3/2026-05-20/
LOCATION:Intergroup Office\, New Road\, Northfield\, NJ\, 08225\, United States
GEO:39.3732308;-74.5547204
X-APPLE-STRUCTURED-LOCATION;VALUE=URI;X-ADDRESS=Intergroup Office New Road Northfield NJ 08225 United States;X-APPLE-RADIUS=500;X-TITLE=New Road:geo:-74.5547204,39.3732308
END:VEVENT
BEGIN:VEVENT
DTSTART;TZID=America/New_York:20260531T160000
DTEND;TZID=America/New_York:20260531T170000
DTSTAMP:20260423T055008
CREATED:20251104T004639Z
LAST-MODIFIED:20251111T021618Z
UID:10002373-1780243200-1780246800@capeatlanticaa.org
SUMMARY:District 19 Monthly Hybrid Meeting
DESCRIPTION:Meeting ID:  861 1052 1946 \nPassword:  GSR19
URL:https://capeatlanticaa.org/event/district-19-monthly-hybrid-meeting/2026-05-31/
LOCATION:The Twelve Step House\, West Oak Avenue\, Wildwood\, New Jersey\, 08260\, United States
GEO:38.9921249;-74.8162518
X-APPLE-STRUCTURED-LOCATION;VALUE=URI;X-ADDRESS=The Twelve Step House West Oak Avenue Wildwood New Jersey 08260 United States;X-APPLE-RADIUS=500;X-TITLE=West Oak Avenue:geo:-74.8162518,38.9921249
END:VEVENT
END:VCALENDAR