BEGIN:VCALENDAR
VERSION:2.0
PRODID:-//Cape Atlantic Intergroup - ECPv6.15.20//NONSGML v1.0//EN
CALSCALE:GREGORIAN
METHOD:PUBLISH
X-WR-CALNAME:Cape Atlantic Intergroup
X-ORIGINAL-URL:https://capeatlanticaa.org
X-WR-CALDESC:Events for Cape Atlantic Intergroup
REFRESH-INTERVAL;VALUE=DURATION:PT1H
X-Robots-Tag:noindex
X-PUBLISHED-TTL:PT1H
BEGIN:VTIMEZONE
TZID:America/New_York
BEGIN:DAYLIGHT
TZOFFSETFROM:-0500
TZOFFSETTO:-0400
TZNAME:EDT
DTSTART:20290311T070000
END:DAYLIGHT
BEGIN:STANDARD
TZOFFSETFROM:-0400
TZOFFSETTO:-0500
TZNAME:EST
DTSTART:20291104T060000
END:STANDARD
BEGIN:DAYLIGHT
TZOFFSETFROM:-0500
TZOFFSETTO:-0400
TZNAME:EDT
DTSTART:20300310T070000
END:DAYLIGHT
BEGIN:STANDARD
TZOFFSETFROM:-0400
TZOFFSETTO:-0500
TZNAME:EST
DTSTART:20301103T060000
END:STANDARD
BEGIN:DAYLIGHT
TZOFFSETFROM:-0500
TZOFFSETTO:-0400
TZNAME:EDT
DTSTART:20310309T070000
END:DAYLIGHT
BEGIN:STANDARD
TZOFFSETFROM:-0400
TZOFFSETTO:-0500
TZNAME:EST
DTSTART:20311102T060000
END:STANDARD
BEGIN:DAYLIGHT
TZOFFSETFROM:-0500
TZOFFSETTO:-0400
TZNAME:EDT
DTSTART:20320314T070000
END:DAYLIGHT
BEGIN:STANDARD
TZOFFSETFROM:-0400
TZOFFSETTO:-0500
TZNAME:EST
DTSTART:20321107T060000
END:STANDARD
END:VTIMEZONE
BEGIN:VEVENT
DTSTART;TZID=America/New_York:20300619T193000
DTEND;TZID=America/New_York:20300619T210000
DTSTAMP:20260424T060752
CREATED:20260305T004502Z
LAST-MODIFIED:20260305T005115Z
UID:10002630-1908127800-1908133200@capeatlanticaa.org
SUMMARY:Intergroup Business Meeting
DESCRIPTION:All members can attend the monthly Business Meeting for Intergroup Meeting is held monthly – 3rd Wednesday of the month. LEARN MORE \nIntergroup Reps (IGRs) from area Groups attend this meeting to hear the reports from the Intergroup Steering Panel and Committees. Hybrid Meeting ID: 83296233517   No PW   CLICK TO JOIN MEETING
URL:https://capeatlanticaa.org/event/intergroup-business-meeting-2-3/2030-06-19/
LOCATION:Intergroup Office\, New Road\, Northfield\, NJ\, 08225\, United States
GEO:39.3732308;-74.5547204
X-APPLE-STRUCTURED-LOCATION;VALUE=URI;X-ADDRESS=Intergroup Office New Road Northfield NJ 08225 United States;X-APPLE-RADIUS=500;X-TITLE=New Road:geo:-74.5547204,39.3732308
END:VEVENT
BEGIN:VEVENT
DTSTART;TZID=America/New_York:20300704T193000
DTEND;TZID=America/New_York:20300704T210000
DTSTAMP:20260424T060752
CREATED:20250414T223011Z
LAST-MODIFIED:20260304T201444Z
UID:10002570-1909423800-1909429200@capeatlanticaa.org
SUMMARY:Intergroup Business Meeting
DESCRIPTION:All members can attend the monthly Business Meeting for Intergroup\nMeeting is held monthly – 3rd Wednesday of the month. LEARN MORE \nIntergroup Reps (IGRs) from area Groups attend this meeting to hear the reports from the Intergroup Steering Panel and Committees. \nHybrid Meeting ID: 832 9623 3517   No PW \nCLICK TO JOIN MEETING
URL:https://capeatlanticaa.org/event/intergroup-business-meeting-2-2/2030-07-04/
LOCATION:CAIG Office\, 1418 New Rd\, Suite 4\, Northfield\, NJ\, 08225\, United States
CATEGORIES:>Service Meetings
GEO:39.389011;-74.567032
X-APPLE-STRUCTURED-LOCATION;VALUE=URI;X-ADDRESS=CAIG Office 1418 New Rd Suite 4 Northfield NJ 08225 United States;X-APPLE-RADIUS=500;X-TITLE=1418 New Rd\, Suite 4:geo:-74.567032,39.389011
END:VEVENT
BEGIN:VEVENT
DTSTART;TZID=America/New_York:20300717T193000
DTEND;TZID=America/New_York:20300717T210000
DTSTAMP:20260424T060752
CREATED:20260305T004502Z
LAST-MODIFIED:20260305T005115Z
UID:10002631-1910547000-1910552400@capeatlanticaa.org
SUMMARY:Intergroup Business Meeting
DESCRIPTION:All members can attend the monthly Business Meeting for Intergroup Meeting is held monthly – 3rd Wednesday of the month. LEARN MORE \nIntergroup Reps (IGRs) from area Groups attend this meeting to hear the reports from the Intergroup Steering Panel and Committees. Hybrid Meeting ID: 83296233517   No PW   CLICK TO JOIN MEETING
URL:https://capeatlanticaa.org/event/intergroup-business-meeting-2-3/2030-07-17/
LOCATION:Intergroup Office\, New Road\, Northfield\, NJ\, 08225\, United States
GEO:39.3732308;-74.5547204
X-APPLE-STRUCTURED-LOCATION;VALUE=URI;X-ADDRESS=Intergroup Office New Road Northfield NJ 08225 United States;X-APPLE-RADIUS=500;X-TITLE=New Road:geo:-74.5547204,39.3732308
END:VEVENT
BEGIN:VEVENT
DTSTART;TZID=America/New_York:20300804T193000
DTEND;TZID=America/New_York:20300804T210000
DTSTAMP:20260424T060752
CREATED:20250414T223011Z
LAST-MODIFIED:20260304T201444Z
UID:10002571-1912102200-1912107600@capeatlanticaa.org
SUMMARY:Intergroup Business Meeting
DESCRIPTION:All members can attend the monthly Business Meeting for Intergroup\nMeeting is held monthly – 3rd Wednesday of the month. LEARN MORE \nIntergroup Reps (IGRs) from area Groups attend this meeting to hear the reports from the Intergroup Steering Panel and Committees. \nHybrid Meeting ID: 832 9623 3517   No PW \nCLICK TO JOIN MEETING
URL:https://capeatlanticaa.org/event/intergroup-business-meeting-2-2/2030-08-04/
LOCATION:CAIG Office\, 1418 New Rd\, Suite 4\, Northfield\, NJ\, 08225\, United States
CATEGORIES:>Service Meetings
GEO:39.389011;-74.567032
X-APPLE-STRUCTURED-LOCATION;VALUE=URI;X-ADDRESS=CAIG Office 1418 New Rd Suite 4 Northfield NJ 08225 United States;X-APPLE-RADIUS=500;X-TITLE=1418 New Rd\, Suite 4:geo:-74.567032,39.389011
END:VEVENT
BEGIN:VEVENT
DTSTART;TZID=America/New_York:20300821T193000
DTEND;TZID=America/New_York:20300821T210000
DTSTAMP:20260424T060752
CREATED:20260305T004502Z
LAST-MODIFIED:20260305T005115Z
UID:10002632-1913571000-1913576400@capeatlanticaa.org
SUMMARY:Intergroup Business Meeting
DESCRIPTION:All members can attend the monthly Business Meeting for Intergroup Meeting is held monthly – 3rd Wednesday of the month. LEARN MORE \nIntergroup Reps (IGRs) from area Groups attend this meeting to hear the reports from the Intergroup Steering Panel and Committees. Hybrid Meeting ID: 83296233517   No PW   CLICK TO JOIN MEETING
URL:https://capeatlanticaa.org/event/intergroup-business-meeting-2-3/2030-08-21/
LOCATION:Intergroup Office\, New Road\, Northfield\, NJ\, 08225\, United States
GEO:39.3732308;-74.5547204
X-APPLE-STRUCTURED-LOCATION;VALUE=URI;X-ADDRESS=Intergroup Office New Road Northfield NJ 08225 United States;X-APPLE-RADIUS=500;X-TITLE=New Road:geo:-74.5547204,39.3732308
END:VEVENT
BEGIN:VEVENT
DTSTART;TZID=America/New_York:20300904T193000
DTEND;TZID=America/New_York:20300904T210000
DTSTAMP:20260424T060752
CREATED:20250414T223011Z
LAST-MODIFIED:20260304T201444Z
UID:10002572-1914780600-1914786000@capeatlanticaa.org
SUMMARY:Intergroup Business Meeting
DESCRIPTION:All members can attend the monthly Business Meeting for Intergroup\nMeeting is held monthly – 3rd Wednesday of the month. LEARN MORE \nIntergroup Reps (IGRs) from area Groups attend this meeting to hear the reports from the Intergroup Steering Panel and Committees. \nHybrid Meeting ID: 832 9623 3517   No PW \nCLICK TO JOIN MEETING
URL:https://capeatlanticaa.org/event/intergroup-business-meeting-2-2/2030-09-04/
LOCATION:CAIG Office\, 1418 New Rd\, Suite 4\, Northfield\, NJ\, 08225\, United States
CATEGORIES:>Service Meetings
GEO:39.389011;-74.567032
X-APPLE-STRUCTURED-LOCATION;VALUE=URI;X-ADDRESS=CAIG Office 1418 New Rd Suite 4 Northfield NJ 08225 United States;X-APPLE-RADIUS=500;X-TITLE=1418 New Rd\, Suite 4:geo:-74.567032,39.389011
END:VEVENT
BEGIN:VEVENT
DTSTART;TZID=America/New_York:20300918T193000
DTEND;TZID=America/New_York:20300918T210000
DTSTAMP:20260424T060752
CREATED:20260305T004502Z
LAST-MODIFIED:20260305T005115Z
UID:10002633-1915990200-1915995600@capeatlanticaa.org
SUMMARY:Intergroup Business Meeting
DESCRIPTION:All members can attend the monthly Business Meeting for Intergroup Meeting is held monthly – 3rd Wednesday of the month. LEARN MORE \nIntergroup Reps (IGRs) from area Groups attend this meeting to hear the reports from the Intergroup Steering Panel and Committees. Hybrid Meeting ID: 83296233517   No PW   CLICK TO JOIN MEETING
URL:https://capeatlanticaa.org/event/intergroup-business-meeting-2-3/2030-09-18/
LOCATION:Intergroup Office\, New Road\, Northfield\, NJ\, 08225\, United States
GEO:39.3732308;-74.5547204
X-APPLE-STRUCTURED-LOCATION;VALUE=URI;X-ADDRESS=Intergroup Office New Road Northfield NJ 08225 United States;X-APPLE-RADIUS=500;X-TITLE=New Road:geo:-74.5547204,39.3732308
END:VEVENT
BEGIN:VEVENT
DTSTART;TZID=America/New_York:20301004T193000
DTEND;TZID=America/New_York:20301004T210000
DTSTAMP:20260424T060752
CREATED:20250414T223011Z
LAST-MODIFIED:20260304T201444Z
UID:10002573-1917372600-1917378000@capeatlanticaa.org
SUMMARY:Intergroup Business Meeting
DESCRIPTION:All members can attend the monthly Business Meeting for Intergroup\nMeeting is held monthly – 3rd Wednesday of the month. LEARN MORE \nIntergroup Reps (IGRs) from area Groups attend this meeting to hear the reports from the Intergroup Steering Panel and Committees. \nHybrid Meeting ID: 832 9623 3517   No PW \nCLICK TO JOIN MEETING
URL:https://capeatlanticaa.org/event/intergroup-business-meeting-2-2/2030-10-04/
LOCATION:CAIG Office\, 1418 New Rd\, Suite 4\, Northfield\, NJ\, 08225\, United States
CATEGORIES:>Service Meetings
GEO:39.389011;-74.567032
X-APPLE-STRUCTURED-LOCATION;VALUE=URI;X-ADDRESS=CAIG Office 1418 New Rd Suite 4 Northfield NJ 08225 United States;X-APPLE-RADIUS=500;X-TITLE=1418 New Rd\, Suite 4:geo:-74.567032,39.389011
END:VEVENT
BEGIN:VEVENT
DTSTART;TZID=America/New_York:20301016T193000
DTEND;TZID=America/New_York:20301016T210000
DTSTAMP:20260424T060752
CREATED:20260305T004502Z
LAST-MODIFIED:20260305T005115Z
UID:10002634-1918409400-1918414800@capeatlanticaa.org
SUMMARY:Intergroup Business Meeting
DESCRIPTION:All members can attend the monthly Business Meeting for Intergroup Meeting is held monthly – 3rd Wednesday of the month. LEARN MORE \nIntergroup Reps (IGRs) from area Groups attend this meeting to hear the reports from the Intergroup Steering Panel and Committees. Hybrid Meeting ID: 83296233517   No PW   CLICK TO JOIN MEETING
URL:https://capeatlanticaa.org/event/intergroup-business-meeting-2-3/2030-10-16/
LOCATION:Intergroup Office\, New Road\, Northfield\, NJ\, 08225\, United States
GEO:39.3732308;-74.5547204
X-APPLE-STRUCTURED-LOCATION;VALUE=URI;X-ADDRESS=Intergroup Office New Road Northfield NJ 08225 United States;X-APPLE-RADIUS=500;X-TITLE=New Road:geo:-74.5547204,39.3732308
END:VEVENT
BEGIN:VEVENT
DTSTART;TZID=America/New_York:20301104T193000
DTEND;TZID=America/New_York:20301104T210000
DTSTAMP:20260424T060752
CREATED:20250414T223011Z
LAST-MODIFIED:20260304T201444Z
UID:10002574-1920051000-1920056400@capeatlanticaa.org
SUMMARY:Intergroup Business Meeting
DESCRIPTION:All members can attend the monthly Business Meeting for Intergroup\nMeeting is held monthly – 3rd Wednesday of the month. LEARN MORE \nIntergroup Reps (IGRs) from area Groups attend this meeting to hear the reports from the Intergroup Steering Panel and Committees. \nHybrid Meeting ID: 832 9623 3517   No PW \nCLICK TO JOIN MEETING
URL:https://capeatlanticaa.org/event/intergroup-business-meeting-2-2/2030-11-04/
LOCATION:CAIG Office\, 1418 New Rd\, Suite 4\, Northfield\, NJ\, 08225\, United States
CATEGORIES:>Service Meetings
GEO:39.389011;-74.567032
X-APPLE-STRUCTURED-LOCATION;VALUE=URI;X-ADDRESS=CAIG Office 1418 New Rd Suite 4 Northfield NJ 08225 United States;X-APPLE-RADIUS=500;X-TITLE=1418 New Rd\, Suite 4:geo:-74.567032,39.389011
END:VEVENT
BEGIN:VEVENT
DTSTART;TZID=America/New_York:20301120T193000
DTEND;TZID=America/New_York:20301120T210000
DTSTAMP:20260424T060752
CREATED:20260305T004502Z
LAST-MODIFIED:20260305T005115Z
UID:10002635-1921433400-1921438800@capeatlanticaa.org
SUMMARY:Intergroup Business Meeting
DESCRIPTION:All members can attend the monthly Business Meeting for Intergroup Meeting is held monthly – 3rd Wednesday of the month. LEARN MORE \nIntergroup Reps (IGRs) from area Groups attend this meeting to hear the reports from the Intergroup Steering Panel and Committees. Hybrid Meeting ID: 83296233517   No PW   CLICK TO JOIN MEETING
URL:https://capeatlanticaa.org/event/intergroup-business-meeting-2-3/2030-11-20/
LOCATION:Intergroup Office\, New Road\, Northfield\, NJ\, 08225\, United States
GEO:39.3732308;-74.5547204
X-APPLE-STRUCTURED-LOCATION;VALUE=URI;X-ADDRESS=Intergroup Office New Road Northfield NJ 08225 United States;X-APPLE-RADIUS=500;X-TITLE=New Road:geo:-74.5547204,39.3732308
END:VEVENT
BEGIN:VEVENT
DTSTART;TZID=America/New_York:20301204T193000
DTEND;TZID=America/New_York:20301204T210000
DTSTAMP:20260424T060752
CREATED:20250414T223011Z
LAST-MODIFIED:20260304T201444Z
UID:10002575-1922643000-1922648400@capeatlanticaa.org
SUMMARY:Intergroup Business Meeting
DESCRIPTION:All members can attend the monthly Business Meeting for Intergroup\nMeeting is held monthly – 3rd Wednesday of the month. LEARN MORE \nIntergroup Reps (IGRs) from area Groups attend this meeting to hear the reports from the Intergroup Steering Panel and Committees. \nHybrid Meeting ID: 832 9623 3517   No PW \nCLICK TO JOIN MEETING
URL:https://capeatlanticaa.org/event/intergroup-business-meeting-2-2/2030-12-04/
LOCATION:CAIG Office\, 1418 New Rd\, Suite 4\, Northfield\, NJ\, 08225\, United States
CATEGORIES:>Service Meetings
GEO:39.389011;-74.567032
X-APPLE-STRUCTURED-LOCATION;VALUE=URI;X-ADDRESS=CAIG Office 1418 New Rd Suite 4 Northfield NJ 08225 United States;X-APPLE-RADIUS=500;X-TITLE=1418 New Rd\, Suite 4:geo:-74.567032,39.389011
END:VEVENT
BEGIN:VEVENT
DTSTART;TZID=America/New_York:20301218T193000
DTEND;TZID=America/New_York:20301218T210000
DTSTAMP:20260424T060752
CREATED:20260305T004502Z
LAST-MODIFIED:20260305T005115Z
UID:10002636-1923852600-1923858000@capeatlanticaa.org
SUMMARY:Intergroup Business Meeting
DESCRIPTION:All members can attend the monthly Business Meeting for Intergroup Meeting is held monthly – 3rd Wednesday of the month. LEARN MORE \nIntergroup Reps (IGRs) from area Groups attend this meeting to hear the reports from the Intergroup Steering Panel and Committees. Hybrid Meeting ID: 83296233517   No PW   CLICK TO JOIN MEETING
URL:https://capeatlanticaa.org/event/intergroup-business-meeting-2-3/2030-12-18/
LOCATION:Intergroup Office\, New Road\, Northfield\, NJ\, 08225\, United States
GEO:39.3732308;-74.5547204
X-APPLE-STRUCTURED-LOCATION;VALUE=URI;X-ADDRESS=Intergroup Office New Road Northfield NJ 08225 United States;X-APPLE-RADIUS=500;X-TITLE=New Road:geo:-74.5547204,39.3732308
END:VEVENT
BEGIN:VEVENT
DTSTART;TZID=America/New_York:20310104T193000
DTEND;TZID=America/New_York:20310104T210000
DTSTAMP:20260424T060752
CREATED:20250414T223011Z
LAST-MODIFIED:20260304T201444Z
UID:10002576-1925321400-1925326800@capeatlanticaa.org
SUMMARY:Intergroup Business Meeting
DESCRIPTION:All members can attend the monthly Business Meeting for Intergroup\nMeeting is held monthly – 3rd Wednesday of the month. LEARN MORE \nIntergroup Reps (IGRs) from area Groups attend this meeting to hear the reports from the Intergroup Steering Panel and Committees. \nHybrid Meeting ID: 832 9623 3517   No PW \nCLICK TO JOIN MEETING
URL:https://capeatlanticaa.org/event/intergroup-business-meeting-2-2/2031-01-04/
LOCATION:CAIG Office\, 1418 New Rd\, Suite 4\, Northfield\, NJ\, 08225\, United States
CATEGORIES:>Service Meetings
GEO:39.389011;-74.567032
X-APPLE-STRUCTURED-LOCATION;VALUE=URI;X-ADDRESS=CAIG Office 1418 New Rd Suite 4 Northfield NJ 08225 United States;X-APPLE-RADIUS=500;X-TITLE=1418 New Rd\, Suite 4:geo:-74.567032,39.389011
END:VEVENT
BEGIN:VEVENT
DTSTART;TZID=America/New_York:20310115T193000
DTEND;TZID=America/New_York:20310115T210000
DTSTAMP:20260424T060752
CREATED:20260305T004502Z
LAST-MODIFIED:20260305T005115Z
UID:10002637-1926271800-1926277200@capeatlanticaa.org
SUMMARY:Intergroup Business Meeting
DESCRIPTION:All members can attend the monthly Business Meeting for Intergroup Meeting is held monthly – 3rd Wednesday of the month. LEARN MORE \nIntergroup Reps (IGRs) from area Groups attend this meeting to hear the reports from the Intergroup Steering Panel and Committees. Hybrid Meeting ID: 83296233517   No PW   CLICK TO JOIN MEETING
URL:https://capeatlanticaa.org/event/intergroup-business-meeting-2-3/2031-01-15/
LOCATION:Intergroup Office\, New Road\, Northfield\, NJ\, 08225\, United States
GEO:39.3732308;-74.5547204
X-APPLE-STRUCTURED-LOCATION;VALUE=URI;X-ADDRESS=Intergroup Office New Road Northfield NJ 08225 United States;X-APPLE-RADIUS=500;X-TITLE=New Road:geo:-74.5547204,39.3732308
END:VEVENT
BEGIN:VEVENT
DTSTART;TZID=America/New_York:20310204T193000
DTEND;TZID=America/New_York:20310204T210000
DTSTAMP:20260424T060752
CREATED:20250414T223011Z
LAST-MODIFIED:20260304T201444Z
UID:10002577-1927999800-1928005200@capeatlanticaa.org
SUMMARY:Intergroup Business Meeting
DESCRIPTION:All members can attend the monthly Business Meeting for Intergroup\nMeeting is held monthly – 3rd Wednesday of the month. LEARN MORE \nIntergroup Reps (IGRs) from area Groups attend this meeting to hear the reports from the Intergroup Steering Panel and Committees. \nHybrid Meeting ID: 832 9623 3517   No PW \nCLICK TO JOIN MEETING
URL:https://capeatlanticaa.org/event/intergroup-business-meeting-2-2/2031-02-04/
LOCATION:CAIG Office\, 1418 New Rd\, Suite 4\, Northfield\, NJ\, 08225\, United States
CATEGORIES:>Service Meetings
GEO:39.389011;-74.567032
X-APPLE-STRUCTURED-LOCATION;VALUE=URI;X-ADDRESS=CAIG Office 1418 New Rd Suite 4 Northfield NJ 08225 United States;X-APPLE-RADIUS=500;X-TITLE=1418 New Rd\, Suite 4:geo:-74.567032,39.389011
END:VEVENT
BEGIN:VEVENT
DTSTART;TZID=America/New_York:20310219T193000
DTEND;TZID=America/New_York:20310219T210000
DTSTAMP:20260424T060752
CREATED:20260305T004502Z
LAST-MODIFIED:20260305T005115Z
UID:10002638-1929295800-1929301200@capeatlanticaa.org
SUMMARY:Intergroup Business Meeting
DESCRIPTION:All members can attend the monthly Business Meeting for Intergroup Meeting is held monthly – 3rd Wednesday of the month. LEARN MORE \nIntergroup Reps (IGRs) from area Groups attend this meeting to hear the reports from the Intergroup Steering Panel and Committees. Hybrid Meeting ID: 83296233517   No PW   CLICK TO JOIN MEETING
URL:https://capeatlanticaa.org/event/intergroup-business-meeting-2-3/2031-02-19/
LOCATION:Intergroup Office\, New Road\, Northfield\, NJ\, 08225\, United States
GEO:39.3732308;-74.5547204
X-APPLE-STRUCTURED-LOCATION;VALUE=URI;X-ADDRESS=Intergroup Office New Road Northfield NJ 08225 United States;X-APPLE-RADIUS=500;X-TITLE=New Road:geo:-74.5547204,39.3732308
END:VEVENT
BEGIN:VEVENT
DTSTART;TZID=America/New_York:20310304T193000
DTEND;TZID=America/New_York:20310304T210000
DTSTAMP:20260424T060752
CREATED:20250414T223011Z
LAST-MODIFIED:20260304T201444Z
UID:10002578-1930419000-1930424400@capeatlanticaa.org
SUMMARY:Intergroup Business Meeting
DESCRIPTION:All members can attend the monthly Business Meeting for Intergroup\nMeeting is held monthly – 3rd Wednesday of the month. LEARN MORE \nIntergroup Reps (IGRs) from area Groups attend this meeting to hear the reports from the Intergroup Steering Panel and Committees. \nHybrid Meeting ID: 832 9623 3517   No PW \nCLICK TO JOIN MEETING
URL:https://capeatlanticaa.org/event/intergroup-business-meeting-2-2/2031-03-04/
LOCATION:CAIG Office\, 1418 New Rd\, Suite 4\, Northfield\, NJ\, 08225\, United States
CATEGORIES:>Service Meetings
GEO:39.389011;-74.567032
X-APPLE-STRUCTURED-LOCATION;VALUE=URI;X-ADDRESS=CAIG Office 1418 New Rd Suite 4 Northfield NJ 08225 United States;X-APPLE-RADIUS=500;X-TITLE=1418 New Rd\, Suite 4:geo:-74.567032,39.389011
END:VEVENT
END:VCALENDAR