BEGIN:VCALENDAR
VERSION:2.0
PRODID:-//Cape Atlantic Intergroup - ECPv6.15.20//NONSGML v1.0//EN
CALSCALE:GREGORIAN
METHOD:PUBLISH
X-ORIGINAL-URL:https://capeatlanticaa.org
X-WR-CALDESC:Events for Cape Atlantic Intergroup
REFRESH-INTERVAL;VALUE=DURATION:PT1H
X-Robots-Tag:noindex
X-PUBLISHED-TTL:PT1H
BEGIN:VTIMEZONE
TZID:America/New_York
BEGIN:DAYLIGHT
TZOFFSETFROM:-0500
TZOFFSETTO:-0400
TZNAME:EDT
DTSTART:20230312T070000
END:DAYLIGHT
BEGIN:STANDARD
TZOFFSETFROM:-0400
TZOFFSETTO:-0500
TZNAME:EST
DTSTART:20231105T060000
END:STANDARD
BEGIN:DAYLIGHT
TZOFFSETFROM:-0500
TZOFFSETTO:-0400
TZNAME:EDT
DTSTART:20240310T070000
END:DAYLIGHT
BEGIN:STANDARD
TZOFFSETFROM:-0400
TZOFFSETTO:-0500
TZNAME:EST
DTSTART:20241103T060000
END:STANDARD
BEGIN:DAYLIGHT
TZOFFSETFROM:-0500
TZOFFSETTO:-0400
TZNAME:EDT
DTSTART:20250309T070000
END:DAYLIGHT
BEGIN:STANDARD
TZOFFSETFROM:-0400
TZOFFSETTO:-0500
TZNAME:EST
DTSTART:20251102T060000
END:STANDARD
BEGIN:DAYLIGHT
TZOFFSETFROM:-0500
TZOFFSETTO:-0400
TZNAME:EDT
DTSTART:20260308T070000
END:DAYLIGHT
BEGIN:STANDARD
TZOFFSETFROM:-0400
TZOFFSETTO:-0500
TZNAME:EST
DTSTART:20261101T060000
END:STANDARD
END:VTIMEZONE
BEGIN:VEVENT
DTSTART;TZID=America/New_York:20251217T193000
DTEND;TZID=America/New_York:20251217T210000
DTSTAMP:20260423T093312
CREATED:20250414T224915Z
LAST-MODIFIED:20250414T224918Z
UID:10001822-1765999800-1766005200@capeatlanticaa.org
SUMMARY:Intergroup Business Meeting
DESCRIPTION:All members can attend the monthly Business Meeting for Intergroup\nMeeting is held monthly – 3rd Wednesday of the month. LEARN MORE \nIntergroup Reps (IGRs) from area Groups attend this meeting to hear the reports from the Intergroup Steering Panel and Committees.\n\nHybrid Meeting ID: 832 9623 3517   No PW\n\nCLICK TO JOIN MEETING
URL:https://capeatlanticaa.org/event/intergroup-business-meeting-2-2-9/
LOCATION:CAIG Office\, 1418 New Rd\, Suite 4\, Northfield\, NJ\, 08225\, United States
CATEGORIES:>Service Meetings
GEO:39.389011;-74.567032
X-APPLE-STRUCTURED-LOCATION;VALUE=URI;X-ADDRESS=CAIG Office 1418 New Rd Suite 4 Northfield NJ 08225 United States;X-APPLE-RADIUS=500;X-TITLE=1418 New Rd\, Suite 4:geo:-74.567032,39.389011
END:VEVENT
BEGIN:VEVENT
DTSTART;TZID=America/New_York:20251210T193000
DTEND;TZID=America/New_York:20251210T210000
DTSTAMP:20260423T093312
CREATED:20250414T224052Z
LAST-MODIFIED:20250414T224052Z
UID:10001883-1765395000-1765400400@capeatlanticaa.org
SUMMARY:Intergroup Steering Meeting
DESCRIPTION:The 2nd Wednesday of the month\, at 7:30\n1418 New Rd\, Suite 4\, Northfield NJ 08225 \nMeeting ID 542 744 809   CLICK TO JOIN NOW
URL:https://capeatlanticaa.org/event/intergroup-steering-meeting/2025-12-10/
LOCATION:Intergroup Office\, New Road\, Northfield\, NJ\, 08225\, United States
GEO:39.3732308;-74.5547204
X-APPLE-STRUCTURED-LOCATION;VALUE=URI;X-ADDRESS=Intergroup Office New Road Northfield NJ 08225 United States;X-APPLE-RADIUS=500;X-TITLE=New Road:geo:-74.5547204,39.3732308
END:VEVENT
BEGIN:VEVENT
DTSTART;TZID=America/New_York:20251119T193000
DTEND;TZID=America/New_York:20251119T210000
DTSTAMP:20260423T093312
CREATED:20250414T224811Z
LAST-MODIFIED:20250414T224815Z
UID:10001821-1763580600-1763586000@capeatlanticaa.org
SUMMARY:Intergroup Business Meeting
DESCRIPTION:All members can attend the monthly Business Meeting for Intergroup\nMeeting is held monthly – 3rd Wednesday of the month. LEARN MORE \nIntergroup Reps (IGRs) from area Groups attend this meeting to hear the reports from the Intergroup Steering Panel and Committees.\n\nHybrid Meeting ID: 832 9623 3517   No PW\n\nCLICK TO JOIN MEETING
URL:https://capeatlanticaa.org/event/intergroup-business-meeting-2-2-8/
LOCATION:CAIG Office\, 1418 New Rd\, Suite 4\, Northfield\, NJ\, 08225\, United States
CATEGORIES:>Service Meetings
GEO:39.389011;-74.567032
X-APPLE-STRUCTURED-LOCATION;VALUE=URI;X-ADDRESS=CAIG Office 1418 New Rd Suite 4 Northfield NJ 08225 United States;X-APPLE-RADIUS=500;X-TITLE=1418 New Rd\, Suite 4:geo:-74.567032,39.389011
END:VEVENT
BEGIN:VEVENT
DTSTART;TZID=America/New_York:20251112T193000
DTEND;TZID=America/New_York:20251112T210000
DTSTAMP:20260423T093312
CREATED:20250414T224052Z
LAST-MODIFIED:20250414T224052Z
UID:10001882-1762975800-1762981200@capeatlanticaa.org
SUMMARY:Intergroup Steering Meeting
DESCRIPTION:The 2nd Wednesday of the month\, at 7:30\n1418 New Rd\, Suite 4\, Northfield NJ 08225 \nMeeting ID 542 744 809   CLICK TO JOIN NOW
URL:https://capeatlanticaa.org/event/intergroup-steering-meeting/2025-11-12/
LOCATION:Intergroup Office\, New Road\, Northfield\, NJ\, 08225\, United States
GEO:39.3732308;-74.5547204
X-APPLE-STRUCTURED-LOCATION;VALUE=URI;X-ADDRESS=Intergroup Office New Road Northfield NJ 08225 United States;X-APPLE-RADIUS=500;X-TITLE=New Road:geo:-74.5547204,39.3732308
END:VEVENT
BEGIN:VEVENT
DTSTART;TZID=America/New_York:20251101T100000
DTEND;TZID=America/New_York:20251101T140000
DTSTAMP:20260423T093312
CREATED:20250714T192348Z
LAST-MODIFIED:20250714T192348Z
UID:10002154-1761991200-1762005600@capeatlanticaa.org
SUMMARY:Service Workshop on Service!
DESCRIPTION:
URL:https://capeatlanticaa.org/event/service-workshop-on-service/
LOCATION:Intergroup Office\, New Road\, Northfield\, NJ\, 08225\, United States
CATEGORIES:>Service Workshops
GEO:39.3732308;-74.5547204
X-APPLE-STRUCTURED-LOCATION;VALUE=URI;X-ADDRESS=Intergroup Office New Road Northfield NJ 08225 United States;X-APPLE-RADIUS=500;X-TITLE=New Road:geo:-74.5547204,39.3732308
END:VEVENT
BEGIN:VEVENT
DTSTART;TZID=America/New_York:20251015T193000
DTEND;TZID=America/New_York:20251015T210000
DTSTAMP:20260423T093312
CREATED:20250414T224704Z
LAST-MODIFIED:20250414T224707Z
UID:10001820-1760556600-1760562000@capeatlanticaa.org
SUMMARY:Intergroup Business Meeting
DESCRIPTION:All members can attend the monthly Business Meeting for Intergroup\nMeeting is held monthly – 3rd Wednesday of the month. LEARN MORE \nIntergroup Reps (IGRs) from area Groups attend this meeting to hear the reports from the Intergroup Steering Panel and Committees.\n\nHybrid Meeting ID: 832 9623 3517   No PW\n\nCLICK TO JOIN MEETING
URL:https://capeatlanticaa.org/event/intergroup-business-meeting-2-2-7/
LOCATION:CAIG Office\, 1418 New Rd\, Suite 4\, Northfield\, NJ\, 08225\, United States
CATEGORIES:>Service Meetings
GEO:39.389011;-74.567032
X-APPLE-STRUCTURED-LOCATION;VALUE=URI;X-ADDRESS=CAIG Office 1418 New Rd Suite 4 Northfield NJ 08225 United States;X-APPLE-RADIUS=500;X-TITLE=1418 New Rd\, Suite 4:geo:-74.567032,39.389011
END:VEVENT
BEGIN:VEVENT
DTSTART;TZID=America/New_York:20251008T193000
DTEND;TZID=America/New_York:20251008T210000
DTSTAMP:20260423T093312
CREATED:20250414T224052Z
LAST-MODIFIED:20250414T224052Z
UID:10001881-1759951800-1759957200@capeatlanticaa.org
SUMMARY:Intergroup Steering Meeting
DESCRIPTION:The 2nd Wednesday of the month\, at 7:30\n1418 New Rd\, Suite 4\, Northfield NJ 08225 \nMeeting ID 542 744 809   CLICK TO JOIN NOW
URL:https://capeatlanticaa.org/event/intergroup-steering-meeting/2025-10-08/
LOCATION:Intergroup Office\, New Road\, Northfield\, NJ\, 08225\, United States
GEO:39.3732308;-74.5547204
X-APPLE-STRUCTURED-LOCATION;VALUE=URI;X-ADDRESS=Intergroup Office New Road Northfield NJ 08225 United States;X-APPLE-RADIUS=500;X-TITLE=New Road:geo:-74.5547204,39.3732308
END:VEVENT
BEGIN:VEVENT
DTSTART;TZID=America/New_York:20251004T090000
DTEND;TZID=America/New_York:20251004T120000
DTSTAMP:20260423T093312
CREATED:20250729T140249Z
LAST-MODIFIED:20250729T140526Z
UID:10002156-1759568400-1759579200@capeatlanticaa.org
SUMMARY:2025 Day of Sharing
DESCRIPTION:
URL:https://capeatlanticaa.org/event/2025-day-of-sharing/
LOCATION:St Gregory the Great Church\, 4620 Nottingham Way\, Hamilton Square\, 08690\, United States
GEO:40.222868;-74.6399328
X-APPLE-STRUCTURED-LOCATION;VALUE=URI;X-ADDRESS=St Gregory the Great Church 4620 Nottingham Way Hamilton Square 08690 United States;X-APPLE-RADIUS=500;X-TITLE=4620 Nottingham Way:geo:-74.6399328,40.222868
END:VEVENT
BEGIN:VEVENT
DTSTART;TZID=America/New_York:20250921T090000
DTEND;TZID=America/New_York:20250921T130000
DTSTAMP:20260423T093312
CREATED:20250710T105405Z
LAST-MODIFIED:20250919T194252Z
UID:10002153-1758445200-1758459600@capeatlanticaa.org
SUMMARY:Unity Breakfast
DESCRIPTION:
URL:https://capeatlanticaa.org/event/unity-breakfast/
LOCATION:Greate Bay County Club\, Mays Landing Road\, Somers Point\, NJ\, 08244\, United States
GEO:39.312347;-74.607154
X-APPLE-STRUCTURED-LOCATION;VALUE=URI;X-ADDRESS=Greate Bay County Club Mays Landing Road Somers Point NJ 08244 United States;X-APPLE-RADIUS=500;X-TITLE=Mays Landing Road:geo:-74.607154,39.312347
END:VEVENT
BEGIN:VEVENT
DTSTART;TZID=America/New_York:20250917T193000
DTEND;TZID=America/New_York:20250917T210000
DTSTAMP:20260423T093312
CREATED:20250414T224604Z
LAST-MODIFIED:20250414T224607Z
UID:10001819-1758137400-1758142800@capeatlanticaa.org
SUMMARY:Intergroup Business Meeting
DESCRIPTION:All members can attend the monthly Business Meeting for Intergroup\nMeeting is held monthly – 3rd Wednesday of the month. LEARN MORE \nIntergroup Reps (IGRs) from area Groups attend this meeting to hear the reports from the Intergroup Steering Panel and Committees.\n\nHybrid Meeting ID: 832 9623 3517   No PW\n\nCLICK TO JOIN MEETING
URL:https://capeatlanticaa.org/event/intergroup-business-meeting-2-2-6/
LOCATION:CAIG Office\, 1418 New Rd\, Suite 4\, Northfield\, NJ\, 08225\, United States
CATEGORIES:>Service Meetings
GEO:39.389011;-74.567032
X-APPLE-STRUCTURED-LOCATION;VALUE=URI;X-ADDRESS=CAIG Office 1418 New Rd Suite 4 Northfield NJ 08225 United States;X-APPLE-RADIUS=500;X-TITLE=1418 New Rd\, Suite 4:geo:-74.567032,39.389011
END:VEVENT
BEGIN:VEVENT
DTSTART;TZID=America/New_York:20250910T193000
DTEND;TZID=America/New_York:20250910T210000
DTSTAMP:20260423T093312
CREATED:20250414T224052Z
LAST-MODIFIED:20250414T224052Z
UID:10001880-1757532600-1757538000@capeatlanticaa.org
SUMMARY:Intergroup Steering Meeting
DESCRIPTION:The 2nd Wednesday of the month\, at 7:30\n1418 New Rd\, Suite 4\, Northfield NJ 08225 \nMeeting ID 542 744 809   CLICK TO JOIN NOW
URL:https://capeatlanticaa.org/event/intergroup-steering-meeting/2025-09-10/
LOCATION:Intergroup Office\, New Road\, Northfield\, NJ\, 08225\, United States
GEO:39.3732308;-74.5547204
X-APPLE-STRUCTURED-LOCATION;VALUE=URI;X-ADDRESS=Intergroup Office New Road Northfield NJ 08225 United States;X-APPLE-RADIUS=500;X-TITLE=New Road:geo:-74.5547204,39.3732308
END:VEVENT
BEGIN:VEVENT
DTSTART;TZID=America/New_York:20250820T193000
DTEND;TZID=America/New_York:20250820T210000
DTSTAMP:20260423T093312
CREATED:20250414T224450Z
LAST-MODIFIED:20250414T224454Z
UID:10001818-1755718200-1755723600@capeatlanticaa.org
SUMMARY:Intergroup Business Meeting
DESCRIPTION:All members can attend the monthly Business Meeting for Intergroup\nMeeting is held monthly – 3rd Wednesday of the month. LEARN MORE \nIntergroup Reps (IGRs) from area Groups attend this meeting to hear the reports from the Intergroup Steering Panel and Committees.\n\nHybrid Meeting ID: 832 9623 3517   No PW\n\nCLICK TO JOIN MEETING
URL:https://capeatlanticaa.org/event/intergroup-business-meeting-2-2-5/
LOCATION:CAIG Office\, 1418 New Rd\, Suite 4\, Northfield\, NJ\, 08225\, United States
CATEGORIES:>Service Meetings
GEO:39.389011;-74.567032
X-APPLE-STRUCTURED-LOCATION;VALUE=URI;X-ADDRESS=CAIG Office 1418 New Rd Suite 4 Northfield NJ 08225 United States;X-APPLE-RADIUS=500;X-TITLE=1418 New Rd\, Suite 4:geo:-74.567032,39.389011
END:VEVENT
BEGIN:VEVENT
DTSTART;TZID=America/New_York:20250813T193000
DTEND;TZID=America/New_York:20250813T210000
DTSTAMP:20260423T093312
CREATED:20250414T224052Z
LAST-MODIFIED:20250414T224052Z
UID:10001879-1755113400-1755118800@capeatlanticaa.org
SUMMARY:Intergroup Steering Meeting
DESCRIPTION:The 2nd Wednesday of the month\, at 7:30\n1418 New Rd\, Suite 4\, Northfield NJ 08225 \nMeeting ID 542 744 809   CLICK TO JOIN NOW
URL:https://capeatlanticaa.org/event/intergroup-steering-meeting/2025-08-13/
LOCATION:Intergroup Office\, New Road\, Northfield\, NJ\, 08225\, United States
GEO:39.3732308;-74.5547204
X-APPLE-STRUCTURED-LOCATION;VALUE=URI;X-ADDRESS=Intergroup Office New Road Northfield NJ 08225 United States;X-APPLE-RADIUS=500;X-TITLE=New Road:geo:-74.5547204,39.3732308
END:VEVENT
BEGIN:VEVENT
DTSTART;TZID=America/New_York:20250716T193000
DTEND;TZID=America/New_York:20250716T210000
DTSTAMP:20260423T093312
CREATED:20250414T224321Z
LAST-MODIFIED:20250414T224324Z
UID:10001817-1752694200-1752699600@capeatlanticaa.org
SUMMARY:Intergroup Business Meeting
DESCRIPTION:All members can attend the monthly Business Meeting for Intergroup\nMeeting is held monthly – 3rd Wednesday of the month. LEARN MORE \nIntergroup Reps (IGRs) from area Groups attend this meeting to hear the reports from the Intergroup Steering Panel and Committees.\n\nHybrid Meeting ID: 832 9623 3517   No PW\n\nCLICK TO JOIN MEETING
URL:https://capeatlanticaa.org/event/intergroup-business-meeting-2-2-4/
LOCATION:CAIG Office\, 1418 New Rd\, Suite 4\, Northfield\, NJ\, 08225\, United States
CATEGORIES:>Service Meetings
GEO:39.389011;-74.567032
X-APPLE-STRUCTURED-LOCATION;VALUE=URI;X-ADDRESS=CAIG Office 1418 New Rd Suite 4 Northfield NJ 08225 United States;X-APPLE-RADIUS=500;X-TITLE=1418 New Rd\, Suite 4:geo:-74.567032,39.389011
END:VEVENT
BEGIN:VEVENT
DTSTART;TZID=America/New_York:20250709T193000
DTEND;TZID=America/New_York:20250709T210000
DTSTAMP:20260423T093312
CREATED:20250414T224052Z
LAST-MODIFIED:20250414T224052Z
UID:10001878-1752089400-1752094800@capeatlanticaa.org
SUMMARY:Intergroup Steering Meeting
DESCRIPTION:The 2nd Wednesday of the month\, at 7:30\n1418 New Rd\, Suite 4\, Northfield NJ 08225 \nMeeting ID 542 744 809   CLICK TO JOIN NOW
URL:https://capeatlanticaa.org/event/intergroup-steering-meeting/2025-07-09/
LOCATION:Intergroup Office\, New Road\, Northfield\, NJ\, 08225\, United States
GEO:39.3732308;-74.5547204
X-APPLE-STRUCTURED-LOCATION;VALUE=URI;X-ADDRESS=Intergroup Office New Road Northfield NJ 08225 United States;X-APPLE-RADIUS=500;X-TITLE=New Road:geo:-74.5547204,39.3732308
END:VEVENT
BEGIN:VEVENT
DTSTART;TZID=America/New_York:20250624T190000
DTEND;TZID=America/New_York:20250624T200000
DTSTAMP:20260423T093312
CREATED:20250618T223024Z
LAST-MODIFIED:20250618T223024Z
UID:10002066-1750791600-1750795200@capeatlanticaa.org
SUMMARY:PI/CPC Committee Members Needed
DESCRIPTION:Zoom ID \n883 4338 8107
URL:https://capeatlanticaa.org/event/pi-cpc-committee-members-needed/
CATEGORIES:>Service Meetings
LOCATION:
END:VEVENT
BEGIN:VEVENT
DTSTART;TZID=America/New_York:20250618T193000
DTEND;TZID=America/New_York:20250618T210000
DTSTAMP:20260423T093312
CREATED:20250414T224202Z
LAST-MODIFIED:20250414T224205Z
UID:10001816-1750275000-1750280400@capeatlanticaa.org
SUMMARY:Intergroup Business Meeting
DESCRIPTION:All members can attend the monthly Business Meeting for Intergroup\nMeeting is held monthly – 3rd Wednesday of the month. LEARN MORE \nIntergroup Reps (IGRs) from area Groups attend this meeting to hear the reports from the Intergroup Steering Panel and Committees.\n\nHybrid Meeting ID: 832 9623 3517   No PW\n\nCLICK TO JOIN MEETING
URL:https://capeatlanticaa.org/event/intergroup-business-meeting-2-2-3/
LOCATION:CAIG Office\, 1418 New Rd\, Suite 4\, Northfield\, NJ\, 08225\, United States
CATEGORIES:>Service Meetings
GEO:39.389011;-74.567032
X-APPLE-STRUCTURED-LOCATION;VALUE=URI;X-ADDRESS=CAIG Office 1418 New Rd Suite 4 Northfield NJ 08225 United States;X-APPLE-RADIUS=500;X-TITLE=1418 New Rd\, Suite 4:geo:-74.567032,39.389011
END:VEVENT
BEGIN:VEVENT
DTSTART;TZID=America/New_York:20250611T193000
DTEND;TZID=America/New_York:20250611T210000
DTSTAMP:20260423T093312
CREATED:20250414T224052Z
LAST-MODIFIED:20250414T224052Z
UID:10001877-1749670200-1749675600@capeatlanticaa.org
SUMMARY:Intergroup Steering Meeting
DESCRIPTION:The 2nd Wednesday of the month\, at 7:30\n1418 New Rd\, Suite 4\, Northfield NJ 08225 \nMeeting ID 542 744 809   CLICK TO JOIN NOW
URL:https://capeatlanticaa.org/event/intergroup-steering-meeting/2025-06-11/
LOCATION:Intergroup Office\, New Road\, Northfield\, NJ\, 08225\, United States
GEO:39.3732308;-74.5547204
X-APPLE-STRUCTURED-LOCATION;VALUE=URI;X-ADDRESS=Intergroup Office New Road Northfield NJ 08225 United States;X-APPLE-RADIUS=500;X-TITLE=New Road:geo:-74.5547204,39.3732308
END:VEVENT
BEGIN:VEVENT
DTSTART;TZID=America/New_York:20250521T193000
DTEND;TZID=America/New_York:20250521T210000
DTSTAMP:20260423T093312
CREATED:20250414T223455Z
LAST-MODIFIED:20250414T223458Z
UID:10001815-1747855800-1747861200@capeatlanticaa.org
SUMMARY:Intergroup Business Meeting
DESCRIPTION:All members can attend the monthly Business Meeting for Intergroup\nMeeting is held monthly – 3rd Wednesday of the month. LEARN MORE \nIntergroup Reps (IGRs) from area Groups attend this meeting to hear the reports from the Intergroup Steering Panel and Committees.\n\nHybrid Meeting ID: 832 9623 3517   No PW\n\nCLICK TO JOIN MEETING
URL:https://capeatlanticaa.org/event/intergroup-business-meeting-2-2-2/
LOCATION:CAIG Office\, 1418 New Rd\, Suite 4\, Northfield\, NJ\, 08225\, United States
CATEGORIES:>Service Meetings
GEO:39.389011;-74.567032
X-APPLE-STRUCTURED-LOCATION;VALUE=URI;X-ADDRESS=CAIG Office 1418 New Rd Suite 4 Northfield NJ 08225 United States;X-APPLE-RADIUS=500;X-TITLE=1418 New Rd\, Suite 4:geo:-74.567032,39.389011
END:VEVENT
BEGIN:VEVENT
DTSTART;TZID=America/New_York:20250517T093000
DTEND;TZID=America/New_York:20250517T130000
DTSTAMP:20260423T093312
CREATED:20250412T191258Z
LAST-MODIFIED:20250412T191258Z
UID:10001500-1747474200-1747486800@capeatlanticaa.org
SUMMARY:Sponsorship Styles & Techniques Workshop
DESCRIPTION:
URL:https://capeatlanticaa.org/event/sponsorship-styles-techniques-workshop/
LOCATION:Intergroup Office\, New Road\, Northfield\, NJ\, 08225\, United States
CATEGORIES:>Service Workshops
GEO:39.3732308;-74.5547204
X-APPLE-STRUCTURED-LOCATION;VALUE=URI;X-ADDRESS=Intergroup Office New Road Northfield NJ 08225 United States;X-APPLE-RADIUS=500;X-TITLE=New Road:geo:-74.5547204,39.3732308
END:VEVENT
BEGIN:VEVENT
DTSTART;TZID=America/New_York:20250514T193000
DTEND;TZID=America/New_York:20250514T210000
DTSTAMP:20260423T093312
CREATED:20250414T224052Z
LAST-MODIFIED:20250414T224052Z
UID:10001876-1747251000-1747256400@capeatlanticaa.org
SUMMARY:Intergroup Steering Meeting
DESCRIPTION:The 2nd Wednesday of the month\, at 7:30\n1418 New Rd\, Suite 4\, Northfield NJ 08225 \nMeeting ID 542 744 809   CLICK TO JOIN NOW
URL:https://capeatlanticaa.org/event/intergroup-steering-meeting/2025-05-14/
LOCATION:Intergroup Office\, New Road\, Northfield\, NJ\, 08225\, United States
GEO:39.3732308;-74.5547204
X-APPLE-STRUCTURED-LOCATION;VALUE=URI;X-ADDRESS=Intergroup Office New Road Northfield NJ 08225 United States;X-APPLE-RADIUS=500;X-TITLE=New Road:geo:-74.5547204,39.3732308
END:VEVENT
BEGIN:VEVENT
DTSTART;TZID=America/New_York:20250510T110000
DTEND;TZID=America/New_York:20250510T140000
DTSTAMP:20260423T093312
CREATED:20250306T153717Z
LAST-MODIFIED:20250505T151727Z
UID:10001485-1746874800-1746885600@capeatlanticaa.org
SUMMARY:Sea Isle - AA Technology & the Plain Language Big Book
DESCRIPTION:**Location Change**\nAcross the street from the Community Center at the Italian American Club
URL:https://capeatlanticaa.org/event/sea-isle-save-the-date/
LOCATION:Sea Isle Community Lodge\, John F Kennedy Boulevard\, Sea Isle City\, New Jersey\, 08243\, United States
GEO:39.1570611;-74.6951817
X-APPLE-STRUCTURED-LOCATION;VALUE=URI;X-ADDRESS=Sea Isle Community Lodge John F Kennedy Boulevard Sea Isle City New Jersey 08243 United States;X-APPLE-RADIUS=500;X-TITLE=John F Kennedy Boulevard:geo:-74.6951817,39.1570611
END:VEVENT
BEGIN:VEVENT
DTSTART;TZID=America/New_York:20250416T193000
DTEND;TZID=America/New_York:20250416T210000
DTSTAMP:20260423T093312
CREATED:20250414T222629Z
LAST-MODIFIED:20250414T222749Z
UID:10001570-1744831800-1744837200@capeatlanticaa.org
SUMMARY:Intergroup Business Meeting
DESCRIPTION:All members can attend the monthly Business Meeting for Intergroup\nMeeting is held monthly – 3rd Wednesday of the month. LEARN MORE \nIntergroup Reps (IGRs) from area Groups attend this meeting to hear the reports from the Intergroup Steering Panel and Committees. \nHybrid Meeting ID: 832 9623 3517   No PW \nCLICK TO JOIN MEETING
URL:https://capeatlanticaa.org/event/intergroup-business-meeting-3/
LOCATION:CAIG Office\, 1418 New Rd\, Suite 4\, Northfield\, NJ\, 08225\, United States
CATEGORIES:>Service Meetings
GEO:39.389011;-74.567032
X-APPLE-STRUCTURED-LOCATION;VALUE=URI;X-ADDRESS=CAIG Office 1418 New Rd Suite 4 Northfield NJ 08225 United States;X-APPLE-RADIUS=500;X-TITLE=1418 New Rd\, Suite 4:geo:-74.567032,39.389011
END:VEVENT
BEGIN:VEVENT
DTSTART;TZID=America/New_York:20250409T193000
DTEND;TZID=America/New_York:20250409T210000
DTSTAMP:20260423T093312
CREATED:20250414T224052Z
LAST-MODIFIED:20250414T224052Z
UID:10001875-1744227000-1744232400@capeatlanticaa.org
SUMMARY:Intergroup Steering Meeting
DESCRIPTION:The 2nd Wednesday of the month\, at 7:30\n1418 New Rd\, Suite 4\, Northfield NJ 08225 \nMeeting ID 542 744 809   CLICK TO JOIN NOW
URL:https://capeatlanticaa.org/event/intergroup-steering-meeting/2025-04-09/
LOCATION:Intergroup Office\, New Road\, Northfield\, NJ\, 08225\, United States
GEO:39.3732308;-74.5547204
X-APPLE-STRUCTURED-LOCATION;VALUE=URI;X-ADDRESS=Intergroup Office New Road Northfield NJ 08225 United States;X-APPLE-RADIUS=500;X-TITLE=New Road:geo:-74.5547204,39.3732308
END:VEVENT
BEGIN:VEVENT
DTSTART;TZID=America/New_York:20250116T193000
DTEND;TZID=America/New_York:20250116T210000
DTSTAMP:20260423T093312
CREATED:20241024T012024Z
LAST-MODIFIED:20250414T221144Z
UID:10001568-1737055800-1737061200@capeatlanticaa.org
SUMMARY:Intergroup Business Meeting
DESCRIPTION:All members can attend the monthly Business Meeting for Intergroup\nMeeting is held monthly – 3rd Wednesday of the month. LEARN MORE \nIntergroup Reps (IGRs) from area Groups attend this meeting to hear the reports from the Intergroup Steering Panel and Committees. \nHybrid Meeting ID: 832 9623 3517   No PW \nCLICK TO JOIN MEETING
URL:https://capeatlanticaa.org/event/intergroup-business-meeting/2025-01-16/
LOCATION:CAIG Office\, 1418 New Rd\, Suite 4\, Northfield\, NJ\, 08225\, United States
CATEGORIES:>Service Meetings
GEO:39.389011;-74.567032
X-APPLE-STRUCTURED-LOCATION;VALUE=URI;X-ADDRESS=CAIG Office 1418 New Rd Suite 4 Northfield NJ 08225 United States;X-APPLE-RADIUS=500;X-TITLE=1418 New Rd\, Suite 4:geo:-74.567032,39.389011
END:VEVENT
BEGIN:VEVENT
DTSTART;TZID=America/New_York:20241231T183000
DTEND;TZID=America/New_York:20241231T223000
DTSTAMP:20260423T093312
CREATED:20241127T122041Z
LAST-MODIFIED:20241127T122041Z
UID:10001162-1735669800-1735684200@capeatlanticaa.org
SUMMARY:New Years Eve Celebration
DESCRIPTION:
URL:https://capeatlanticaa.org/event/new-years-eve-celebration-2/
LOCATION:Absecon United Methodist Church\, 100 Pitney Rd\, Absecon\, NJ\, 08201\, United States
GEO:39.426649;-74.4992709
X-APPLE-STRUCTURED-LOCATION;VALUE=URI;X-ADDRESS=Absecon United Methodist Church 100 Pitney Rd Absecon NJ 08201 United States;X-APPLE-RADIUS=500;X-TITLE=100 Pitney Rd:geo:-74.4992709,39.426649
END:VEVENT
BEGIN:VEVENT
DTSTART;TZID=America/New_York:20240726T070000
DTEND;TZID=America/New_York:20240726T163000
DTSTAMP:20260423T093312
CREATED:20240501T203239Z
LAST-MODIFIED:20240717T134104Z
UID:10000237-1721977200-1722011400@capeatlanticaa.org
SUMMARY:Intergroup Bus Trip to GSO - SOLD OUT!!
DESCRIPTION:SOLD OUT!! \nTo reserve your seat\, email: chairperson@capeatlanticaa.org
URL:https://capeatlanticaa.org/event/intergroup-bus-trip-to-gso/
LOCATION:Intergroup Office\, New Road\, Northfield\, NJ\, 08225\, United States
GEO:39.3732308;-74.5547204
X-APPLE-STRUCTURED-LOCATION;VALUE=URI;X-ADDRESS=Intergroup Office New Road Northfield NJ 08225 United States;X-APPLE-RADIUS=500;X-TITLE=New Road:geo:-74.5547204,39.3732308
END:VEVENT
END:VCALENDAR