BEGIN:VCALENDAR
VERSION:2.0
PRODID:-//Cape Atlantic Intergroup - ECPv6.15.20//NONSGML v1.0//EN
CALSCALE:GREGORIAN
METHOD:PUBLISH
X-ORIGINAL-URL:https://capeatlanticaa.org
X-WR-CALDESC:Events for Cape Atlantic Intergroup
REFRESH-INTERVAL;VALUE=DURATION:PT1H
X-Robots-Tag:noindex
X-PUBLISHED-TTL:PT1H
BEGIN:VTIMEZONE
TZID:America/New_York
BEGIN:DAYLIGHT
TZOFFSETFROM:-0500
TZOFFSETTO:-0400
TZNAME:EDT
DTSTART:20260308T070000
END:DAYLIGHT
BEGIN:STANDARD
TZOFFSETFROM:-0400
TZOFFSETTO:-0500
TZNAME:EST
DTSTART:20261101T060000
END:STANDARD
BEGIN:DAYLIGHT
TZOFFSETFROM:-0500
TZOFFSETTO:-0400
TZNAME:EDT
DTSTART:20270314T070000
END:DAYLIGHT
BEGIN:STANDARD
TZOFFSETFROM:-0400
TZOFFSETTO:-0500
TZNAME:EST
DTSTART:20271107T060000
END:STANDARD
BEGIN:DAYLIGHT
TZOFFSETFROM:-0500
TZOFFSETTO:-0400
TZNAME:EDT
DTSTART:20280312T070000
END:DAYLIGHT
BEGIN:STANDARD
TZOFFSETFROM:-0400
TZOFFSETTO:-0500
TZNAME:EST
DTSTART:20281105T060000
END:STANDARD
BEGIN:DAYLIGHT
TZOFFSETFROM:-0500
TZOFFSETTO:-0400
TZNAME:EDT
DTSTART:20290311T070000
END:DAYLIGHT
BEGIN:STANDARD
TZOFFSETFROM:-0400
TZOFFSETTO:-0500
TZNAME:EST
DTSTART:20291104T060000
END:STANDARD
END:VTIMEZONE
BEGIN:VEVENT
DTSTART;TZID=America/New_York:20271204T193000
DTEND;TZID=America/New_York:20271204T210000
DTSTAMP:20260423T155917
CREATED:20250414T223011Z
LAST-MODIFIED:20260304T201444Z
UID:10002544-1827948600-1827954000@capeatlanticaa.org
SUMMARY:Intergroup Business Meeting
DESCRIPTION:All members can attend the monthly Business Meeting for Intergroup\nMeeting is held monthly – 3rd Wednesday of the month. LEARN MORE \nIntergroup Reps (IGRs) from area Groups attend this meeting to hear the reports from the Intergroup Steering Panel and Committees. \nHybrid Meeting ID: 832 9623 3517   No PW \nCLICK TO JOIN MEETING
URL:https://capeatlanticaa.org/event/intergroup-business-meeting-2-2/2027-12-04/
LOCATION:CAIG Office\, 1418 New Rd\, Suite 4\, Northfield\, NJ\, 08225\, United States
CATEGORIES:>Service Meetings
GEO:39.389011;-74.567032
X-APPLE-STRUCTURED-LOCATION;VALUE=URI;X-ADDRESS=CAIG Office 1418 New Rd Suite 4 Northfield NJ 08225 United States;X-APPLE-RADIUS=500;X-TITLE=1418 New Rd\, Suite 4:geo:-74.567032,39.389011
END:VEVENT
BEGIN:VEVENT
DTSTART;TZID=America/New_York:20271208T193000
DTEND;TZID=America/New_York:20271208T210000
DTSTAMP:20260423T155917
CREATED:20250414T224052Z
LAST-MODIFIED:20250414T224052Z
UID:10001907-1828294200-1828299600@capeatlanticaa.org
SUMMARY:Intergroup Steering Meeting
DESCRIPTION:The 2nd Wednesday of the month\, at 7:30\n1418 New Rd\, Suite 4\, Northfield NJ 08225 \nMeeting ID 542 744 809   CLICK TO JOIN NOW
URL:https://capeatlanticaa.org/event/intergroup-steering-meeting/2027-12-08/
LOCATION:Intergroup Office\, New Road\, Northfield\, NJ\, 08225\, United States
GEO:39.3732308;-74.5547204
X-APPLE-STRUCTURED-LOCATION;VALUE=URI;X-ADDRESS=Intergroup Office New Road Northfield NJ 08225 United States;X-APPLE-RADIUS=500;X-TITLE=New Road:geo:-74.5547204,39.3732308
END:VEVENT
BEGIN:VEVENT
DTSTART;TZID=America/New_York:20271215T193000
DTEND;TZID=America/New_York:20271215T210000
DTSTAMP:20260423T155917
CREATED:20260305T004502Z
LAST-MODIFIED:20260305T005115Z
UID:10002600-1828899000-1828904400@capeatlanticaa.org
SUMMARY:Intergroup Business Meeting
DESCRIPTION:All members can attend the monthly Business Meeting for Intergroup Meeting is held monthly – 3rd Wednesday of the month. LEARN MORE \nIntergroup Reps (IGRs) from area Groups attend this meeting to hear the reports from the Intergroup Steering Panel and Committees. Hybrid Meeting ID: 83296233517   No PW   CLICK TO JOIN MEETING
URL:https://capeatlanticaa.org/event/intergroup-business-meeting-2-3/2027-12-15/
LOCATION:Intergroup Office\, New Road\, Northfield\, NJ\, 08225\, United States
GEO:39.3732308;-74.5547204
X-APPLE-STRUCTURED-LOCATION;VALUE=URI;X-ADDRESS=Intergroup Office New Road Northfield NJ 08225 United States;X-APPLE-RADIUS=500;X-TITLE=New Road:geo:-74.5547204,39.3732308
END:VEVENT
BEGIN:VEVENT
DTSTART;TZID=America/New_York:20280104T193000
DTEND;TZID=America/New_York:20280104T210000
DTSTAMP:20260423T155917
CREATED:20250414T223011Z
LAST-MODIFIED:20260304T201444Z
UID:10002545-1830627000-1830632400@capeatlanticaa.org
SUMMARY:Intergroup Business Meeting
DESCRIPTION:All members can attend the monthly Business Meeting for Intergroup\nMeeting is held monthly – 3rd Wednesday of the month. LEARN MORE \nIntergroup Reps (IGRs) from area Groups attend this meeting to hear the reports from the Intergroup Steering Panel and Committees. \nHybrid Meeting ID: 832 9623 3517   No PW \nCLICK TO JOIN MEETING
URL:https://capeatlanticaa.org/event/intergroup-business-meeting-2-2/2028-01-04/
LOCATION:CAIG Office\, 1418 New Rd\, Suite 4\, Northfield\, NJ\, 08225\, United States
CATEGORIES:>Service Meetings
GEO:39.389011;-74.567032
X-APPLE-STRUCTURED-LOCATION;VALUE=URI;X-ADDRESS=CAIG Office 1418 New Rd Suite 4 Northfield NJ 08225 United States;X-APPLE-RADIUS=500;X-TITLE=1418 New Rd\, Suite 4:geo:-74.567032,39.389011
END:VEVENT
BEGIN:VEVENT
DTSTART;TZID=America/New_York:20280112T193000
DTEND;TZID=America/New_York:20280112T210000
DTSTAMP:20260423T155917
CREATED:20250414T224052Z
LAST-MODIFIED:20250414T224052Z
UID:10001908-1831318200-1831323600@capeatlanticaa.org
SUMMARY:Intergroup Steering Meeting
DESCRIPTION:The 2nd Wednesday of the month\, at 7:30\n1418 New Rd\, Suite 4\, Northfield NJ 08225 \nMeeting ID 542 744 809   CLICK TO JOIN NOW
URL:https://capeatlanticaa.org/event/intergroup-steering-meeting/2028-01-12/
LOCATION:Intergroup Office\, New Road\, Northfield\, NJ\, 08225\, United States
GEO:39.3732308;-74.5547204
X-APPLE-STRUCTURED-LOCATION;VALUE=URI;X-ADDRESS=Intergroup Office New Road Northfield NJ 08225 United States;X-APPLE-RADIUS=500;X-TITLE=New Road:geo:-74.5547204,39.3732308
END:VEVENT
BEGIN:VEVENT
DTSTART;TZID=America/New_York:20280119T193000
DTEND;TZID=America/New_York:20280119T210000
DTSTAMP:20260423T155917
CREATED:20260305T004502Z
LAST-MODIFIED:20260305T005115Z
UID:10002601-1831923000-1831928400@capeatlanticaa.org
SUMMARY:Intergroup Business Meeting
DESCRIPTION:All members can attend the monthly Business Meeting for Intergroup Meeting is held monthly – 3rd Wednesday of the month. LEARN MORE \nIntergroup Reps (IGRs) from area Groups attend this meeting to hear the reports from the Intergroup Steering Panel and Committees. Hybrid Meeting ID: 83296233517   No PW   CLICK TO JOIN MEETING
URL:https://capeatlanticaa.org/event/intergroup-business-meeting-2-3/2028-01-19/
LOCATION:Intergroup Office\, New Road\, Northfield\, NJ\, 08225\, United States
GEO:39.3732308;-74.5547204
X-APPLE-STRUCTURED-LOCATION;VALUE=URI;X-ADDRESS=Intergroup Office New Road Northfield NJ 08225 United States;X-APPLE-RADIUS=500;X-TITLE=New Road:geo:-74.5547204,39.3732308
END:VEVENT
BEGIN:VEVENT
DTSTART;TZID=America/New_York:20280204T193000
DTEND;TZID=America/New_York:20280204T210000
DTSTAMP:20260423T155917
CREATED:20250414T223011Z
LAST-MODIFIED:20260304T201444Z
UID:10002546-1833305400-1833310800@capeatlanticaa.org
SUMMARY:Intergroup Business Meeting
DESCRIPTION:All members can attend the monthly Business Meeting for Intergroup\nMeeting is held monthly – 3rd Wednesday of the month. LEARN MORE \nIntergroup Reps (IGRs) from area Groups attend this meeting to hear the reports from the Intergroup Steering Panel and Committees. \nHybrid Meeting ID: 832 9623 3517   No PW \nCLICK TO JOIN MEETING
URL:https://capeatlanticaa.org/event/intergroup-business-meeting-2-2/2028-02-04/
LOCATION:CAIG Office\, 1418 New Rd\, Suite 4\, Northfield\, NJ\, 08225\, United States
CATEGORIES:>Service Meetings
GEO:39.389011;-74.567032
X-APPLE-STRUCTURED-LOCATION;VALUE=URI;X-ADDRESS=CAIG Office 1418 New Rd Suite 4 Northfield NJ 08225 United States;X-APPLE-RADIUS=500;X-TITLE=1418 New Rd\, Suite 4:geo:-74.567032,39.389011
END:VEVENT
BEGIN:VEVENT
DTSTART;TZID=America/New_York:20280209T193000
DTEND;TZID=America/New_York:20280209T210000
DTSTAMP:20260423T155917
CREATED:20250414T224052Z
LAST-MODIFIED:20250414T224052Z
UID:10001909-1833737400-1833742800@capeatlanticaa.org
SUMMARY:Intergroup Steering Meeting
DESCRIPTION:The 2nd Wednesday of the month\, at 7:30\n1418 New Rd\, Suite 4\, Northfield NJ 08225 \nMeeting ID 542 744 809   CLICK TO JOIN NOW
URL:https://capeatlanticaa.org/event/intergroup-steering-meeting/2028-02-09/
LOCATION:Intergroup Office\, New Road\, Northfield\, NJ\, 08225\, United States
GEO:39.3732308;-74.5547204
X-APPLE-STRUCTURED-LOCATION;VALUE=URI;X-ADDRESS=Intergroup Office New Road Northfield NJ 08225 United States;X-APPLE-RADIUS=500;X-TITLE=New Road:geo:-74.5547204,39.3732308
END:VEVENT
BEGIN:VEVENT
DTSTART;TZID=America/New_York:20280216T193000
DTEND;TZID=America/New_York:20280216T210000
DTSTAMP:20260423T155917
CREATED:20260305T004502Z
LAST-MODIFIED:20260305T005115Z
UID:10002602-1834342200-1834347600@capeatlanticaa.org
SUMMARY:Intergroup Business Meeting
DESCRIPTION:All members can attend the monthly Business Meeting for Intergroup Meeting is held monthly – 3rd Wednesday of the month. LEARN MORE \nIntergroup Reps (IGRs) from area Groups attend this meeting to hear the reports from the Intergroup Steering Panel and Committees. Hybrid Meeting ID: 83296233517   No PW   CLICK TO JOIN MEETING
URL:https://capeatlanticaa.org/event/intergroup-business-meeting-2-3/2028-02-16/
LOCATION:Intergroup Office\, New Road\, Northfield\, NJ\, 08225\, United States
GEO:39.3732308;-74.5547204
X-APPLE-STRUCTURED-LOCATION;VALUE=URI;X-ADDRESS=Intergroup Office New Road Northfield NJ 08225 United States;X-APPLE-RADIUS=500;X-TITLE=New Road:geo:-74.5547204,39.3732308
END:VEVENT
BEGIN:VEVENT
DTSTART;TZID=America/New_York:20280304T193000
DTEND;TZID=America/New_York:20280304T210000
DTSTAMP:20260423T155917
CREATED:20250414T223011Z
LAST-MODIFIED:20260304T201444Z
UID:10002547-1835811000-1835816400@capeatlanticaa.org
SUMMARY:Intergroup Business Meeting
DESCRIPTION:All members can attend the monthly Business Meeting for Intergroup\nMeeting is held monthly – 3rd Wednesday of the month. LEARN MORE \nIntergroup Reps (IGRs) from area Groups attend this meeting to hear the reports from the Intergroup Steering Panel and Committees. \nHybrid Meeting ID: 832 9623 3517   No PW \nCLICK TO JOIN MEETING
URL:https://capeatlanticaa.org/event/intergroup-business-meeting-2-2/2028-03-04/
LOCATION:CAIG Office\, 1418 New Rd\, Suite 4\, Northfield\, NJ\, 08225\, United States
CATEGORIES:>Service Meetings
GEO:39.389011;-74.567032
X-APPLE-STRUCTURED-LOCATION;VALUE=URI;X-ADDRESS=CAIG Office 1418 New Rd Suite 4 Northfield NJ 08225 United States;X-APPLE-RADIUS=500;X-TITLE=1418 New Rd\, Suite 4:geo:-74.567032,39.389011
END:VEVENT
BEGIN:VEVENT
DTSTART;TZID=America/New_York:20280308T193000
DTEND;TZID=America/New_York:20280308T210000
DTSTAMP:20260423T155917
CREATED:20250414T224052Z
LAST-MODIFIED:20250414T224052Z
UID:10001910-1836156600-1836162000@capeatlanticaa.org
SUMMARY:Intergroup Steering Meeting
DESCRIPTION:The 2nd Wednesday of the month\, at 7:30\n1418 New Rd\, Suite 4\, Northfield NJ 08225 \nMeeting ID 542 744 809   CLICK TO JOIN NOW
URL:https://capeatlanticaa.org/event/intergroup-steering-meeting/2028-03-08/
LOCATION:Intergroup Office\, New Road\, Northfield\, NJ\, 08225\, United States
GEO:39.3732308;-74.5547204
X-APPLE-STRUCTURED-LOCATION;VALUE=URI;X-ADDRESS=Intergroup Office New Road Northfield NJ 08225 United States;X-APPLE-RADIUS=500;X-TITLE=New Road:geo:-74.5547204,39.3732308
END:VEVENT
BEGIN:VEVENT
DTSTART;TZID=America/New_York:20280315T193000
DTEND;TZID=America/New_York:20280315T210000
DTSTAMP:20260423T155917
CREATED:20260305T004502Z
LAST-MODIFIED:20260305T005115Z
UID:10002603-1836761400-1836766800@capeatlanticaa.org
SUMMARY:Intergroup Business Meeting
DESCRIPTION:All members can attend the monthly Business Meeting for Intergroup Meeting is held monthly – 3rd Wednesday of the month. LEARN MORE \nIntergroup Reps (IGRs) from area Groups attend this meeting to hear the reports from the Intergroup Steering Panel and Committees. Hybrid Meeting ID: 83296233517   No PW   CLICK TO JOIN MEETING
URL:https://capeatlanticaa.org/event/intergroup-business-meeting-2-3/2028-03-15/
LOCATION:Intergroup Office\, New Road\, Northfield\, NJ\, 08225\, United States
GEO:39.3732308;-74.5547204
X-APPLE-STRUCTURED-LOCATION;VALUE=URI;X-ADDRESS=Intergroup Office New Road Northfield NJ 08225 United States;X-APPLE-RADIUS=500;X-TITLE=New Road:geo:-74.5547204,39.3732308
END:VEVENT
BEGIN:VEVENT
DTSTART;TZID=America/New_York:20280404T193000
DTEND;TZID=America/New_York:20280404T210000
DTSTAMP:20260423T155917
CREATED:20250414T223011Z
LAST-MODIFIED:20260304T201444Z
UID:10002548-1838489400-1838494800@capeatlanticaa.org
SUMMARY:Intergroup Business Meeting
DESCRIPTION:All members can attend the monthly Business Meeting for Intergroup\nMeeting is held monthly – 3rd Wednesday of the month. LEARN MORE \nIntergroup Reps (IGRs) from area Groups attend this meeting to hear the reports from the Intergroup Steering Panel and Committees. \nHybrid Meeting ID: 832 9623 3517   No PW \nCLICK TO JOIN MEETING
URL:https://capeatlanticaa.org/event/intergroup-business-meeting-2-2/2028-04-04/
LOCATION:CAIG Office\, 1418 New Rd\, Suite 4\, Northfield\, NJ\, 08225\, United States
CATEGORIES:>Service Meetings
GEO:39.389011;-74.567032
X-APPLE-STRUCTURED-LOCATION;VALUE=URI;X-ADDRESS=CAIG Office 1418 New Rd Suite 4 Northfield NJ 08225 United States;X-APPLE-RADIUS=500;X-TITLE=1418 New Rd\, Suite 4:geo:-74.567032,39.389011
END:VEVENT
BEGIN:VEVENT
DTSTART;TZID=America/New_York:20280412T193000
DTEND;TZID=America/New_York:20280412T210000
DTSTAMP:20260423T155917
CREATED:20250414T224052Z
LAST-MODIFIED:20250414T224052Z
UID:10001911-1839180600-1839186000@capeatlanticaa.org
SUMMARY:Intergroup Steering Meeting
DESCRIPTION:The 2nd Wednesday of the month\, at 7:30\n1418 New Rd\, Suite 4\, Northfield NJ 08225 \nMeeting ID 542 744 809   CLICK TO JOIN NOW
URL:https://capeatlanticaa.org/event/intergroup-steering-meeting/2028-04-12/
LOCATION:Intergroup Office\, New Road\, Northfield\, NJ\, 08225\, United States
GEO:39.3732308;-74.5547204
X-APPLE-STRUCTURED-LOCATION;VALUE=URI;X-ADDRESS=Intergroup Office New Road Northfield NJ 08225 United States;X-APPLE-RADIUS=500;X-TITLE=New Road:geo:-74.5547204,39.3732308
END:VEVENT
BEGIN:VEVENT
DTSTART;TZID=America/New_York:20280419T193000
DTEND;TZID=America/New_York:20280419T210000
DTSTAMP:20260423T155917
CREATED:20260305T004502Z
LAST-MODIFIED:20260305T005115Z
UID:10002604-1839785400-1839790800@capeatlanticaa.org
SUMMARY:Intergroup Business Meeting
DESCRIPTION:All members can attend the monthly Business Meeting for Intergroup Meeting is held monthly – 3rd Wednesday of the month. LEARN MORE \nIntergroup Reps (IGRs) from area Groups attend this meeting to hear the reports from the Intergroup Steering Panel and Committees. Hybrid Meeting ID: 83296233517   No PW   CLICK TO JOIN MEETING
URL:https://capeatlanticaa.org/event/intergroup-business-meeting-2-3/2028-04-19/
LOCATION:Intergroup Office\, New Road\, Northfield\, NJ\, 08225\, United States
GEO:39.3732308;-74.5547204
X-APPLE-STRUCTURED-LOCATION;VALUE=URI;X-ADDRESS=Intergroup Office New Road Northfield NJ 08225 United States;X-APPLE-RADIUS=500;X-TITLE=New Road:geo:-74.5547204,39.3732308
END:VEVENT
BEGIN:VEVENT
DTSTART;TZID=America/New_York:20280504T193000
DTEND;TZID=America/New_York:20280504T210000
DTSTAMP:20260423T155917
CREATED:20250414T223011Z
LAST-MODIFIED:20260304T201444Z
UID:10002549-1841081400-1841086800@capeatlanticaa.org
SUMMARY:Intergroup Business Meeting
DESCRIPTION:All members can attend the monthly Business Meeting for Intergroup\nMeeting is held monthly – 3rd Wednesday of the month. LEARN MORE \nIntergroup Reps (IGRs) from area Groups attend this meeting to hear the reports from the Intergroup Steering Panel and Committees. \nHybrid Meeting ID: 832 9623 3517   No PW \nCLICK TO JOIN MEETING
URL:https://capeatlanticaa.org/event/intergroup-business-meeting-2-2/2028-05-04/
LOCATION:CAIG Office\, 1418 New Rd\, Suite 4\, Northfield\, NJ\, 08225\, United States
CATEGORIES:>Service Meetings
GEO:39.389011;-74.567032
X-APPLE-STRUCTURED-LOCATION;VALUE=URI;X-ADDRESS=CAIG Office 1418 New Rd Suite 4 Northfield NJ 08225 United States;X-APPLE-RADIUS=500;X-TITLE=1418 New Rd\, Suite 4:geo:-74.567032,39.389011
END:VEVENT
BEGIN:VEVENT
DTSTART;TZID=America/New_York:20280510T193000
DTEND;TZID=America/New_York:20280510T210000
DTSTAMP:20260423T155917
CREATED:20250414T224052Z
LAST-MODIFIED:20250414T224052Z
UID:10001912-1841599800-1841605200@capeatlanticaa.org
SUMMARY:Intergroup Steering Meeting
DESCRIPTION:The 2nd Wednesday of the month\, at 7:30\n1418 New Rd\, Suite 4\, Northfield NJ 08225 \nMeeting ID 542 744 809   CLICK TO JOIN NOW
URL:https://capeatlanticaa.org/event/intergroup-steering-meeting/2028-05-10/
LOCATION:Intergroup Office\, New Road\, Northfield\, NJ\, 08225\, United States
GEO:39.3732308;-74.5547204
X-APPLE-STRUCTURED-LOCATION;VALUE=URI;X-ADDRESS=Intergroup Office New Road Northfield NJ 08225 United States;X-APPLE-RADIUS=500;X-TITLE=New Road:geo:-74.5547204,39.3732308
END:VEVENT
BEGIN:VEVENT
DTSTART;TZID=America/New_York:20280517T193000
DTEND;TZID=America/New_York:20280517T210000
DTSTAMP:20260423T155917
CREATED:20260305T004502Z
LAST-MODIFIED:20260305T005115Z
UID:10002605-1842204600-1842210000@capeatlanticaa.org
SUMMARY:Intergroup Business Meeting
DESCRIPTION:All members can attend the monthly Business Meeting for Intergroup Meeting is held monthly – 3rd Wednesday of the month. LEARN MORE \nIntergroup Reps (IGRs) from area Groups attend this meeting to hear the reports from the Intergroup Steering Panel and Committees. Hybrid Meeting ID: 83296233517   No PW   CLICK TO JOIN MEETING
URL:https://capeatlanticaa.org/event/intergroup-business-meeting-2-3/2028-05-17/
LOCATION:Intergroup Office\, New Road\, Northfield\, NJ\, 08225\, United States
GEO:39.3732308;-74.5547204
X-APPLE-STRUCTURED-LOCATION;VALUE=URI;X-ADDRESS=Intergroup Office New Road Northfield NJ 08225 United States;X-APPLE-RADIUS=500;X-TITLE=New Road:geo:-74.5547204,39.3732308
END:VEVENT
BEGIN:VEVENT
DTSTART;TZID=America/New_York:20280604T193000
DTEND;TZID=America/New_York:20280604T210000
DTSTAMP:20260423T155917
CREATED:20250414T223011Z
LAST-MODIFIED:20260304T201444Z
UID:10002550-1843759800-1843765200@capeatlanticaa.org
SUMMARY:Intergroup Business Meeting
DESCRIPTION:All members can attend the monthly Business Meeting for Intergroup\nMeeting is held monthly – 3rd Wednesday of the month. LEARN MORE \nIntergroup Reps (IGRs) from area Groups attend this meeting to hear the reports from the Intergroup Steering Panel and Committees. \nHybrid Meeting ID: 832 9623 3517   No PW \nCLICK TO JOIN MEETING
URL:https://capeatlanticaa.org/event/intergroup-business-meeting-2-2/2028-06-04/
LOCATION:CAIG Office\, 1418 New Rd\, Suite 4\, Northfield\, NJ\, 08225\, United States
CATEGORIES:>Service Meetings
GEO:39.389011;-74.567032
X-APPLE-STRUCTURED-LOCATION;VALUE=URI;X-ADDRESS=CAIG Office 1418 New Rd Suite 4 Northfield NJ 08225 United States;X-APPLE-RADIUS=500;X-TITLE=1418 New Rd\, Suite 4:geo:-74.567032,39.389011
END:VEVENT
BEGIN:VEVENT
DTSTART;TZID=America/New_York:20280614T193000
DTEND;TZID=America/New_York:20280614T210000
DTSTAMP:20260423T155917
CREATED:20250414T224052Z
LAST-MODIFIED:20250414T224052Z
UID:10001913-1844623800-1844629200@capeatlanticaa.org
SUMMARY:Intergroup Steering Meeting
DESCRIPTION:The 2nd Wednesday of the month\, at 7:30\n1418 New Rd\, Suite 4\, Northfield NJ 08225 \nMeeting ID 542 744 809   CLICK TO JOIN NOW
URL:https://capeatlanticaa.org/event/intergroup-steering-meeting/2028-06-14/
LOCATION:Intergroup Office\, New Road\, Northfield\, NJ\, 08225\, United States
GEO:39.3732308;-74.5547204
X-APPLE-STRUCTURED-LOCATION;VALUE=URI;X-ADDRESS=Intergroup Office New Road Northfield NJ 08225 United States;X-APPLE-RADIUS=500;X-TITLE=New Road:geo:-74.5547204,39.3732308
END:VEVENT
BEGIN:VEVENT
DTSTART;TZID=America/New_York:20280621T193000
DTEND;TZID=America/New_York:20280621T210000
DTSTAMP:20260423T155917
CREATED:20260305T004502Z
LAST-MODIFIED:20260305T005115Z
UID:10002606-1845228600-1845234000@capeatlanticaa.org
SUMMARY:Intergroup Business Meeting
DESCRIPTION:All members can attend the monthly Business Meeting for Intergroup Meeting is held monthly – 3rd Wednesday of the month. LEARN MORE \nIntergroup Reps (IGRs) from area Groups attend this meeting to hear the reports from the Intergroup Steering Panel and Committees. Hybrid Meeting ID: 83296233517   No PW   CLICK TO JOIN MEETING
URL:https://capeatlanticaa.org/event/intergroup-business-meeting-2-3/2028-06-21/
LOCATION:Intergroup Office\, New Road\, Northfield\, NJ\, 08225\, United States
GEO:39.3732308;-74.5547204
X-APPLE-STRUCTURED-LOCATION;VALUE=URI;X-ADDRESS=Intergroup Office New Road Northfield NJ 08225 United States;X-APPLE-RADIUS=500;X-TITLE=New Road:geo:-74.5547204,39.3732308
END:VEVENT
BEGIN:VEVENT
DTSTART;TZID=America/New_York:20280704T193000
DTEND;TZID=America/New_York:20280704T210000
DTSTAMP:20260423T155917
CREATED:20250414T223011Z
LAST-MODIFIED:20260304T201444Z
UID:10002551-1846351800-1846357200@capeatlanticaa.org
SUMMARY:Intergroup Business Meeting
DESCRIPTION:All members can attend the monthly Business Meeting for Intergroup\nMeeting is held monthly – 3rd Wednesday of the month. LEARN MORE \nIntergroup Reps (IGRs) from area Groups attend this meeting to hear the reports from the Intergroup Steering Panel and Committees. \nHybrid Meeting ID: 832 9623 3517   No PW \nCLICK TO JOIN MEETING
URL:https://capeatlanticaa.org/event/intergroup-business-meeting-2-2/2028-07-04/
LOCATION:CAIG Office\, 1418 New Rd\, Suite 4\, Northfield\, NJ\, 08225\, United States
CATEGORIES:>Service Meetings
GEO:39.389011;-74.567032
X-APPLE-STRUCTURED-LOCATION;VALUE=URI;X-ADDRESS=CAIG Office 1418 New Rd Suite 4 Northfield NJ 08225 United States;X-APPLE-RADIUS=500;X-TITLE=1418 New Rd\, Suite 4:geo:-74.567032,39.389011
END:VEVENT
BEGIN:VEVENT
DTSTART;TZID=America/New_York:20280712T193000
DTEND;TZID=America/New_York:20280712T210000
DTSTAMP:20260423T155917
CREATED:20250414T224052Z
LAST-MODIFIED:20250414T224052Z
UID:10001914-1847043000-1847048400@capeatlanticaa.org
SUMMARY:Intergroup Steering Meeting
DESCRIPTION:The 2nd Wednesday of the month\, at 7:30\n1418 New Rd\, Suite 4\, Northfield NJ 08225 \nMeeting ID 542 744 809   CLICK TO JOIN NOW
URL:https://capeatlanticaa.org/event/intergroup-steering-meeting/2028-07-12/
LOCATION:Intergroup Office\, New Road\, Northfield\, NJ\, 08225\, United States
GEO:39.3732308;-74.5547204
X-APPLE-STRUCTURED-LOCATION;VALUE=URI;X-ADDRESS=Intergroup Office New Road Northfield NJ 08225 United States;X-APPLE-RADIUS=500;X-TITLE=New Road:geo:-74.5547204,39.3732308
END:VEVENT
BEGIN:VEVENT
DTSTART;TZID=America/New_York:20280719T193000
DTEND;TZID=America/New_York:20280719T210000
DTSTAMP:20260423T155917
CREATED:20260305T004502Z
LAST-MODIFIED:20260305T005115Z
UID:10002607-1847647800-1847653200@capeatlanticaa.org
SUMMARY:Intergroup Business Meeting
DESCRIPTION:All members can attend the monthly Business Meeting for Intergroup Meeting is held monthly – 3rd Wednesday of the month. LEARN MORE \nIntergroup Reps (IGRs) from area Groups attend this meeting to hear the reports from the Intergroup Steering Panel and Committees. Hybrid Meeting ID: 83296233517   No PW   CLICK TO JOIN MEETING
URL:https://capeatlanticaa.org/event/intergroup-business-meeting-2-3/2028-07-19/
LOCATION:Intergroup Office\, New Road\, Northfield\, NJ\, 08225\, United States
GEO:39.3732308;-74.5547204
X-APPLE-STRUCTURED-LOCATION;VALUE=URI;X-ADDRESS=Intergroup Office New Road Northfield NJ 08225 United States;X-APPLE-RADIUS=500;X-TITLE=New Road:geo:-74.5547204,39.3732308
END:VEVENT
BEGIN:VEVENT
DTSTART;TZID=America/New_York:20280804T193000
DTEND;TZID=America/New_York:20280804T210000
DTSTAMP:20260423T155917
CREATED:20250414T223011Z
LAST-MODIFIED:20260304T201444Z
UID:10002552-1849030200-1849035600@capeatlanticaa.org
SUMMARY:Intergroup Business Meeting
DESCRIPTION:All members can attend the monthly Business Meeting for Intergroup\nMeeting is held monthly – 3rd Wednesday of the month. LEARN MORE \nIntergroup Reps (IGRs) from area Groups attend this meeting to hear the reports from the Intergroup Steering Panel and Committees. \nHybrid Meeting ID: 832 9623 3517   No PW \nCLICK TO JOIN MEETING
URL:https://capeatlanticaa.org/event/intergroup-business-meeting-2-2/2028-08-04/
LOCATION:CAIG Office\, 1418 New Rd\, Suite 4\, Northfield\, NJ\, 08225\, United States
CATEGORIES:>Service Meetings
GEO:39.389011;-74.567032
X-APPLE-STRUCTURED-LOCATION;VALUE=URI;X-ADDRESS=CAIG Office 1418 New Rd Suite 4 Northfield NJ 08225 United States;X-APPLE-RADIUS=500;X-TITLE=1418 New Rd\, Suite 4:geo:-74.567032,39.389011
END:VEVENT
BEGIN:VEVENT
DTSTART;TZID=America/New_York:20280809T193000
DTEND;TZID=America/New_York:20280809T210000
DTSTAMP:20260423T155917
CREATED:20250414T224052Z
LAST-MODIFIED:20250414T224052Z
UID:10001915-1849462200-1849467600@capeatlanticaa.org
SUMMARY:Intergroup Steering Meeting
DESCRIPTION:The 2nd Wednesday of the month\, at 7:30\n1418 New Rd\, Suite 4\, Northfield NJ 08225 \nMeeting ID 542 744 809   CLICK TO JOIN NOW
URL:https://capeatlanticaa.org/event/intergroup-steering-meeting/2028-08-09/
LOCATION:Intergroup Office\, New Road\, Northfield\, NJ\, 08225\, United States
GEO:39.3732308;-74.5547204
X-APPLE-STRUCTURED-LOCATION;VALUE=URI;X-ADDRESS=Intergroup Office New Road Northfield NJ 08225 United States;X-APPLE-RADIUS=500;X-TITLE=New Road:geo:-74.5547204,39.3732308
END:VEVENT
BEGIN:VEVENT
DTSTART;TZID=America/New_York:20280816T193000
DTEND;TZID=America/New_York:20280816T210000
DTSTAMP:20260423T155917
CREATED:20260305T004502Z
LAST-MODIFIED:20260305T005115Z
UID:10002608-1850067000-1850072400@capeatlanticaa.org
SUMMARY:Intergroup Business Meeting
DESCRIPTION:All members can attend the monthly Business Meeting for Intergroup Meeting is held monthly – 3rd Wednesday of the month. LEARN MORE \nIntergroup Reps (IGRs) from area Groups attend this meeting to hear the reports from the Intergroup Steering Panel and Committees. Hybrid Meeting ID: 83296233517   No PW   CLICK TO JOIN MEETING
URL:https://capeatlanticaa.org/event/intergroup-business-meeting-2-3/2028-08-16/
LOCATION:Intergroup Office\, New Road\, Northfield\, NJ\, 08225\, United States
GEO:39.3732308;-74.5547204
X-APPLE-STRUCTURED-LOCATION;VALUE=URI;X-ADDRESS=Intergroup Office New Road Northfield NJ 08225 United States;X-APPLE-RADIUS=500;X-TITLE=New Road:geo:-74.5547204,39.3732308
END:VEVENT
BEGIN:VEVENT
DTSTART;TZID=America/New_York:20280904T193000
DTEND;TZID=America/New_York:20280904T210000
DTSTAMP:20260423T155917
CREATED:20250414T223011Z
LAST-MODIFIED:20260304T201444Z
UID:10001855-1851708600-1851714000@capeatlanticaa.org
SUMMARY:Intergroup Business Meeting
DESCRIPTION:All members can attend the monthly Business Meeting for Intergroup\nMeeting is held monthly – 3rd Wednesday of the month. LEARN MORE \nIntergroup Reps (IGRs) from area Groups attend this meeting to hear the reports from the Intergroup Steering Panel and Committees. \nHybrid Meeting ID: 832 9623 3517   No PW \nCLICK TO JOIN MEETING
URL:https://capeatlanticaa.org/event/intergroup-business-meeting-2-2/2028-09-04/
LOCATION:CAIG Office\, 1418 New Rd\, Suite 4\, Northfield\, NJ\, 08225\, United States
CATEGORIES:>Service Meetings
GEO:39.389011;-74.567032
X-APPLE-STRUCTURED-LOCATION;VALUE=URI;X-ADDRESS=CAIG Office 1418 New Rd Suite 4 Northfield NJ 08225 United States;X-APPLE-RADIUS=500;X-TITLE=1418 New Rd\, Suite 4:geo:-74.567032,39.389011
END:VEVENT
BEGIN:VEVENT
DTSTART;TZID=America/New_York:20280913T193000
DTEND;TZID=America/New_York:20280913T210000
DTSTAMP:20260423T155917
CREATED:20250414T224052Z
LAST-MODIFIED:20250414T224052Z
UID:10001916-1852486200-1852491600@capeatlanticaa.org
SUMMARY:Intergroup Steering Meeting
DESCRIPTION:The 2nd Wednesday of the month\, at 7:30\n1418 New Rd\, Suite 4\, Northfield NJ 08225 \nMeeting ID 542 744 809   CLICK TO JOIN NOW
URL:https://capeatlanticaa.org/event/intergroup-steering-meeting/2028-09-13/
LOCATION:Intergroup Office\, New Road\, Northfield\, NJ\, 08225\, United States
GEO:39.3732308;-74.5547204
X-APPLE-STRUCTURED-LOCATION;VALUE=URI;X-ADDRESS=Intergroup Office New Road Northfield NJ 08225 United States;X-APPLE-RADIUS=500;X-TITLE=New Road:geo:-74.5547204,39.3732308
END:VEVENT
BEGIN:VEVENT
DTSTART;TZID=America/New_York:20280920T193000
DTEND;TZID=America/New_York:20280920T210000
DTSTAMP:20260423T155917
CREATED:20260305T004502Z
LAST-MODIFIED:20260305T005115Z
UID:10002609-1853091000-1853096400@capeatlanticaa.org
SUMMARY:Intergroup Business Meeting
DESCRIPTION:All members can attend the monthly Business Meeting for Intergroup Meeting is held monthly – 3rd Wednesday of the month. LEARN MORE \nIntergroup Reps (IGRs) from area Groups attend this meeting to hear the reports from the Intergroup Steering Panel and Committees. Hybrid Meeting ID: 83296233517   No PW   CLICK TO JOIN MEETING
URL:https://capeatlanticaa.org/event/intergroup-business-meeting-2-3/2028-09-20/
LOCATION:Intergroup Office\, New Road\, Northfield\, NJ\, 08225\, United States
GEO:39.3732308;-74.5547204
X-APPLE-STRUCTURED-LOCATION;VALUE=URI;X-ADDRESS=Intergroup Office New Road Northfield NJ 08225 United States;X-APPLE-RADIUS=500;X-TITLE=New Road:geo:-74.5547204,39.3732308
END:VEVENT
END:VCALENDAR