BEGIN:VCALENDAR
VERSION:2.0
PRODID:-//Cape Atlantic Intergroup - ECPv6.15.20//NONSGML v1.0//EN
CALSCALE:GREGORIAN
METHOD:PUBLISH
X-WR-CALNAME:Cape Atlantic Intergroup
X-ORIGINAL-URL:https://capeatlanticaa.org
X-WR-CALDESC:Events for Cape Atlantic Intergroup
REFRESH-INTERVAL;VALUE=DURATION:PT1H
X-Robots-Tag:noindex
X-PUBLISHED-TTL:PT1H
BEGIN:VTIMEZONE
TZID:America/New_York
BEGIN:DAYLIGHT
TZOFFSETFROM:-0500
TZOFFSETTO:-0400
TZNAME:EDT
DTSTART:20270314T070000
END:DAYLIGHT
BEGIN:STANDARD
TZOFFSETFROM:-0400
TZOFFSETTO:-0500
TZNAME:EST
DTSTART:20271107T060000
END:STANDARD
BEGIN:DAYLIGHT
TZOFFSETFROM:-0500
TZOFFSETTO:-0400
TZNAME:EDT
DTSTART:20280312T070000
END:DAYLIGHT
BEGIN:STANDARD
TZOFFSETFROM:-0400
TZOFFSETTO:-0500
TZNAME:EST
DTSTART:20281105T060000
END:STANDARD
BEGIN:DAYLIGHT
TZOFFSETFROM:-0500
TZOFFSETTO:-0400
TZNAME:EDT
DTSTART:20290311T070000
END:DAYLIGHT
BEGIN:STANDARD
TZOFFSETFROM:-0400
TZOFFSETTO:-0500
TZNAME:EST
DTSTART:20291104T060000
END:STANDARD
BEGIN:DAYLIGHT
TZOFFSETFROM:-0500
TZOFFSETTO:-0400
TZNAME:EDT
DTSTART:20300310T070000
END:DAYLIGHT
BEGIN:STANDARD
TZOFFSETFROM:-0400
TZOFFSETTO:-0500
TZNAME:EST
DTSTART:20301103T060000
END:STANDARD
END:VTIMEZONE
BEGIN:VEVENT
DTSTART;TZID=America/New_York:20281004T193000
DTEND;TZID=America/New_York:20281004T210000
DTSTAMP:20260423T204144
CREATED:20250414T223011Z
LAST-MODIFIED:20260304T201444Z
UID:10002553-1854300600-1854306000@capeatlanticaa.org
SUMMARY:Intergroup Business Meeting
DESCRIPTION:All members can attend the monthly Business Meeting for Intergroup\nMeeting is held monthly – 3rd Wednesday of the month. LEARN MORE \nIntergroup Reps (IGRs) from area Groups attend this meeting to hear the reports from the Intergroup Steering Panel and Committees. \nHybrid Meeting ID: 832 9623 3517   No PW \nCLICK TO JOIN MEETING
URL:https://capeatlanticaa.org/event/intergroup-business-meeting-2-2/2028-10-04/
LOCATION:CAIG Office\, 1418 New Rd\, Suite 4\, Northfield\, NJ\, 08225\, United States
CATEGORIES:>Service Meetings
GEO:39.389011;-74.567032
X-APPLE-STRUCTURED-LOCATION;VALUE=URI;X-ADDRESS=CAIG Office 1418 New Rd Suite 4 Northfield NJ 08225 United States;X-APPLE-RADIUS=500;X-TITLE=1418 New Rd\, Suite 4:geo:-74.567032,39.389011
END:VEVENT
BEGIN:VEVENT
DTSTART;TZID=America/New_York:20281011T193000
DTEND;TZID=America/New_York:20281011T210000
DTSTAMP:20260423T204144
CREATED:20250414T224052Z
LAST-MODIFIED:20250414T224052Z
UID:10001917-1854905400-1854910800@capeatlanticaa.org
SUMMARY:Intergroup Steering Meeting
DESCRIPTION:The 2nd Wednesday of the month\, at 7:30\n1418 New Rd\, Suite 4\, Northfield NJ 08225 \nMeeting ID 542 744 809   CLICK TO JOIN NOW
URL:https://capeatlanticaa.org/event/intergroup-steering-meeting/2028-10-11/
LOCATION:Intergroup Office\, New Road\, Northfield\, NJ\, 08225\, United States
GEO:39.3732308;-74.5547204
X-APPLE-STRUCTURED-LOCATION;VALUE=URI;X-ADDRESS=Intergroup Office New Road Northfield NJ 08225 United States;X-APPLE-RADIUS=500;X-TITLE=New Road:geo:-74.5547204,39.3732308
END:VEVENT
BEGIN:VEVENT
DTSTART;TZID=America/New_York:20281018T193000
DTEND;TZID=America/New_York:20281018T210000
DTSTAMP:20260423T204144
CREATED:20260305T004502Z
LAST-MODIFIED:20260305T005115Z
UID:10002610-1855510200-1855515600@capeatlanticaa.org
SUMMARY:Intergroup Business Meeting
DESCRIPTION:All members can attend the monthly Business Meeting for Intergroup Meeting is held monthly – 3rd Wednesday of the month. LEARN MORE \nIntergroup Reps (IGRs) from area Groups attend this meeting to hear the reports from the Intergroup Steering Panel and Committees. Hybrid Meeting ID: 83296233517   No PW   CLICK TO JOIN MEETING
URL:https://capeatlanticaa.org/event/intergroup-business-meeting-2-3/2028-10-18/
LOCATION:Intergroup Office\, New Road\, Northfield\, NJ\, 08225\, United States
GEO:39.3732308;-74.5547204
X-APPLE-STRUCTURED-LOCATION;VALUE=URI;X-ADDRESS=Intergroup Office New Road Northfield NJ 08225 United States;X-APPLE-RADIUS=500;X-TITLE=New Road:geo:-74.5547204,39.3732308
END:VEVENT
BEGIN:VEVENT
DTSTART;TZID=America/New_York:20281104T193000
DTEND;TZID=America/New_York:20281104T210000
DTSTAMP:20260423T204144
CREATED:20250414T223011Z
LAST-MODIFIED:20260304T201444Z
UID:10002554-1856979000-1856984400@capeatlanticaa.org
SUMMARY:Intergroup Business Meeting
DESCRIPTION:All members can attend the monthly Business Meeting for Intergroup\nMeeting is held monthly – 3rd Wednesday of the month. LEARN MORE \nIntergroup Reps (IGRs) from area Groups attend this meeting to hear the reports from the Intergroup Steering Panel and Committees. \nHybrid Meeting ID: 832 9623 3517   No PW \nCLICK TO JOIN MEETING
URL:https://capeatlanticaa.org/event/intergroup-business-meeting-2-2/2028-11-04/
LOCATION:CAIG Office\, 1418 New Rd\, Suite 4\, Northfield\, NJ\, 08225\, United States
CATEGORIES:>Service Meetings
GEO:39.389011;-74.567032
X-APPLE-STRUCTURED-LOCATION;VALUE=URI;X-ADDRESS=CAIG Office 1418 New Rd Suite 4 Northfield NJ 08225 United States;X-APPLE-RADIUS=500;X-TITLE=1418 New Rd\, Suite 4:geo:-74.567032,39.389011
END:VEVENT
BEGIN:VEVENT
DTSTART;TZID=America/New_York:20281108T193000
DTEND;TZID=America/New_York:20281108T210000
DTSTAMP:20260423T204144
CREATED:20250414T224052Z
LAST-MODIFIED:20250414T224052Z
UID:10001918-1857324600-1857330000@capeatlanticaa.org
SUMMARY:Intergroup Steering Meeting
DESCRIPTION:The 2nd Wednesday of the month\, at 7:30\n1418 New Rd\, Suite 4\, Northfield NJ 08225 \nMeeting ID 542 744 809   CLICK TO JOIN NOW
URL:https://capeatlanticaa.org/event/intergroup-steering-meeting/2028-11-08/
LOCATION:Intergroup Office\, New Road\, Northfield\, NJ\, 08225\, United States
GEO:39.3732308;-74.5547204
X-APPLE-STRUCTURED-LOCATION;VALUE=URI;X-ADDRESS=Intergroup Office New Road Northfield NJ 08225 United States;X-APPLE-RADIUS=500;X-TITLE=New Road:geo:-74.5547204,39.3732308
END:VEVENT
BEGIN:VEVENT
DTSTART;TZID=America/New_York:20281115T193000
DTEND;TZID=America/New_York:20281115T210000
DTSTAMP:20260423T204144
CREATED:20260305T004502Z
LAST-MODIFIED:20260305T005115Z
UID:10002611-1857929400-1857934800@capeatlanticaa.org
SUMMARY:Intergroup Business Meeting
DESCRIPTION:All members can attend the monthly Business Meeting for Intergroup Meeting is held monthly – 3rd Wednesday of the month. LEARN MORE \nIntergroup Reps (IGRs) from area Groups attend this meeting to hear the reports from the Intergroup Steering Panel and Committees. Hybrid Meeting ID: 83296233517   No PW   CLICK TO JOIN MEETING
URL:https://capeatlanticaa.org/event/intergroup-business-meeting-2-3/2028-11-15/
LOCATION:Intergroup Office\, New Road\, Northfield\, NJ\, 08225\, United States
GEO:39.3732308;-74.5547204
X-APPLE-STRUCTURED-LOCATION;VALUE=URI;X-ADDRESS=Intergroup Office New Road Northfield NJ 08225 United States;X-APPLE-RADIUS=500;X-TITLE=New Road:geo:-74.5547204,39.3732308
END:VEVENT
BEGIN:VEVENT
DTSTART;TZID=America/New_York:20281204T193000
DTEND;TZID=America/New_York:20281204T210000
DTSTAMP:20260423T204144
CREATED:20250414T223011Z
LAST-MODIFIED:20260304T201444Z
UID:10001858-1859571000-1859576400@capeatlanticaa.org
SUMMARY:Intergroup Business Meeting
DESCRIPTION:All members can attend the monthly Business Meeting for Intergroup\nMeeting is held monthly – 3rd Wednesday of the month. LEARN MORE \nIntergroup Reps (IGRs) from area Groups attend this meeting to hear the reports from the Intergroup Steering Panel and Committees. \nHybrid Meeting ID: 832 9623 3517   No PW \nCLICK TO JOIN MEETING
URL:https://capeatlanticaa.org/event/intergroup-business-meeting-2-2/2028-12-04/
LOCATION:CAIG Office\, 1418 New Rd\, Suite 4\, Northfield\, NJ\, 08225\, United States
CATEGORIES:>Service Meetings
GEO:39.389011;-74.567032
X-APPLE-STRUCTURED-LOCATION;VALUE=URI;X-ADDRESS=CAIG Office 1418 New Rd Suite 4 Northfield NJ 08225 United States;X-APPLE-RADIUS=500;X-TITLE=1418 New Rd\, Suite 4:geo:-74.567032,39.389011
END:VEVENT
BEGIN:VEVENT
DTSTART;TZID=America/New_York:20281213T193000
DTEND;TZID=America/New_York:20281213T210000
DTSTAMP:20260423T204144
CREATED:20250414T224052Z
LAST-MODIFIED:20250414T224052Z
UID:10001919-1860348600-1860354000@capeatlanticaa.org
SUMMARY:Intergroup Steering Meeting
DESCRIPTION:The 2nd Wednesday of the month\, at 7:30\n1418 New Rd\, Suite 4\, Northfield NJ 08225 \nMeeting ID 542 744 809   CLICK TO JOIN NOW
URL:https://capeatlanticaa.org/event/intergroup-steering-meeting/2028-12-13/
LOCATION:Intergroup Office\, New Road\, Northfield\, NJ\, 08225\, United States
GEO:39.3732308;-74.5547204
X-APPLE-STRUCTURED-LOCATION;VALUE=URI;X-ADDRESS=Intergroup Office New Road Northfield NJ 08225 United States;X-APPLE-RADIUS=500;X-TITLE=New Road:geo:-74.5547204,39.3732308
END:VEVENT
BEGIN:VEVENT
DTSTART;TZID=America/New_York:20281220T193000
DTEND;TZID=America/New_York:20281220T210000
DTSTAMP:20260423T204144
CREATED:20260305T004502Z
LAST-MODIFIED:20260305T005115Z
UID:10002612-1860953400-1860958800@capeatlanticaa.org
SUMMARY:Intergroup Business Meeting
DESCRIPTION:All members can attend the monthly Business Meeting for Intergroup Meeting is held monthly – 3rd Wednesday of the month. LEARN MORE \nIntergroup Reps (IGRs) from area Groups attend this meeting to hear the reports from the Intergroup Steering Panel and Committees. Hybrid Meeting ID: 83296233517   No PW   CLICK TO JOIN MEETING
URL:https://capeatlanticaa.org/event/intergroup-business-meeting-2-3/2028-12-20/
LOCATION:Intergroup Office\, New Road\, Northfield\, NJ\, 08225\, United States
GEO:39.3732308;-74.5547204
X-APPLE-STRUCTURED-LOCATION;VALUE=URI;X-ADDRESS=Intergroup Office New Road Northfield NJ 08225 United States;X-APPLE-RADIUS=500;X-TITLE=New Road:geo:-74.5547204,39.3732308
END:VEVENT
BEGIN:VEVENT
DTSTART;TZID=America/New_York:20290104T193000
DTEND;TZID=America/New_York:20290104T210000
DTSTAMP:20260423T204144
CREATED:20250414T223011Z
LAST-MODIFIED:20260304T201444Z
UID:10002555-1862249400-1862254800@capeatlanticaa.org
SUMMARY:Intergroup Business Meeting
DESCRIPTION:All members can attend the monthly Business Meeting for Intergroup\nMeeting is held monthly – 3rd Wednesday of the month. LEARN MORE \nIntergroup Reps (IGRs) from area Groups attend this meeting to hear the reports from the Intergroup Steering Panel and Committees. \nHybrid Meeting ID: 832 9623 3517   No PW \nCLICK TO JOIN MEETING
URL:https://capeatlanticaa.org/event/intergroup-business-meeting-2-2/2029-01-04/
LOCATION:CAIG Office\, 1418 New Rd\, Suite 4\, Northfield\, NJ\, 08225\, United States
CATEGORIES:>Service Meetings
GEO:39.389011;-74.567032
X-APPLE-STRUCTURED-LOCATION;VALUE=URI;X-ADDRESS=CAIG Office 1418 New Rd Suite 4 Northfield NJ 08225 United States;X-APPLE-RADIUS=500;X-TITLE=1418 New Rd\, Suite 4:geo:-74.567032,39.389011
END:VEVENT
BEGIN:VEVENT
DTSTART;TZID=America/New_York:20290110T193000
DTEND;TZID=America/New_York:20290110T210000
DTSTAMP:20260423T204144
CREATED:20250414T224052Z
LAST-MODIFIED:20250414T224052Z
UID:10001920-1862767800-1862773200@capeatlanticaa.org
SUMMARY:Intergroup Steering Meeting
DESCRIPTION:The 2nd Wednesday of the month\, at 7:30\n1418 New Rd\, Suite 4\, Northfield NJ 08225 \nMeeting ID 542 744 809   CLICK TO JOIN NOW
URL:https://capeatlanticaa.org/event/intergroup-steering-meeting/2029-01-10/
LOCATION:Intergroup Office\, New Road\, Northfield\, NJ\, 08225\, United States
GEO:39.3732308;-74.5547204
X-APPLE-STRUCTURED-LOCATION;VALUE=URI;X-ADDRESS=Intergroup Office New Road Northfield NJ 08225 United States;X-APPLE-RADIUS=500;X-TITLE=New Road:geo:-74.5547204,39.3732308
END:VEVENT
BEGIN:VEVENT
DTSTART;TZID=America/New_York:20290117T193000
DTEND;TZID=America/New_York:20290117T210000
DTSTAMP:20260423T204144
CREATED:20260305T004502Z
LAST-MODIFIED:20260305T005115Z
UID:10002613-1863372600-1863378000@capeatlanticaa.org
SUMMARY:Intergroup Business Meeting
DESCRIPTION:All members can attend the monthly Business Meeting for Intergroup Meeting is held monthly – 3rd Wednesday of the month. LEARN MORE \nIntergroup Reps (IGRs) from area Groups attend this meeting to hear the reports from the Intergroup Steering Panel and Committees. Hybrid Meeting ID: 83296233517   No PW   CLICK TO JOIN MEETING
URL:https://capeatlanticaa.org/event/intergroup-business-meeting-2-3/2029-01-17/
LOCATION:Intergroup Office\, New Road\, Northfield\, NJ\, 08225\, United States
GEO:39.3732308;-74.5547204
X-APPLE-STRUCTURED-LOCATION;VALUE=URI;X-ADDRESS=Intergroup Office New Road Northfield NJ 08225 United States;X-APPLE-RADIUS=500;X-TITLE=New Road:geo:-74.5547204,39.3732308
END:VEVENT
BEGIN:VEVENT
DTSTART;TZID=America/New_York:20290204T193000
DTEND;TZID=America/New_York:20290204T210000
DTSTAMP:20260423T204144
CREATED:20250414T223011Z
LAST-MODIFIED:20260304T201444Z
UID:10002556-1864927800-1864933200@capeatlanticaa.org
SUMMARY:Intergroup Business Meeting
DESCRIPTION:All members can attend the monthly Business Meeting for Intergroup\nMeeting is held monthly – 3rd Wednesday of the month. LEARN MORE \nIntergroup Reps (IGRs) from area Groups attend this meeting to hear the reports from the Intergroup Steering Panel and Committees. \nHybrid Meeting ID: 832 9623 3517   No PW \nCLICK TO JOIN MEETING
URL:https://capeatlanticaa.org/event/intergroup-business-meeting-2-2/2029-02-04/
LOCATION:CAIG Office\, 1418 New Rd\, Suite 4\, Northfield\, NJ\, 08225\, United States
CATEGORIES:>Service Meetings
GEO:39.389011;-74.567032
X-APPLE-STRUCTURED-LOCATION;VALUE=URI;X-ADDRESS=CAIG Office 1418 New Rd Suite 4 Northfield NJ 08225 United States;X-APPLE-RADIUS=500;X-TITLE=1418 New Rd\, Suite 4:geo:-74.567032,39.389011
END:VEVENT
BEGIN:VEVENT
DTSTART;TZID=America/New_York:20290214T193000
DTEND;TZID=America/New_York:20290214T210000
DTSTAMP:20260423T204144
CREATED:20250414T224052Z
LAST-MODIFIED:20250414T224052Z
UID:10001921-1865791800-1865797200@capeatlanticaa.org
SUMMARY:Intergroup Steering Meeting
DESCRIPTION:The 2nd Wednesday of the month\, at 7:30\n1418 New Rd\, Suite 4\, Northfield NJ 08225 \nMeeting ID 542 744 809   CLICK TO JOIN NOW
URL:https://capeatlanticaa.org/event/intergroup-steering-meeting/2029-02-14/
LOCATION:Intergroup Office\, New Road\, Northfield\, NJ\, 08225\, United States
GEO:39.3732308;-74.5547204
X-APPLE-STRUCTURED-LOCATION;VALUE=URI;X-ADDRESS=Intergroup Office New Road Northfield NJ 08225 United States;X-APPLE-RADIUS=500;X-TITLE=New Road:geo:-74.5547204,39.3732308
END:VEVENT
BEGIN:VEVENT
DTSTART;TZID=America/New_York:20290221T193000
DTEND;TZID=America/New_York:20290221T210000
DTSTAMP:20260423T204144
CREATED:20260305T004502Z
LAST-MODIFIED:20260305T005115Z
UID:10002614-1866396600-1866402000@capeatlanticaa.org
SUMMARY:Intergroup Business Meeting
DESCRIPTION:All members can attend the monthly Business Meeting for Intergroup Meeting is held monthly – 3rd Wednesday of the month. LEARN MORE \nIntergroup Reps (IGRs) from area Groups attend this meeting to hear the reports from the Intergroup Steering Panel and Committees. Hybrid Meeting ID: 83296233517   No PW   CLICK TO JOIN MEETING
URL:https://capeatlanticaa.org/event/intergroup-business-meeting-2-3/2029-02-21/
LOCATION:Intergroup Office\, New Road\, Northfield\, NJ\, 08225\, United States
GEO:39.3732308;-74.5547204
X-APPLE-STRUCTURED-LOCATION;VALUE=URI;X-ADDRESS=Intergroup Office New Road Northfield NJ 08225 United States;X-APPLE-RADIUS=500;X-TITLE=New Road:geo:-74.5547204,39.3732308
END:VEVENT
BEGIN:VEVENT
DTSTART;TZID=America/New_York:20290304T193000
DTEND;TZID=America/New_York:20290304T210000
DTSTAMP:20260423T204144
CREATED:20250414T223011Z
LAST-MODIFIED:20260304T201444Z
UID:10002557-1867347000-1867352400@capeatlanticaa.org
SUMMARY:Intergroup Business Meeting
DESCRIPTION:All members can attend the monthly Business Meeting for Intergroup\nMeeting is held monthly – 3rd Wednesday of the month. LEARN MORE \nIntergroup Reps (IGRs) from area Groups attend this meeting to hear the reports from the Intergroup Steering Panel and Committees. \nHybrid Meeting ID: 832 9623 3517   No PW \nCLICK TO JOIN MEETING
URL:https://capeatlanticaa.org/event/intergroup-business-meeting-2-2/2029-03-04/
LOCATION:CAIG Office\, 1418 New Rd\, Suite 4\, Northfield\, NJ\, 08225\, United States
CATEGORIES:>Service Meetings
GEO:39.389011;-74.567032
X-APPLE-STRUCTURED-LOCATION;VALUE=URI;X-ADDRESS=CAIG Office 1418 New Rd Suite 4 Northfield NJ 08225 United States;X-APPLE-RADIUS=500;X-TITLE=1418 New Rd\, Suite 4:geo:-74.567032,39.389011
END:VEVENT
BEGIN:VEVENT
DTSTART;TZID=America/New_York:20290314T193000
DTEND;TZID=America/New_York:20290314T210000
DTSTAMP:20260423T204144
CREATED:20250414T224052Z
LAST-MODIFIED:20250414T224052Z
UID:10001922-1868211000-1868216400@capeatlanticaa.org
SUMMARY:Intergroup Steering Meeting
DESCRIPTION:The 2nd Wednesday of the month\, at 7:30\n1418 New Rd\, Suite 4\, Northfield NJ 08225 \nMeeting ID 542 744 809   CLICK TO JOIN NOW
URL:https://capeatlanticaa.org/event/intergroup-steering-meeting/2029-03-14/
LOCATION:Intergroup Office\, New Road\, Northfield\, NJ\, 08225\, United States
GEO:39.3732308;-74.5547204
X-APPLE-STRUCTURED-LOCATION;VALUE=URI;X-ADDRESS=Intergroup Office New Road Northfield NJ 08225 United States;X-APPLE-RADIUS=500;X-TITLE=New Road:geo:-74.5547204,39.3732308
END:VEVENT
BEGIN:VEVENT
DTSTART;TZID=America/New_York:20290321T193000
DTEND;TZID=America/New_York:20290321T210000
DTSTAMP:20260423T204144
CREATED:20260305T004502Z
LAST-MODIFIED:20260305T005115Z
UID:10002615-1868815800-1868821200@capeatlanticaa.org
SUMMARY:Intergroup Business Meeting
DESCRIPTION:All members can attend the monthly Business Meeting for Intergroup Meeting is held monthly – 3rd Wednesday of the month. LEARN MORE \nIntergroup Reps (IGRs) from area Groups attend this meeting to hear the reports from the Intergroup Steering Panel and Committees. Hybrid Meeting ID: 83296233517   No PW   CLICK TO JOIN MEETING
URL:https://capeatlanticaa.org/event/intergroup-business-meeting-2-3/2029-03-21/
LOCATION:Intergroup Office\, New Road\, Northfield\, NJ\, 08225\, United States
GEO:39.3732308;-74.5547204
X-APPLE-STRUCTURED-LOCATION;VALUE=URI;X-ADDRESS=Intergroup Office New Road Northfield NJ 08225 United States;X-APPLE-RADIUS=500;X-TITLE=New Road:geo:-74.5547204,39.3732308
END:VEVENT
BEGIN:VEVENT
DTSTART;TZID=America/New_York:20290404T193000
DTEND;TZID=America/New_York:20290404T210000
DTSTAMP:20260423T204144
CREATED:20250414T223011Z
LAST-MODIFIED:20260304T201444Z
UID:10002558-1870025400-1870030800@capeatlanticaa.org
SUMMARY:Intergroup Business Meeting
DESCRIPTION:All members can attend the monthly Business Meeting for Intergroup\nMeeting is held monthly – 3rd Wednesday of the month. LEARN MORE \nIntergroup Reps (IGRs) from area Groups attend this meeting to hear the reports from the Intergroup Steering Panel and Committees. \nHybrid Meeting ID: 832 9623 3517   No PW \nCLICK TO JOIN MEETING
URL:https://capeatlanticaa.org/event/intergroup-business-meeting-2-2/2029-04-04/
LOCATION:CAIG Office\, 1418 New Rd\, Suite 4\, Northfield\, NJ\, 08225\, United States
CATEGORIES:>Service Meetings
GEO:39.389011;-74.567032
X-APPLE-STRUCTURED-LOCATION;VALUE=URI;X-ADDRESS=CAIG Office 1418 New Rd Suite 4 Northfield NJ 08225 United States;X-APPLE-RADIUS=500;X-TITLE=1418 New Rd\, Suite 4:geo:-74.567032,39.389011
END:VEVENT
BEGIN:VEVENT
DTSTART;TZID=America/New_York:20290411T193000
DTEND;TZID=America/New_York:20290411T210000
DTSTAMP:20260423T204144
CREATED:20250414T224052Z
LAST-MODIFIED:20250414T224052Z
UID:10001923-1870630200-1870635600@capeatlanticaa.org
SUMMARY:Intergroup Steering Meeting
DESCRIPTION:The 2nd Wednesday of the month\, at 7:30\n1418 New Rd\, Suite 4\, Northfield NJ 08225 \nMeeting ID 542 744 809   CLICK TO JOIN NOW
URL:https://capeatlanticaa.org/event/intergroup-steering-meeting/2029-04-11/
LOCATION:Intergroup Office\, New Road\, Northfield\, NJ\, 08225\, United States
GEO:39.3732308;-74.5547204
X-APPLE-STRUCTURED-LOCATION;VALUE=URI;X-ADDRESS=Intergroup Office New Road Northfield NJ 08225 United States;X-APPLE-RADIUS=500;X-TITLE=New Road:geo:-74.5547204,39.3732308
END:VEVENT
BEGIN:VEVENT
DTSTART;TZID=America/New_York:20290418T193000
DTEND;TZID=America/New_York:20290418T210000
DTSTAMP:20260423T204144
CREATED:20260305T004502Z
LAST-MODIFIED:20260305T005115Z
UID:10002616-1871235000-1871240400@capeatlanticaa.org
SUMMARY:Intergroup Business Meeting
DESCRIPTION:All members can attend the monthly Business Meeting for Intergroup Meeting is held monthly – 3rd Wednesday of the month. LEARN MORE \nIntergroup Reps (IGRs) from area Groups attend this meeting to hear the reports from the Intergroup Steering Panel and Committees. Hybrid Meeting ID: 83296233517   No PW   CLICK TO JOIN MEETING
URL:https://capeatlanticaa.org/event/intergroup-business-meeting-2-3/2029-04-18/
LOCATION:Intergroup Office\, New Road\, Northfield\, NJ\, 08225\, United States
GEO:39.3732308;-74.5547204
X-APPLE-STRUCTURED-LOCATION;VALUE=URI;X-ADDRESS=Intergroup Office New Road Northfield NJ 08225 United States;X-APPLE-RADIUS=500;X-TITLE=New Road:geo:-74.5547204,39.3732308
END:VEVENT
BEGIN:VEVENT
DTSTART;TZID=America/New_York:20290504T193000
DTEND;TZID=America/New_York:20290504T210000
DTSTAMP:20260423T204144
CREATED:20250414T223011Z
LAST-MODIFIED:20260304T201444Z
UID:10002559-1872617400-1872622800@capeatlanticaa.org
SUMMARY:Intergroup Business Meeting
DESCRIPTION:All members can attend the monthly Business Meeting for Intergroup\nMeeting is held monthly – 3rd Wednesday of the month. LEARN MORE \nIntergroup Reps (IGRs) from area Groups attend this meeting to hear the reports from the Intergroup Steering Panel and Committees. \nHybrid Meeting ID: 832 9623 3517   No PW \nCLICK TO JOIN MEETING
URL:https://capeatlanticaa.org/event/intergroup-business-meeting-2-2/2029-05-04/
LOCATION:CAIG Office\, 1418 New Rd\, Suite 4\, Northfield\, NJ\, 08225\, United States
CATEGORIES:>Service Meetings
GEO:39.389011;-74.567032
X-APPLE-STRUCTURED-LOCATION;VALUE=URI;X-ADDRESS=CAIG Office 1418 New Rd Suite 4 Northfield NJ 08225 United States;X-APPLE-RADIUS=500;X-TITLE=1418 New Rd\, Suite 4:geo:-74.567032,39.389011
END:VEVENT
BEGIN:VEVENT
DTSTART;TZID=America/New_York:20290509T193000
DTEND;TZID=America/New_York:20290509T210000
DTSTAMP:20260423T204144
CREATED:20250414T224052Z
LAST-MODIFIED:20250414T224052Z
UID:10001924-1873049400-1873054800@capeatlanticaa.org
SUMMARY:Intergroup Steering Meeting
DESCRIPTION:The 2nd Wednesday of the month\, at 7:30\n1418 New Rd\, Suite 4\, Northfield NJ 08225 \nMeeting ID 542 744 809   CLICK TO JOIN NOW
URL:https://capeatlanticaa.org/event/intergroup-steering-meeting/2029-05-09/
LOCATION:Intergroup Office\, New Road\, Northfield\, NJ\, 08225\, United States
GEO:39.3732308;-74.5547204
X-APPLE-STRUCTURED-LOCATION;VALUE=URI;X-ADDRESS=Intergroup Office New Road Northfield NJ 08225 United States;X-APPLE-RADIUS=500;X-TITLE=New Road:geo:-74.5547204,39.3732308
END:VEVENT
BEGIN:VEVENT
DTSTART;TZID=America/New_York:20290516T193000
DTEND;TZID=America/New_York:20290516T210000
DTSTAMP:20260423T204144
CREATED:20260305T004502Z
LAST-MODIFIED:20260305T005115Z
UID:10002617-1873654200-1873659600@capeatlanticaa.org
SUMMARY:Intergroup Business Meeting
DESCRIPTION:All members can attend the monthly Business Meeting for Intergroup Meeting is held monthly – 3rd Wednesday of the month. LEARN MORE \nIntergroup Reps (IGRs) from area Groups attend this meeting to hear the reports from the Intergroup Steering Panel and Committees. Hybrid Meeting ID: 83296233517   No PW   CLICK TO JOIN MEETING
URL:https://capeatlanticaa.org/event/intergroup-business-meeting-2-3/2029-05-16/
LOCATION:Intergroup Office\, New Road\, Northfield\, NJ\, 08225\, United States
GEO:39.3732308;-74.5547204
X-APPLE-STRUCTURED-LOCATION;VALUE=URI;X-ADDRESS=Intergroup Office New Road Northfield NJ 08225 United States;X-APPLE-RADIUS=500;X-TITLE=New Road:geo:-74.5547204,39.3732308
END:VEVENT
BEGIN:VEVENT
DTSTART;TZID=America/New_York:20290604T193000
DTEND;TZID=America/New_York:20290604T210000
DTSTAMP:20260423T204144
CREATED:20250414T223011Z
LAST-MODIFIED:20260304T201444Z
UID:10001864-1875295800-1875301200@capeatlanticaa.org
SUMMARY:Intergroup Business Meeting
DESCRIPTION:All members can attend the monthly Business Meeting for Intergroup\nMeeting is held monthly – 3rd Wednesday of the month. LEARN MORE \nIntergroup Reps (IGRs) from area Groups attend this meeting to hear the reports from the Intergroup Steering Panel and Committees. \nHybrid Meeting ID: 832 9623 3517   No PW \nCLICK TO JOIN MEETING
URL:https://capeatlanticaa.org/event/intergroup-business-meeting-2-2/2029-06-04/
LOCATION:CAIG Office\, 1418 New Rd\, Suite 4\, Northfield\, NJ\, 08225\, United States
CATEGORIES:>Service Meetings
GEO:39.389011;-74.567032
X-APPLE-STRUCTURED-LOCATION;VALUE=URI;X-ADDRESS=CAIG Office 1418 New Rd Suite 4 Northfield NJ 08225 United States;X-APPLE-RADIUS=500;X-TITLE=1418 New Rd\, Suite 4:geo:-74.567032,39.389011
END:VEVENT
BEGIN:VEVENT
DTSTART;TZID=America/New_York:20290613T193000
DTEND;TZID=America/New_York:20290613T210000
DTSTAMP:20260423T204144
CREATED:20250414T224052Z
LAST-MODIFIED:20250414T224052Z
UID:10001925-1876073400-1876078800@capeatlanticaa.org
SUMMARY:Intergroup Steering Meeting
DESCRIPTION:The 2nd Wednesday of the month\, at 7:30\n1418 New Rd\, Suite 4\, Northfield NJ 08225 \nMeeting ID 542 744 809   CLICK TO JOIN NOW
URL:https://capeatlanticaa.org/event/intergroup-steering-meeting/2029-06-13/
LOCATION:Intergroup Office\, New Road\, Northfield\, NJ\, 08225\, United States
GEO:39.3732308;-74.5547204
X-APPLE-STRUCTURED-LOCATION;VALUE=URI;X-ADDRESS=Intergroup Office New Road Northfield NJ 08225 United States;X-APPLE-RADIUS=500;X-TITLE=New Road:geo:-74.5547204,39.3732308
END:VEVENT
BEGIN:VEVENT
DTSTART;TZID=America/New_York:20290620T193000
DTEND;TZID=America/New_York:20290620T210000
DTSTAMP:20260423T204144
CREATED:20260305T004502Z
LAST-MODIFIED:20260305T005115Z
UID:10002618-1876678200-1876683600@capeatlanticaa.org
SUMMARY:Intergroup Business Meeting
DESCRIPTION:All members can attend the monthly Business Meeting for Intergroup Meeting is held monthly – 3rd Wednesday of the month. LEARN MORE \nIntergroup Reps (IGRs) from area Groups attend this meeting to hear the reports from the Intergroup Steering Panel and Committees. Hybrid Meeting ID: 83296233517   No PW   CLICK TO JOIN MEETING
URL:https://capeatlanticaa.org/event/intergroup-business-meeting-2-3/2029-06-20/
LOCATION:Intergroup Office\, New Road\, Northfield\, NJ\, 08225\, United States
GEO:39.3732308;-74.5547204
X-APPLE-STRUCTURED-LOCATION;VALUE=URI;X-ADDRESS=Intergroup Office New Road Northfield NJ 08225 United States;X-APPLE-RADIUS=500;X-TITLE=New Road:geo:-74.5547204,39.3732308
END:VEVENT
BEGIN:VEVENT
DTSTART;TZID=America/New_York:20290704T193000
DTEND;TZID=America/New_York:20290704T210000
DTSTAMP:20260423T204144
CREATED:20250414T223011Z
LAST-MODIFIED:20260304T201444Z
UID:10002560-1877887800-1877893200@capeatlanticaa.org
SUMMARY:Intergroup Business Meeting
DESCRIPTION:All members can attend the monthly Business Meeting for Intergroup\nMeeting is held monthly – 3rd Wednesday of the month. LEARN MORE \nIntergroup Reps (IGRs) from area Groups attend this meeting to hear the reports from the Intergroup Steering Panel and Committees. \nHybrid Meeting ID: 832 9623 3517   No PW \nCLICK TO JOIN MEETING
URL:https://capeatlanticaa.org/event/intergroup-business-meeting-2-2/2029-07-04/
LOCATION:CAIG Office\, 1418 New Rd\, Suite 4\, Northfield\, NJ\, 08225\, United States
CATEGORIES:>Service Meetings
GEO:39.389011;-74.567032
X-APPLE-STRUCTURED-LOCATION;VALUE=URI;X-ADDRESS=CAIG Office 1418 New Rd Suite 4 Northfield NJ 08225 United States;X-APPLE-RADIUS=500;X-TITLE=1418 New Rd\, Suite 4:geo:-74.567032,39.389011
END:VEVENT
BEGIN:VEVENT
DTSTART;TZID=America/New_York:20290711T193000
DTEND;TZID=America/New_York:20290711T210000
DTSTAMP:20260423T204144
CREATED:20250414T224052Z
LAST-MODIFIED:20250414T224052Z
UID:10001926-1878492600-1878498000@capeatlanticaa.org
SUMMARY:Intergroup Steering Meeting
DESCRIPTION:The 2nd Wednesday of the month\, at 7:30\n1418 New Rd\, Suite 4\, Northfield NJ 08225 \nMeeting ID 542 744 809   CLICK TO JOIN NOW
URL:https://capeatlanticaa.org/event/intergroup-steering-meeting/2029-07-11/
LOCATION:Intergroup Office\, New Road\, Northfield\, NJ\, 08225\, United States
GEO:39.3732308;-74.5547204
X-APPLE-STRUCTURED-LOCATION;VALUE=URI;X-ADDRESS=Intergroup Office New Road Northfield NJ 08225 United States;X-APPLE-RADIUS=500;X-TITLE=New Road:geo:-74.5547204,39.3732308
END:VEVENT
BEGIN:VEVENT
DTSTART;TZID=America/New_York:20290718T193000
DTEND;TZID=America/New_York:20290718T210000
DTSTAMP:20260423T204144
CREATED:20260305T004502Z
LAST-MODIFIED:20260305T005115Z
UID:10002619-1879097400-1879102800@capeatlanticaa.org
SUMMARY:Intergroup Business Meeting
DESCRIPTION:All members can attend the monthly Business Meeting for Intergroup Meeting is held monthly – 3rd Wednesday of the month. LEARN MORE \nIntergroup Reps (IGRs) from area Groups attend this meeting to hear the reports from the Intergroup Steering Panel and Committees. Hybrid Meeting ID: 83296233517   No PW   CLICK TO JOIN MEETING
URL:https://capeatlanticaa.org/event/intergroup-business-meeting-2-3/2029-07-18/
LOCATION:Intergroup Office\, New Road\, Northfield\, NJ\, 08225\, United States
GEO:39.3732308;-74.5547204
X-APPLE-STRUCTURED-LOCATION;VALUE=URI;X-ADDRESS=Intergroup Office New Road Northfield NJ 08225 United States;X-APPLE-RADIUS=500;X-TITLE=New Road:geo:-74.5547204,39.3732308
END:VEVENT
END:VCALENDAR