BEGIN:VCALENDAR
VERSION:2.0
PRODID:-//Cape Atlantic Intergroup - ECPv6.15.20//NONSGML v1.0//EN
CALSCALE:GREGORIAN
METHOD:PUBLISH
X-WR-CALNAME:Cape Atlantic Intergroup
X-ORIGINAL-URL:https://capeatlanticaa.org
X-WR-CALDESC:Events for Cape Atlantic Intergroup
REFRESH-INTERVAL;VALUE=DURATION:PT1H
X-Robots-Tag:noindex
X-PUBLISHED-TTL:PT1H
BEGIN:VTIMEZONE
TZID:America/New_York
BEGIN:DAYLIGHT
TZOFFSETFROM:-0500
TZOFFSETTO:-0400
TZNAME:EDT
DTSTART:20250309T070000
END:DAYLIGHT
BEGIN:STANDARD
TZOFFSETFROM:-0400
TZOFFSETTO:-0500
TZNAME:EST
DTSTART:20251102T060000
END:STANDARD
BEGIN:DAYLIGHT
TZOFFSETFROM:-0500
TZOFFSETTO:-0400
TZNAME:EDT
DTSTART:20260308T070000
END:DAYLIGHT
BEGIN:STANDARD
TZOFFSETFROM:-0400
TZOFFSETTO:-0500
TZNAME:EST
DTSTART:20261101T060000
END:STANDARD
BEGIN:DAYLIGHT
TZOFFSETFROM:-0500
TZOFFSETTO:-0400
TZNAME:EDT
DTSTART:20270314T070000
END:DAYLIGHT
BEGIN:STANDARD
TZOFFSETFROM:-0400
TZOFFSETTO:-0500
TZNAME:EST
DTSTART:20271107T060000
END:STANDARD
BEGIN:DAYLIGHT
TZOFFSETFROM:-0500
TZOFFSETTO:-0400
TZNAME:EDT
DTSTART:20280312T070000
END:DAYLIGHT
BEGIN:STANDARD
TZOFFSETFROM:-0400
TZOFFSETTO:-0500
TZNAME:EST
DTSTART:20281105T060000
END:STANDARD
BEGIN:DAYLIGHT
TZOFFSETFROM:-0500
TZOFFSETTO:-0400
TZNAME:EDT
DTSTART:20290311T070000
END:DAYLIGHT
BEGIN:STANDARD
TZOFFSETFROM:-0400
TZOFFSETTO:-0500
TZNAME:EST
DTSTART:20291104T060000
END:STANDARD
END:VTIMEZONE
BEGIN:VEVENT
DTSTART;TZID=America/New_York:20260426T160000
DTEND;TZID=America/New_York:20260426T170000
DTSTAMP:20260423T072637
CREATED:20251104T004639Z
LAST-MODIFIED:20251111T021618Z
UID:10002372-1777219200-1777222800@capeatlanticaa.org
SUMMARY:District 19 Monthly Hybrid Meeting
DESCRIPTION:Meeting ID:  861 1052 1946 \nPassword:  GSR19
URL:https://capeatlanticaa.org/event/district-19-monthly-hybrid-meeting/2026-04-26/
LOCATION:The Twelve Step House\, West Oak Avenue\, Wildwood\, New Jersey\, 08260\, United States
GEO:38.9921249;-74.8162518
X-APPLE-STRUCTURED-LOCATION;VALUE=URI;X-ADDRESS=The Twelve Step House West Oak Avenue Wildwood New Jersey 08260 United States;X-APPLE-RADIUS=500;X-TITLE=West Oak Avenue:geo:-74.8162518,38.9921249
END:VEVENT
BEGIN:VEVENT
DTSTART;TZID=America/New_York:20260531T160000
DTEND;TZID=America/New_York:20260531T170000
DTSTAMP:20260423T072637
CREATED:20251104T004639Z
LAST-MODIFIED:20251111T021618Z
UID:10002373-1780243200-1780246800@capeatlanticaa.org
SUMMARY:District 19 Monthly Hybrid Meeting
DESCRIPTION:Meeting ID:  861 1052 1946 \nPassword:  GSR19
URL:https://capeatlanticaa.org/event/district-19-monthly-hybrid-meeting/2026-05-31/
LOCATION:The Twelve Step House\, West Oak Avenue\, Wildwood\, New Jersey\, 08260\, United States
GEO:38.9921249;-74.8162518
X-APPLE-STRUCTURED-LOCATION;VALUE=URI;X-ADDRESS=The Twelve Step House West Oak Avenue Wildwood New Jersey 08260 United States;X-APPLE-RADIUS=500;X-TITLE=West Oak Avenue:geo:-74.8162518,38.9921249
END:VEVENT
BEGIN:VEVENT
DTSTART;TZID=America/New_York:20260628T160000
DTEND;TZID=America/New_York:20260628T170000
DTSTAMP:20260423T072637
CREATED:20251104T004639Z
LAST-MODIFIED:20251111T021618Z
UID:10002374-1782662400-1782666000@capeatlanticaa.org
SUMMARY:District 19 Monthly Hybrid Meeting
DESCRIPTION:Meeting ID:  861 1052 1946 \nPassword:  GSR19
URL:https://capeatlanticaa.org/event/district-19-monthly-hybrid-meeting/2026-06-28/
LOCATION:The Twelve Step House\, West Oak Avenue\, Wildwood\, New Jersey\, 08260\, United States
GEO:38.9921249;-74.8162518
X-APPLE-STRUCTURED-LOCATION;VALUE=URI;X-ADDRESS=The Twelve Step House West Oak Avenue Wildwood New Jersey 08260 United States;X-APPLE-RADIUS=500;X-TITLE=West Oak Avenue:geo:-74.8162518,38.9921249
END:VEVENT
BEGIN:VEVENT
DTSTART;TZID=America/New_York:20260726T160000
DTEND;TZID=America/New_York:20260726T170000
DTSTAMP:20260423T072637
CREATED:20251104T004639Z
LAST-MODIFIED:20251111T021618Z
UID:10002375-1785081600-1785085200@capeatlanticaa.org
SUMMARY:District 19 Monthly Hybrid Meeting
DESCRIPTION:Meeting ID:  861 1052 1946 \nPassword:  GSR19
URL:https://capeatlanticaa.org/event/district-19-monthly-hybrid-meeting/2026-07-26/
LOCATION:The Twelve Step House\, West Oak Avenue\, Wildwood\, New Jersey\, 08260\, United States
GEO:38.9921249;-74.8162518
X-APPLE-STRUCTURED-LOCATION;VALUE=URI;X-ADDRESS=The Twelve Step House West Oak Avenue Wildwood New Jersey 08260 United States;X-APPLE-RADIUS=500;X-TITLE=West Oak Avenue:geo:-74.8162518,38.9921249
END:VEVENT
BEGIN:VEVENT
DTSTART;TZID=America/New_York:20260830T160000
DTEND;TZID=America/New_York:20260830T170000
DTSTAMP:20260423T072637
CREATED:20251104T004639Z
LAST-MODIFIED:20251111T021618Z
UID:10002376-1788105600-1788109200@capeatlanticaa.org
SUMMARY:District 19 Monthly Hybrid Meeting
DESCRIPTION:Meeting ID:  861 1052 1946 \nPassword:  GSR19
URL:https://capeatlanticaa.org/event/district-19-monthly-hybrid-meeting/2026-08-30/
LOCATION:The Twelve Step House\, West Oak Avenue\, Wildwood\, New Jersey\, 08260\, United States
GEO:38.9921249;-74.8162518
X-APPLE-STRUCTURED-LOCATION;VALUE=URI;X-ADDRESS=The Twelve Step House West Oak Avenue Wildwood New Jersey 08260 United States;X-APPLE-RADIUS=500;X-TITLE=West Oak Avenue:geo:-74.8162518,38.9921249
END:VEVENT
BEGIN:VEVENT
DTSTART;TZID=America/New_York:20260927T160000
DTEND;TZID=America/New_York:20260927T170000
DTSTAMP:20260423T072637
CREATED:20251104T004639Z
LAST-MODIFIED:20251111T021618Z
UID:10002377-1790524800-1790528400@capeatlanticaa.org
SUMMARY:District 19 Monthly Hybrid Meeting
DESCRIPTION:Meeting ID:  861 1052 1946 \nPassword:  GSR19
URL:https://capeatlanticaa.org/event/district-19-monthly-hybrid-meeting/2026-09-27/
LOCATION:The Twelve Step House\, West Oak Avenue\, Wildwood\, New Jersey\, 08260\, United States
GEO:38.9921249;-74.8162518
X-APPLE-STRUCTURED-LOCATION;VALUE=URI;X-ADDRESS=The Twelve Step House West Oak Avenue Wildwood New Jersey 08260 United States;X-APPLE-RADIUS=500;X-TITLE=West Oak Avenue:geo:-74.8162518,38.9921249
END:VEVENT
BEGIN:VEVENT
DTSTART;TZID=America/New_York:20261025T160000
DTEND;TZID=America/New_York:20261025T170000
DTSTAMP:20260423T072637
CREATED:20251104T004639Z
LAST-MODIFIED:20251111T021618Z
UID:10002378-1792944000-1792947600@capeatlanticaa.org
SUMMARY:District 19 Monthly Hybrid Meeting
DESCRIPTION:Meeting ID:  861 1052 1946 \nPassword:  GSR19
URL:https://capeatlanticaa.org/event/district-19-monthly-hybrid-meeting/2026-10-25/
LOCATION:The Twelve Step House\, West Oak Avenue\, Wildwood\, New Jersey\, 08260\, United States
GEO:38.9921249;-74.8162518
X-APPLE-STRUCTURED-LOCATION;VALUE=URI;X-ADDRESS=The Twelve Step House West Oak Avenue Wildwood New Jersey 08260 United States;X-APPLE-RADIUS=500;X-TITLE=West Oak Avenue:geo:-74.8162518,38.9921249
END:VEVENT
BEGIN:VEVENT
DTSTART;TZID=America/New_York:20261129T160000
DTEND;TZID=America/New_York:20261129T170000
DTSTAMP:20260423T072637
CREATED:20251104T004639Z
LAST-MODIFIED:20251111T021618Z
UID:10002379-1795968000-1795971600@capeatlanticaa.org
SUMMARY:District 19 Monthly Hybrid Meeting
DESCRIPTION:Meeting ID:  861 1052 1946 \nPassword:  GSR19
URL:https://capeatlanticaa.org/event/district-19-monthly-hybrid-meeting/2026-11-29/
LOCATION:The Twelve Step House\, West Oak Avenue\, Wildwood\, New Jersey\, 08260\, United States
GEO:38.9921249;-74.8162518
X-APPLE-STRUCTURED-LOCATION;VALUE=URI;X-ADDRESS=The Twelve Step House West Oak Avenue Wildwood New Jersey 08260 United States;X-APPLE-RADIUS=500;X-TITLE=West Oak Avenue:geo:-74.8162518,38.9921249
END:VEVENT
BEGIN:VEVENT
DTSTART;TZID=America/New_York:20261227T160000
DTEND;TZID=America/New_York:20261227T170000
DTSTAMP:20260423T072637
CREATED:20251104T004639Z
LAST-MODIFIED:20251111T021618Z
UID:10002380-1798387200-1798390800@capeatlanticaa.org
SUMMARY:District 19 Monthly Hybrid Meeting
DESCRIPTION:Meeting ID:  861 1052 1946 \nPassword:  GSR19
URL:https://capeatlanticaa.org/event/district-19-monthly-hybrid-meeting/2026-12-27/
LOCATION:The Twelve Step House\, West Oak Avenue\, Wildwood\, New Jersey\, 08260\, United States
GEO:38.9921249;-74.8162518
X-APPLE-STRUCTURED-LOCATION;VALUE=URI;X-ADDRESS=The Twelve Step House West Oak Avenue Wildwood New Jersey 08260 United States;X-APPLE-RADIUS=500;X-TITLE=West Oak Avenue:geo:-74.8162518,38.9921249
END:VEVENT
BEGIN:VEVENT
DTSTART;TZID=America/New_York:20270131T160000
DTEND;TZID=America/New_York:20270131T170000
DTSTAMP:20260423T072637
CREATED:20251104T004639Z
LAST-MODIFIED:20251111T021618Z
UID:10002381-1801411200-1801414800@capeatlanticaa.org
SUMMARY:District 19 Monthly Hybrid Meeting
DESCRIPTION:Meeting ID:  861 1052 1946 \nPassword:  GSR19
URL:https://capeatlanticaa.org/event/district-19-monthly-hybrid-meeting/2027-01-31/
LOCATION:The Twelve Step House\, West Oak Avenue\, Wildwood\, New Jersey\, 08260\, United States
GEO:38.9921249;-74.8162518
X-APPLE-STRUCTURED-LOCATION;VALUE=URI;X-ADDRESS=The Twelve Step House West Oak Avenue Wildwood New Jersey 08260 United States;X-APPLE-RADIUS=500;X-TITLE=West Oak Avenue:geo:-74.8162518,38.9921249
END:VEVENT
BEGIN:VEVENT
DTSTART;TZID=America/New_York:20270228T160000
DTEND;TZID=America/New_York:20270228T170000
DTSTAMP:20260423T072637
CREATED:20251104T004639Z
LAST-MODIFIED:20251111T021618Z
UID:10002382-1803830400-1803834000@capeatlanticaa.org
SUMMARY:District 19 Monthly Hybrid Meeting
DESCRIPTION:Meeting ID:  861 1052 1946 \nPassword:  GSR19
URL:https://capeatlanticaa.org/event/district-19-monthly-hybrid-meeting/2027-02-28/
LOCATION:The Twelve Step House\, West Oak Avenue\, Wildwood\, New Jersey\, 08260\, United States
GEO:38.9921249;-74.8162518
X-APPLE-STRUCTURED-LOCATION;VALUE=URI;X-ADDRESS=The Twelve Step House West Oak Avenue Wildwood New Jersey 08260 United States;X-APPLE-RADIUS=500;X-TITLE=West Oak Avenue:geo:-74.8162518,38.9921249
END:VEVENT
BEGIN:VEVENT
DTSTART;TZID=America/New_York:20270328T160000
DTEND;TZID=America/New_York:20270328T170000
DTSTAMP:20260423T072637
CREATED:20251104T004639Z
LAST-MODIFIED:20251111T021618Z
UID:10002383-1806249600-1806253200@capeatlanticaa.org
SUMMARY:District 19 Monthly Hybrid Meeting
DESCRIPTION:Meeting ID:  861 1052 1946 \nPassword:  GSR19
URL:https://capeatlanticaa.org/event/district-19-monthly-hybrid-meeting/2027-03-28/
LOCATION:The Twelve Step House\, West Oak Avenue\, Wildwood\, New Jersey\, 08260\, United States
GEO:38.9921249;-74.8162518
X-APPLE-STRUCTURED-LOCATION;VALUE=URI;X-ADDRESS=The Twelve Step House West Oak Avenue Wildwood New Jersey 08260 United States;X-APPLE-RADIUS=500;X-TITLE=West Oak Avenue:geo:-74.8162518,38.9921249
END:VEVENT
BEGIN:VEVENT
DTSTART;TZID=America/New_York:20270425T160000
DTEND;TZID=America/New_York:20270425T170000
DTSTAMP:20260423T072637
CREATED:20251104T004639Z
LAST-MODIFIED:20251111T021618Z
UID:10002384-1808668800-1808672400@capeatlanticaa.org
SUMMARY:District 19 Monthly Hybrid Meeting
DESCRIPTION:Meeting ID:  861 1052 1946 \nPassword:  GSR19
URL:https://capeatlanticaa.org/event/district-19-monthly-hybrid-meeting/2027-04-25/
LOCATION:The Twelve Step House\, West Oak Avenue\, Wildwood\, New Jersey\, 08260\, United States
GEO:38.9921249;-74.8162518
X-APPLE-STRUCTURED-LOCATION;VALUE=URI;X-ADDRESS=The Twelve Step House West Oak Avenue Wildwood New Jersey 08260 United States;X-APPLE-RADIUS=500;X-TITLE=West Oak Avenue:geo:-74.8162518,38.9921249
END:VEVENT
BEGIN:VEVENT
DTSTART;TZID=America/New_York:20270530T160000
DTEND;TZID=America/New_York:20270530T170000
DTSTAMP:20260423T072637
CREATED:20251104T004639Z
LAST-MODIFIED:20251111T021618Z
UID:10002385-1811692800-1811696400@capeatlanticaa.org
SUMMARY:District 19 Monthly Hybrid Meeting
DESCRIPTION:Meeting ID:  861 1052 1946 \nPassword:  GSR19
URL:https://capeatlanticaa.org/event/district-19-monthly-hybrid-meeting/2027-05-30/
LOCATION:The Twelve Step House\, West Oak Avenue\, Wildwood\, New Jersey\, 08260\, United States
GEO:38.9921249;-74.8162518
X-APPLE-STRUCTURED-LOCATION;VALUE=URI;X-ADDRESS=The Twelve Step House West Oak Avenue Wildwood New Jersey 08260 United States;X-APPLE-RADIUS=500;X-TITLE=West Oak Avenue:geo:-74.8162518,38.9921249
END:VEVENT
BEGIN:VEVENT
DTSTART;TZID=America/New_York:20270627T160000
DTEND;TZID=America/New_York:20270627T170000
DTSTAMP:20260423T072637
CREATED:20251104T004639Z
LAST-MODIFIED:20251111T021618Z
UID:10002386-1814112000-1814115600@capeatlanticaa.org
SUMMARY:District 19 Monthly Hybrid Meeting
DESCRIPTION:Meeting ID:  861 1052 1946 \nPassword:  GSR19
URL:https://capeatlanticaa.org/event/district-19-monthly-hybrid-meeting/2027-06-27/
LOCATION:The Twelve Step House\, West Oak Avenue\, Wildwood\, New Jersey\, 08260\, United States
GEO:38.9921249;-74.8162518
X-APPLE-STRUCTURED-LOCATION;VALUE=URI;X-ADDRESS=The Twelve Step House West Oak Avenue Wildwood New Jersey 08260 United States;X-APPLE-RADIUS=500;X-TITLE=West Oak Avenue:geo:-74.8162518,38.9921249
END:VEVENT
BEGIN:VEVENT
DTSTART;TZID=America/New_York:20270725T160000
DTEND;TZID=America/New_York:20270725T170000
DTSTAMP:20260423T072637
CREATED:20251104T004639Z
LAST-MODIFIED:20251111T021618Z
UID:10002387-1816531200-1816534800@capeatlanticaa.org
SUMMARY:District 19 Monthly Hybrid Meeting
DESCRIPTION:Meeting ID:  861 1052 1946 \nPassword:  GSR19
URL:https://capeatlanticaa.org/event/district-19-monthly-hybrid-meeting/2027-07-25/
LOCATION:The Twelve Step House\, West Oak Avenue\, Wildwood\, New Jersey\, 08260\, United States
GEO:38.9921249;-74.8162518
X-APPLE-STRUCTURED-LOCATION;VALUE=URI;X-ADDRESS=The Twelve Step House West Oak Avenue Wildwood New Jersey 08260 United States;X-APPLE-RADIUS=500;X-TITLE=West Oak Avenue:geo:-74.8162518,38.9921249
END:VEVENT
BEGIN:VEVENT
DTSTART;TZID=America/New_York:20270829T160000
DTEND;TZID=America/New_York:20270829T170000
DTSTAMP:20260423T072637
CREATED:20251104T004639Z
LAST-MODIFIED:20251111T021618Z
UID:10002388-1819555200-1819558800@capeatlanticaa.org
SUMMARY:District 19 Monthly Hybrid Meeting
DESCRIPTION:Meeting ID:  861 1052 1946 \nPassword:  GSR19
URL:https://capeatlanticaa.org/event/district-19-monthly-hybrid-meeting/2027-08-29/
LOCATION:The Twelve Step House\, West Oak Avenue\, Wildwood\, New Jersey\, 08260\, United States
GEO:38.9921249;-74.8162518
X-APPLE-STRUCTURED-LOCATION;VALUE=URI;X-ADDRESS=The Twelve Step House West Oak Avenue Wildwood New Jersey 08260 United States;X-APPLE-RADIUS=500;X-TITLE=West Oak Avenue:geo:-74.8162518,38.9921249
END:VEVENT
BEGIN:VEVENT
DTSTART;TZID=America/New_York:20270926T160000
DTEND;TZID=America/New_York:20270926T170000
DTSTAMP:20260423T072637
CREATED:20251104T004639Z
LAST-MODIFIED:20251111T021618Z
UID:10002389-1821974400-1821978000@capeatlanticaa.org
SUMMARY:District 19 Monthly Hybrid Meeting
DESCRIPTION:Meeting ID:  861 1052 1946 \nPassword:  GSR19
URL:https://capeatlanticaa.org/event/district-19-monthly-hybrid-meeting/2027-09-26/
LOCATION:The Twelve Step House\, West Oak Avenue\, Wildwood\, New Jersey\, 08260\, United States
GEO:38.9921249;-74.8162518
X-APPLE-STRUCTURED-LOCATION;VALUE=URI;X-ADDRESS=The Twelve Step House West Oak Avenue Wildwood New Jersey 08260 United States;X-APPLE-RADIUS=500;X-TITLE=West Oak Avenue:geo:-74.8162518,38.9921249
END:VEVENT
BEGIN:VEVENT
DTSTART;TZID=America/New_York:20271031T160000
DTEND;TZID=America/New_York:20271031T170000
DTSTAMP:20260423T072637
CREATED:20251104T004639Z
LAST-MODIFIED:20251111T021618Z
UID:10002390-1824998400-1825002000@capeatlanticaa.org
SUMMARY:District 19 Monthly Hybrid Meeting
DESCRIPTION:Meeting ID:  861 1052 1946 \nPassword:  GSR19
URL:https://capeatlanticaa.org/event/district-19-monthly-hybrid-meeting/2027-10-31/
LOCATION:The Twelve Step House\, West Oak Avenue\, Wildwood\, New Jersey\, 08260\, United States
GEO:38.9921249;-74.8162518
X-APPLE-STRUCTURED-LOCATION;VALUE=URI;X-ADDRESS=The Twelve Step House West Oak Avenue Wildwood New Jersey 08260 United States;X-APPLE-RADIUS=500;X-TITLE=West Oak Avenue:geo:-74.8162518,38.9921249
END:VEVENT
BEGIN:VEVENT
DTSTART;TZID=America/New_York:20271128T160000
DTEND;TZID=America/New_York:20271128T170000
DTSTAMP:20260423T072637
CREATED:20251104T004639Z
LAST-MODIFIED:20251111T021618Z
UID:10002391-1827417600-1827421200@capeatlanticaa.org
SUMMARY:District 19 Monthly Hybrid Meeting
DESCRIPTION:Meeting ID:  861 1052 1946 \nPassword:  GSR19
URL:https://capeatlanticaa.org/event/district-19-monthly-hybrid-meeting/2027-11-28/
LOCATION:The Twelve Step House\, West Oak Avenue\, Wildwood\, New Jersey\, 08260\, United States
GEO:38.9921249;-74.8162518
X-APPLE-STRUCTURED-LOCATION;VALUE=URI;X-ADDRESS=The Twelve Step House West Oak Avenue Wildwood New Jersey 08260 United States;X-APPLE-RADIUS=500;X-TITLE=West Oak Avenue:geo:-74.8162518,38.9921249
END:VEVENT
BEGIN:VEVENT
DTSTART;TZID=America/New_York:20271226T160000
DTEND;TZID=America/New_York:20271226T170000
DTSTAMP:20260423T072637
CREATED:20251104T004639Z
LAST-MODIFIED:20251111T021618Z
UID:10002392-1829836800-1829840400@capeatlanticaa.org
SUMMARY:District 19 Monthly Hybrid Meeting
DESCRIPTION:Meeting ID:  861 1052 1946 \nPassword:  GSR19
URL:https://capeatlanticaa.org/event/district-19-monthly-hybrid-meeting/2027-12-26/
LOCATION:The Twelve Step House\, West Oak Avenue\, Wildwood\, New Jersey\, 08260\, United States
GEO:38.9921249;-74.8162518
X-APPLE-STRUCTURED-LOCATION;VALUE=URI;X-ADDRESS=The Twelve Step House West Oak Avenue Wildwood New Jersey 08260 United States;X-APPLE-RADIUS=500;X-TITLE=West Oak Avenue:geo:-74.8162518,38.9921249
END:VEVENT
BEGIN:VEVENT
DTSTART;TZID=America/New_York:20280130T160000
DTEND;TZID=America/New_York:20280130T170000
DTSTAMP:20260423T072637
CREATED:20251104T004639Z
LAST-MODIFIED:20251111T021618Z
UID:10002393-1832860800-1832864400@capeatlanticaa.org
SUMMARY:District 19 Monthly Hybrid Meeting
DESCRIPTION:Meeting ID:  861 1052 1946 \nPassword:  GSR19
URL:https://capeatlanticaa.org/event/district-19-monthly-hybrid-meeting/2028-01-30/
LOCATION:The Twelve Step House\, West Oak Avenue\, Wildwood\, New Jersey\, 08260\, United States
GEO:38.9921249;-74.8162518
X-APPLE-STRUCTURED-LOCATION;VALUE=URI;X-ADDRESS=The Twelve Step House West Oak Avenue Wildwood New Jersey 08260 United States;X-APPLE-RADIUS=500;X-TITLE=West Oak Avenue:geo:-74.8162518,38.9921249
END:VEVENT
BEGIN:VEVENT
DTSTART;TZID=America/New_York:20280227T160000
DTEND;TZID=America/New_York:20280227T170000
DTSTAMP:20260423T072637
CREATED:20251104T004639Z
LAST-MODIFIED:20251111T021618Z
UID:10002394-1835280000-1835283600@capeatlanticaa.org
SUMMARY:District 19 Monthly Hybrid Meeting
DESCRIPTION:Meeting ID:  861 1052 1946 \nPassword:  GSR19
URL:https://capeatlanticaa.org/event/district-19-monthly-hybrid-meeting/2028-02-27/
LOCATION:The Twelve Step House\, West Oak Avenue\, Wildwood\, New Jersey\, 08260\, United States
GEO:38.9921249;-74.8162518
X-APPLE-STRUCTURED-LOCATION;VALUE=URI;X-ADDRESS=The Twelve Step House West Oak Avenue Wildwood New Jersey 08260 United States;X-APPLE-RADIUS=500;X-TITLE=West Oak Avenue:geo:-74.8162518,38.9921249
END:VEVENT
BEGIN:VEVENT
DTSTART;TZID=America/New_York:20280326T160000
DTEND;TZID=America/New_York:20280326T170000
DTSTAMP:20260423T072637
CREATED:20251104T004639Z
LAST-MODIFIED:20251111T021618Z
UID:10002395-1837699200-1837702800@capeatlanticaa.org
SUMMARY:District 19 Monthly Hybrid Meeting
DESCRIPTION:Meeting ID:  861 1052 1946 \nPassword:  GSR19
URL:https://capeatlanticaa.org/event/district-19-monthly-hybrid-meeting/2028-03-26/
LOCATION:The Twelve Step House\, West Oak Avenue\, Wildwood\, New Jersey\, 08260\, United States
GEO:38.9921249;-74.8162518
X-APPLE-STRUCTURED-LOCATION;VALUE=URI;X-ADDRESS=The Twelve Step House West Oak Avenue Wildwood New Jersey 08260 United States;X-APPLE-RADIUS=500;X-TITLE=West Oak Avenue:geo:-74.8162518,38.9921249
END:VEVENT
BEGIN:VEVENT
DTSTART;TZID=America/New_York:20280430T160000
DTEND;TZID=America/New_York:20280430T170000
DTSTAMP:20260423T072637
CREATED:20251104T004639Z
LAST-MODIFIED:20251111T021618Z
UID:10002396-1840723200-1840726800@capeatlanticaa.org
SUMMARY:District 19 Monthly Hybrid Meeting
DESCRIPTION:Meeting ID:  861 1052 1946 \nPassword:  GSR19
URL:https://capeatlanticaa.org/event/district-19-monthly-hybrid-meeting/2028-04-30/
LOCATION:The Twelve Step House\, West Oak Avenue\, Wildwood\, New Jersey\, 08260\, United States
GEO:38.9921249;-74.8162518
X-APPLE-STRUCTURED-LOCATION;VALUE=URI;X-ADDRESS=The Twelve Step House West Oak Avenue Wildwood New Jersey 08260 United States;X-APPLE-RADIUS=500;X-TITLE=West Oak Avenue:geo:-74.8162518,38.9921249
END:VEVENT
BEGIN:VEVENT
DTSTART;TZID=America/New_York:20280528T160000
DTEND;TZID=America/New_York:20280528T170000
DTSTAMP:20260423T072637
CREATED:20251104T004639Z
LAST-MODIFIED:20251111T021618Z
UID:10002397-1843142400-1843146000@capeatlanticaa.org
SUMMARY:District 19 Monthly Hybrid Meeting
DESCRIPTION:Meeting ID:  861 1052 1946 \nPassword:  GSR19
URL:https://capeatlanticaa.org/event/district-19-monthly-hybrid-meeting/2028-05-28/
LOCATION:The Twelve Step House\, West Oak Avenue\, Wildwood\, New Jersey\, 08260\, United States
GEO:38.9921249;-74.8162518
X-APPLE-STRUCTURED-LOCATION;VALUE=URI;X-ADDRESS=The Twelve Step House West Oak Avenue Wildwood New Jersey 08260 United States;X-APPLE-RADIUS=500;X-TITLE=West Oak Avenue:geo:-74.8162518,38.9921249
END:VEVENT
BEGIN:VEVENT
DTSTART;TZID=America/New_York:20280625T160000
DTEND;TZID=America/New_York:20280625T170000
DTSTAMP:20260423T072637
CREATED:20251104T004639Z
LAST-MODIFIED:20251111T021618Z
UID:10002398-1845561600-1845565200@capeatlanticaa.org
SUMMARY:District 19 Monthly Hybrid Meeting
DESCRIPTION:Meeting ID:  861 1052 1946 \nPassword:  GSR19
URL:https://capeatlanticaa.org/event/district-19-monthly-hybrid-meeting/2028-06-25/
LOCATION:The Twelve Step House\, West Oak Avenue\, Wildwood\, New Jersey\, 08260\, United States
GEO:38.9921249;-74.8162518
X-APPLE-STRUCTURED-LOCATION;VALUE=URI;X-ADDRESS=The Twelve Step House West Oak Avenue Wildwood New Jersey 08260 United States;X-APPLE-RADIUS=500;X-TITLE=West Oak Avenue:geo:-74.8162518,38.9921249
END:VEVENT
BEGIN:VEVENT
DTSTART;TZID=America/New_York:20280730T160000
DTEND;TZID=America/New_York:20280730T170000
DTSTAMP:20260423T072637
CREATED:20251104T004639Z
LAST-MODIFIED:20251111T021618Z
UID:10002399-1848585600-1848589200@capeatlanticaa.org
SUMMARY:District 19 Monthly Hybrid Meeting
DESCRIPTION:Meeting ID:  861 1052 1946 \nPassword:  GSR19
URL:https://capeatlanticaa.org/event/district-19-monthly-hybrid-meeting/2028-07-30/
LOCATION:The Twelve Step House\, West Oak Avenue\, Wildwood\, New Jersey\, 08260\, United States
GEO:38.9921249;-74.8162518
X-APPLE-STRUCTURED-LOCATION;VALUE=URI;X-ADDRESS=The Twelve Step House West Oak Avenue Wildwood New Jersey 08260 United States;X-APPLE-RADIUS=500;X-TITLE=West Oak Avenue:geo:-74.8162518,38.9921249
END:VEVENT
BEGIN:VEVENT
DTSTART;TZID=America/New_York:20280827T160000
DTEND;TZID=America/New_York:20280827T170000
DTSTAMP:20260423T072637
CREATED:20251104T004639Z
LAST-MODIFIED:20251111T021618Z
UID:10002400-1851004800-1851008400@capeatlanticaa.org
SUMMARY:District 19 Monthly Hybrid Meeting
DESCRIPTION:Meeting ID:  861 1052 1946 \nPassword:  GSR19
URL:https://capeatlanticaa.org/event/district-19-monthly-hybrid-meeting/2028-08-27/
LOCATION:The Twelve Step House\, West Oak Avenue\, Wildwood\, New Jersey\, 08260\, United States
GEO:38.9921249;-74.8162518
X-APPLE-STRUCTURED-LOCATION;VALUE=URI;X-ADDRESS=The Twelve Step House West Oak Avenue Wildwood New Jersey 08260 United States;X-APPLE-RADIUS=500;X-TITLE=West Oak Avenue:geo:-74.8162518,38.9921249
END:VEVENT
BEGIN:VEVENT
DTSTART;TZID=America/New_York:20280924T160000
DTEND;TZID=America/New_York:20280924T170000
DTSTAMP:20260423T072637
CREATED:20251104T004639Z
LAST-MODIFIED:20251111T021618Z
UID:10002401-1853424000-1853427600@capeatlanticaa.org
SUMMARY:District 19 Monthly Hybrid Meeting
DESCRIPTION:Meeting ID:  861 1052 1946 \nPassword:  GSR19
URL:https://capeatlanticaa.org/event/district-19-monthly-hybrid-meeting/2028-09-24/
LOCATION:The Twelve Step House\, West Oak Avenue\, Wildwood\, New Jersey\, 08260\, United States
GEO:38.9921249;-74.8162518
X-APPLE-STRUCTURED-LOCATION;VALUE=URI;X-ADDRESS=The Twelve Step House West Oak Avenue Wildwood New Jersey 08260 United States;X-APPLE-RADIUS=500;X-TITLE=West Oak Avenue:geo:-74.8162518,38.9921249
END:VEVENT
END:VCALENDAR