BEGIN:VCALENDAR
VERSION:2.0
PRODID:-//Cape Atlantic Intergroup - ECPv6.15.20//NONSGML v1.0//EN
CALSCALE:GREGORIAN
METHOD:PUBLISH
X-WR-CALNAME:Cape Atlantic Intergroup
X-ORIGINAL-URL:https://capeatlanticaa.org
X-WR-CALDESC:Events for Cape Atlantic Intergroup
REFRESH-INTERVAL;VALUE=DURATION:PT1H
X-Robots-Tag:noindex
X-PUBLISHED-TTL:PT1H
BEGIN:VTIMEZONE
TZID:America/New_York
BEGIN:DAYLIGHT
TZOFFSETFROM:-0500
TZOFFSETTO:-0400
TZNAME:EDT
DTSTART:20280312T070000
END:DAYLIGHT
BEGIN:STANDARD
TZOFFSETFROM:-0400
TZOFFSETTO:-0500
TZNAME:EST
DTSTART:20281105T060000
END:STANDARD
BEGIN:DAYLIGHT
TZOFFSETFROM:-0500
TZOFFSETTO:-0400
TZNAME:EDT
DTSTART:20290311T070000
END:DAYLIGHT
BEGIN:STANDARD
TZOFFSETFROM:-0400
TZOFFSETTO:-0500
TZNAME:EST
DTSTART:20291104T060000
END:STANDARD
BEGIN:DAYLIGHT
TZOFFSETFROM:-0500
TZOFFSETTO:-0400
TZNAME:EDT
DTSTART:20300310T070000
END:DAYLIGHT
BEGIN:STANDARD
TZOFFSETFROM:-0400
TZOFFSETTO:-0500
TZNAME:EST
DTSTART:20301103T060000
END:STANDARD
END:VTIMEZONE
BEGIN:VEVENT
DTSTART;TZID=America/New_York:20290301T183000
DTEND;TZID=America/New_York:20290301T193000
DTSTAMP:20260424T204326
CREATED:20241001T013715Z
LAST-MODIFIED:20260110T102019Z
UID:10001554-1867084200-1867087800@capeatlanticaa.org
SUMMARY:District 16 & 17 Monthly Meeting
DESCRIPTION:https://us05web.zoom.us/j/83348991388?pwd=jvkVrZe1DOyZEh2zgxQWQ2HqAMelak.1 \nZoom ID : 833 4899 1388 \nPassword : Area45
URL:https://capeatlanticaa.org/event/district-16-17-monthly-meeting/2029-03-01/
LOCATION:Intergroup Office\, New Road\, Northfield\, NJ\, 08225\, United States
GEO:39.3732308;-74.5547204
X-APPLE-STRUCTURED-LOCATION;VALUE=URI;X-ADDRESS=Intergroup Office New Road Northfield NJ 08225 United States;X-APPLE-RADIUS=500;X-TITLE=New Road:geo:-74.5547204,39.3732308
END:VEVENT
BEGIN:VEVENT
DTSTART;TZID=America/New_York:20290307T193000
DTEND;TZID=America/New_York:20290307T203000
DTSTAMP:20260424T204326
CREATED:20260415T102728Z
LAST-MODIFIED:20260415T102728Z
UID:10002685-1867606200-1867609800@capeatlanticaa.org
SUMMARY:CAYPAA Event Planning Meetings
DESCRIPTION:
URL:https://capeatlanticaa.org/event/caypaa-event-planning-meetings/2029-03-07/
LOCATION:Intergroup Office\, New Road\, Northfield\, NJ\, 08225\, United States
CATEGORIES:>Service Meetings
ATTACH;FMTTYPE=image/jpeg:https://capeatlanticaa.org/wp-content/uploads/2026/04/IMG_5091.jpeg
GEO:39.3732308;-74.5547204
X-APPLE-STRUCTURED-LOCATION;VALUE=URI;X-ADDRESS=Intergroup Office New Road Northfield NJ 08225 United States;X-APPLE-RADIUS=500;X-TITLE=New Road:geo:-74.5547204,39.3732308
END:VEVENT
BEGIN:VEVENT
DTSTART;TZID=America/New_York:20290312T183000
DTEND;TZID=America/New_York:20290312T193000
DTSTAMP:20260424T204326
CREATED:20260120T021529Z
LAST-MODIFIED:20260120T021529Z
UID:10002493-1868034600-1868038200@capeatlanticaa.org
SUMMARY:Roundup Committee Hybrid Meeting
DESCRIPTION:Meeting ID: 812 7714 5161 Passcode: 417323  CLICK TO JOIN NOW
URL:https://capeatlanticaa.org/event/roundup-committee-hybrid-meeting/2029-03-12/
LOCATION:Intergroup Office\, New Road\, Northfield\, NJ\, 08225\, United States
GEO:39.3732308;-74.5547204
X-APPLE-STRUCTURED-LOCATION;VALUE=URI;X-ADDRESS=Intergroup Office New Road Northfield NJ 08225 United States;X-APPLE-RADIUS=500;X-TITLE=New Road:geo:-74.5547204,39.3732308
END:VEVENT
BEGIN:VEVENT
DTSTART;TZID=America/New_York:20290314T193000
DTEND;TZID=America/New_York:20290314T210000
DTSTAMP:20260424T204326
CREATED:20250414T224052Z
LAST-MODIFIED:20250414T224052Z
UID:10001922-1868211000-1868216400@capeatlanticaa.org
SUMMARY:Intergroup Steering Meeting
DESCRIPTION:The 2nd Wednesday of the month\, at 7:30\n1418 New Rd\, Suite 4\, Northfield NJ 08225 \nMeeting ID 542 744 809   CLICK TO JOIN NOW
URL:https://capeatlanticaa.org/event/intergroup-steering-meeting/2029-03-14/
LOCATION:Intergroup Office\, New Road\, Northfield\, NJ\, 08225\, United States
GEO:39.3732308;-74.5547204
X-APPLE-STRUCTURED-LOCATION;VALUE=URI;X-ADDRESS=Intergroup Office New Road Northfield NJ 08225 United States;X-APPLE-RADIUS=500;X-TITLE=New Road:geo:-74.5547204,39.3732308
END:VEVENT
BEGIN:VEVENT
DTSTART;TZID=America/New_York:20290321T193000
DTEND;TZID=America/New_York:20290321T210000
DTSTAMP:20260424T204326
CREATED:20260305T004502Z
LAST-MODIFIED:20260305T005115Z
UID:10002615-1868815800-1868821200@capeatlanticaa.org
SUMMARY:Intergroup Business Meeting
DESCRIPTION:All members can attend the monthly Business Meeting for Intergroup Meeting is held monthly – 3rd Wednesday of the month. LEARN MORE \nIntergroup Reps (IGRs) from area Groups attend this meeting to hear the reports from the Intergroup Steering Panel and Committees. Hybrid Meeting ID: 83296233517   No PW   CLICK TO JOIN MEETING
URL:https://capeatlanticaa.org/event/intergroup-business-meeting-2-3/2029-03-21/
LOCATION:Intergroup Office\, New Road\, Northfield\, NJ\, 08225\, United States
GEO:39.3732308;-74.5547204
X-APPLE-STRUCTURED-LOCATION;VALUE=URI;X-ADDRESS=Intergroup Office New Road Northfield NJ 08225 United States;X-APPLE-RADIUS=500;X-TITLE=New Road:geo:-74.5547204,39.3732308
END:VEVENT
BEGIN:VEVENT
DTSTART;TZID=America/New_York:20290404T193000
DTEND;TZID=America/New_York:20290404T203000
DTSTAMP:20260424T204326
CREATED:20260415T102728Z
LAST-MODIFIED:20260415T102728Z
UID:10002686-1870025400-1870029000@capeatlanticaa.org
SUMMARY:CAYPAA Event Planning Meetings
DESCRIPTION:
URL:https://capeatlanticaa.org/event/caypaa-event-planning-meetings/2029-04-04/
LOCATION:Intergroup Office\, New Road\, Northfield\, NJ\, 08225\, United States
CATEGORIES:>Service Meetings
ATTACH;FMTTYPE=image/jpeg:https://capeatlanticaa.org/wp-content/uploads/2026/04/IMG_5091.jpeg
GEO:39.3732308;-74.5547204
X-APPLE-STRUCTURED-LOCATION;VALUE=URI;X-ADDRESS=Intergroup Office New Road Northfield NJ 08225 United States;X-APPLE-RADIUS=500;X-TITLE=New Road:geo:-74.5547204,39.3732308
END:VEVENT
BEGIN:VEVENT
DTSTART;TZID=America/New_York:20290405T183000
DTEND;TZID=America/New_York:20290405T193000
DTSTAMP:20260424T204326
CREATED:20241001T013715Z
LAST-MODIFIED:20260110T102019Z
UID:10001555-1870108200-1870111800@capeatlanticaa.org
SUMMARY:District 16 & 17 Monthly Meeting
DESCRIPTION:https://us05web.zoom.us/j/83348991388?pwd=jvkVrZe1DOyZEh2zgxQWQ2HqAMelak.1 \nZoom ID : 833 4899 1388 \nPassword : Area45
URL:https://capeatlanticaa.org/event/district-16-17-monthly-meeting/2029-04-05/
LOCATION:Intergroup Office\, New Road\, Northfield\, NJ\, 08225\, United States
GEO:39.3732308;-74.5547204
X-APPLE-STRUCTURED-LOCATION;VALUE=URI;X-ADDRESS=Intergroup Office New Road Northfield NJ 08225 United States;X-APPLE-RADIUS=500;X-TITLE=New Road:geo:-74.5547204,39.3732308
END:VEVENT
BEGIN:VEVENT
DTSTART;TZID=America/New_York:20290409T183000
DTEND;TZID=America/New_York:20290409T193000
DTSTAMP:20260424T204326
CREATED:20260120T021529Z
LAST-MODIFIED:20260120T021529Z
UID:10002494-1870453800-1870457400@capeatlanticaa.org
SUMMARY:Roundup Committee Hybrid Meeting
DESCRIPTION:Meeting ID: 812 7714 5161 Passcode: 417323  CLICK TO JOIN NOW
URL:https://capeatlanticaa.org/event/roundup-committee-hybrid-meeting/2029-04-09/
LOCATION:Intergroup Office\, New Road\, Northfield\, NJ\, 08225\, United States
GEO:39.3732308;-74.5547204
X-APPLE-STRUCTURED-LOCATION;VALUE=URI;X-ADDRESS=Intergroup Office New Road Northfield NJ 08225 United States;X-APPLE-RADIUS=500;X-TITLE=New Road:geo:-74.5547204,39.3732308
END:VEVENT
BEGIN:VEVENT
DTSTART;TZID=America/New_York:20290411T193000
DTEND;TZID=America/New_York:20290411T210000
DTSTAMP:20260424T204326
CREATED:20250414T224052Z
LAST-MODIFIED:20250414T224052Z
UID:10001923-1870630200-1870635600@capeatlanticaa.org
SUMMARY:Intergroup Steering Meeting
DESCRIPTION:The 2nd Wednesday of the month\, at 7:30\n1418 New Rd\, Suite 4\, Northfield NJ 08225 \nMeeting ID 542 744 809   CLICK TO JOIN NOW
URL:https://capeatlanticaa.org/event/intergroup-steering-meeting/2029-04-11/
LOCATION:Intergroup Office\, New Road\, Northfield\, NJ\, 08225\, United States
GEO:39.3732308;-74.5547204
X-APPLE-STRUCTURED-LOCATION;VALUE=URI;X-ADDRESS=Intergroup Office New Road Northfield NJ 08225 United States;X-APPLE-RADIUS=500;X-TITLE=New Road:geo:-74.5547204,39.3732308
END:VEVENT
BEGIN:VEVENT
DTSTART;TZID=America/New_York:20290418T193000
DTEND;TZID=America/New_York:20290418T210000
DTSTAMP:20260424T204326
CREATED:20260305T004502Z
LAST-MODIFIED:20260305T005115Z
UID:10002616-1871235000-1871240400@capeatlanticaa.org
SUMMARY:Intergroup Business Meeting
DESCRIPTION:All members can attend the monthly Business Meeting for Intergroup Meeting is held monthly – 3rd Wednesday of the month. LEARN MORE \nIntergroup Reps (IGRs) from area Groups attend this meeting to hear the reports from the Intergroup Steering Panel and Committees. Hybrid Meeting ID: 83296233517   No PW   CLICK TO JOIN MEETING
URL:https://capeatlanticaa.org/event/intergroup-business-meeting-2-3/2029-04-18/
LOCATION:Intergroup Office\, New Road\, Northfield\, NJ\, 08225\, United States
GEO:39.3732308;-74.5547204
X-APPLE-STRUCTURED-LOCATION;VALUE=URI;X-ADDRESS=Intergroup Office New Road Northfield NJ 08225 United States;X-APPLE-RADIUS=500;X-TITLE=New Road:geo:-74.5547204,39.3732308
END:VEVENT
BEGIN:VEVENT
DTSTART;TZID=America/New_York:20290502T193000
DTEND;TZID=America/New_York:20290502T203000
DTSTAMP:20260424T204326
CREATED:20260415T102728Z
LAST-MODIFIED:20260415T102728Z
UID:10002687-1872444600-1872448200@capeatlanticaa.org
SUMMARY:CAYPAA Event Planning Meetings
DESCRIPTION:
URL:https://capeatlanticaa.org/event/caypaa-event-planning-meetings/2029-05-02/
LOCATION:Intergroup Office\, New Road\, Northfield\, NJ\, 08225\, United States
CATEGORIES:>Service Meetings
ATTACH;FMTTYPE=image/jpeg:https://capeatlanticaa.org/wp-content/uploads/2026/04/IMG_5091.jpeg
GEO:39.3732308;-74.5547204
X-APPLE-STRUCTURED-LOCATION;VALUE=URI;X-ADDRESS=Intergroup Office New Road Northfield NJ 08225 United States;X-APPLE-RADIUS=500;X-TITLE=New Road:geo:-74.5547204,39.3732308
END:VEVENT
BEGIN:VEVENT
DTSTART;TZID=America/New_York:20290503T183000
DTEND;TZID=America/New_York:20290503T193000
DTSTAMP:20260424T204326
CREATED:20241001T013715Z
LAST-MODIFIED:20260110T102019Z
UID:10001556-1872527400-1872531000@capeatlanticaa.org
SUMMARY:District 16 & 17 Monthly Meeting
DESCRIPTION:https://us05web.zoom.us/j/83348991388?pwd=jvkVrZe1DOyZEh2zgxQWQ2HqAMelak.1 \nZoom ID : 833 4899 1388 \nPassword : Area45
URL:https://capeatlanticaa.org/event/district-16-17-monthly-meeting/2029-05-03/
LOCATION:Intergroup Office\, New Road\, Northfield\, NJ\, 08225\, United States
GEO:39.3732308;-74.5547204
X-APPLE-STRUCTURED-LOCATION;VALUE=URI;X-ADDRESS=Intergroup Office New Road Northfield NJ 08225 United States;X-APPLE-RADIUS=500;X-TITLE=New Road:geo:-74.5547204,39.3732308
END:VEVENT
BEGIN:VEVENT
DTSTART;TZID=America/New_York:20290509T193000
DTEND;TZID=America/New_York:20290509T210000
DTSTAMP:20260424T204326
CREATED:20250414T224052Z
LAST-MODIFIED:20250414T224052Z
UID:10001924-1873049400-1873054800@capeatlanticaa.org
SUMMARY:Intergroup Steering Meeting
DESCRIPTION:The 2nd Wednesday of the month\, at 7:30\n1418 New Rd\, Suite 4\, Northfield NJ 08225 \nMeeting ID 542 744 809   CLICK TO JOIN NOW
URL:https://capeatlanticaa.org/event/intergroup-steering-meeting/2029-05-09/
LOCATION:Intergroup Office\, New Road\, Northfield\, NJ\, 08225\, United States
GEO:39.3732308;-74.5547204
X-APPLE-STRUCTURED-LOCATION;VALUE=URI;X-ADDRESS=Intergroup Office New Road Northfield NJ 08225 United States;X-APPLE-RADIUS=500;X-TITLE=New Road:geo:-74.5547204,39.3732308
END:VEVENT
BEGIN:VEVENT
DTSTART;TZID=America/New_York:20290514T183000
DTEND;TZID=America/New_York:20290514T193000
DTSTAMP:20260424T204326
CREATED:20260120T021529Z
LAST-MODIFIED:20260120T021529Z
UID:10002495-1873477800-1873481400@capeatlanticaa.org
SUMMARY:Roundup Committee Hybrid Meeting
DESCRIPTION:Meeting ID: 812 7714 5161 Passcode: 417323  CLICK TO JOIN NOW
URL:https://capeatlanticaa.org/event/roundup-committee-hybrid-meeting/2029-05-14/
LOCATION:Intergroup Office\, New Road\, Northfield\, NJ\, 08225\, United States
GEO:39.3732308;-74.5547204
X-APPLE-STRUCTURED-LOCATION;VALUE=URI;X-ADDRESS=Intergroup Office New Road Northfield NJ 08225 United States;X-APPLE-RADIUS=500;X-TITLE=New Road:geo:-74.5547204,39.3732308
END:VEVENT
BEGIN:VEVENT
DTSTART;TZID=America/New_York:20290516T193000
DTEND;TZID=America/New_York:20290516T210000
DTSTAMP:20260424T204326
CREATED:20260305T004502Z
LAST-MODIFIED:20260305T005115Z
UID:10002617-1873654200-1873659600@capeatlanticaa.org
SUMMARY:Intergroup Business Meeting
DESCRIPTION:All members can attend the monthly Business Meeting for Intergroup Meeting is held monthly – 3rd Wednesday of the month. LEARN MORE \nIntergroup Reps (IGRs) from area Groups attend this meeting to hear the reports from the Intergroup Steering Panel and Committees. Hybrid Meeting ID: 83296233517   No PW   CLICK TO JOIN MEETING
URL:https://capeatlanticaa.org/event/intergroup-business-meeting-2-3/2029-05-16/
LOCATION:Intergroup Office\, New Road\, Northfield\, NJ\, 08225\, United States
GEO:39.3732308;-74.5547204
X-APPLE-STRUCTURED-LOCATION;VALUE=URI;X-ADDRESS=Intergroup Office New Road Northfield NJ 08225 United States;X-APPLE-RADIUS=500;X-TITLE=New Road:geo:-74.5547204,39.3732308
END:VEVENT
BEGIN:VEVENT
DTSTART;TZID=America/New_York:20290606T193000
DTEND;TZID=America/New_York:20290606T203000
DTSTAMP:20260424T204326
CREATED:20260415T102728Z
LAST-MODIFIED:20260415T102728Z
UID:10002688-1875468600-1875472200@capeatlanticaa.org
SUMMARY:CAYPAA Event Planning Meetings
DESCRIPTION:
URL:https://capeatlanticaa.org/event/caypaa-event-planning-meetings/2029-06-06/
LOCATION:Intergroup Office\, New Road\, Northfield\, NJ\, 08225\, United States
CATEGORIES:>Service Meetings
ATTACH;FMTTYPE=image/jpeg:https://capeatlanticaa.org/wp-content/uploads/2026/04/IMG_5091.jpeg
GEO:39.3732308;-74.5547204
X-APPLE-STRUCTURED-LOCATION;VALUE=URI;X-ADDRESS=Intergroup Office New Road Northfield NJ 08225 United States;X-APPLE-RADIUS=500;X-TITLE=New Road:geo:-74.5547204,39.3732308
END:VEVENT
BEGIN:VEVENT
DTSTART;TZID=America/New_York:20290607T183000
DTEND;TZID=America/New_York:20290607T193000
DTSTAMP:20260424T204326
CREATED:20241001T013715Z
LAST-MODIFIED:20260110T102019Z
UID:10001557-1875551400-1875555000@capeatlanticaa.org
SUMMARY:District 16 & 17 Monthly Meeting
DESCRIPTION:https://us05web.zoom.us/j/83348991388?pwd=jvkVrZe1DOyZEh2zgxQWQ2HqAMelak.1 \nZoom ID : 833 4899 1388 \nPassword : Area45
URL:https://capeatlanticaa.org/event/district-16-17-monthly-meeting/2029-06-07/
LOCATION:Intergroup Office\, New Road\, Northfield\, NJ\, 08225\, United States
GEO:39.3732308;-74.5547204
X-APPLE-STRUCTURED-LOCATION;VALUE=URI;X-ADDRESS=Intergroup Office New Road Northfield NJ 08225 United States;X-APPLE-RADIUS=500;X-TITLE=New Road:geo:-74.5547204,39.3732308
END:VEVENT
BEGIN:VEVENT
DTSTART;TZID=America/New_York:20290611T183000
DTEND;TZID=America/New_York:20290611T193000
DTSTAMP:20260424T204326
CREATED:20260120T021529Z
LAST-MODIFIED:20260120T021529Z
UID:10002496-1875897000-1875900600@capeatlanticaa.org
SUMMARY:Roundup Committee Hybrid Meeting
DESCRIPTION:Meeting ID: 812 7714 5161 Passcode: 417323  CLICK TO JOIN NOW
URL:https://capeatlanticaa.org/event/roundup-committee-hybrid-meeting/2029-06-11/
LOCATION:Intergroup Office\, New Road\, Northfield\, NJ\, 08225\, United States
GEO:39.3732308;-74.5547204
X-APPLE-STRUCTURED-LOCATION;VALUE=URI;X-ADDRESS=Intergroup Office New Road Northfield NJ 08225 United States;X-APPLE-RADIUS=500;X-TITLE=New Road:geo:-74.5547204,39.3732308
END:VEVENT
BEGIN:VEVENT
DTSTART;TZID=America/New_York:20290613T193000
DTEND;TZID=America/New_York:20290613T210000
DTSTAMP:20260424T204326
CREATED:20250414T224052Z
LAST-MODIFIED:20250414T224052Z
UID:10001925-1876073400-1876078800@capeatlanticaa.org
SUMMARY:Intergroup Steering Meeting
DESCRIPTION:The 2nd Wednesday of the month\, at 7:30\n1418 New Rd\, Suite 4\, Northfield NJ 08225 \nMeeting ID 542 744 809   CLICK TO JOIN NOW
URL:https://capeatlanticaa.org/event/intergroup-steering-meeting/2029-06-13/
LOCATION:Intergroup Office\, New Road\, Northfield\, NJ\, 08225\, United States
GEO:39.3732308;-74.5547204
X-APPLE-STRUCTURED-LOCATION;VALUE=URI;X-ADDRESS=Intergroup Office New Road Northfield NJ 08225 United States;X-APPLE-RADIUS=500;X-TITLE=New Road:geo:-74.5547204,39.3732308
END:VEVENT
BEGIN:VEVENT
DTSTART;TZID=America/New_York:20290620T193000
DTEND;TZID=America/New_York:20290620T210000
DTSTAMP:20260424T204326
CREATED:20260305T004502Z
LAST-MODIFIED:20260305T005115Z
UID:10002618-1876678200-1876683600@capeatlanticaa.org
SUMMARY:Intergroup Business Meeting
DESCRIPTION:All members can attend the monthly Business Meeting for Intergroup Meeting is held monthly – 3rd Wednesday of the month. LEARN MORE \nIntergroup Reps (IGRs) from area Groups attend this meeting to hear the reports from the Intergroup Steering Panel and Committees. Hybrid Meeting ID: 83296233517   No PW   CLICK TO JOIN MEETING
URL:https://capeatlanticaa.org/event/intergroup-business-meeting-2-3/2029-06-20/
LOCATION:Intergroup Office\, New Road\, Northfield\, NJ\, 08225\, United States
GEO:39.3732308;-74.5547204
X-APPLE-STRUCTURED-LOCATION;VALUE=URI;X-ADDRESS=Intergroup Office New Road Northfield NJ 08225 United States;X-APPLE-RADIUS=500;X-TITLE=New Road:geo:-74.5547204,39.3732308
END:VEVENT
BEGIN:VEVENT
DTSTART;TZID=America/New_York:20290704T193000
DTEND;TZID=America/New_York:20290704T203000
DTSTAMP:20260424T204326
CREATED:20260415T102728Z
LAST-MODIFIED:20260415T102728Z
UID:10002689-1877887800-1877891400@capeatlanticaa.org
SUMMARY:CAYPAA Event Planning Meetings
DESCRIPTION:
URL:https://capeatlanticaa.org/event/caypaa-event-planning-meetings/2029-07-04/
LOCATION:Intergroup Office\, New Road\, Northfield\, NJ\, 08225\, United States
CATEGORIES:>Service Meetings
ATTACH;FMTTYPE=image/jpeg:https://capeatlanticaa.org/wp-content/uploads/2026/04/IMG_5091.jpeg
GEO:39.3732308;-74.5547204
X-APPLE-STRUCTURED-LOCATION;VALUE=URI;X-ADDRESS=Intergroup Office New Road Northfield NJ 08225 United States;X-APPLE-RADIUS=500;X-TITLE=New Road:geo:-74.5547204,39.3732308
END:VEVENT
BEGIN:VEVENT
DTSTART;TZID=America/New_York:20290705T183000
DTEND;TZID=America/New_York:20290705T193000
DTSTAMP:20260424T204326
CREATED:20241001T013715Z
LAST-MODIFIED:20260110T102019Z
UID:10001558-1877970600-1877974200@capeatlanticaa.org
SUMMARY:District 16 & 17 Monthly Meeting
DESCRIPTION:https://us05web.zoom.us/j/83348991388?pwd=jvkVrZe1DOyZEh2zgxQWQ2HqAMelak.1 \nZoom ID : 833 4899 1388 \nPassword : Area45
URL:https://capeatlanticaa.org/event/district-16-17-monthly-meeting/2029-07-05/
LOCATION:Intergroup Office\, New Road\, Northfield\, NJ\, 08225\, United States
GEO:39.3732308;-74.5547204
X-APPLE-STRUCTURED-LOCATION;VALUE=URI;X-ADDRESS=Intergroup Office New Road Northfield NJ 08225 United States;X-APPLE-RADIUS=500;X-TITLE=New Road:geo:-74.5547204,39.3732308
END:VEVENT
BEGIN:VEVENT
DTSTART;TZID=America/New_York:20290709T183000
DTEND;TZID=America/New_York:20290709T193000
DTSTAMP:20260424T204326
CREATED:20260120T021529Z
LAST-MODIFIED:20260120T021529Z
UID:10002497-1878316200-1878319800@capeatlanticaa.org
SUMMARY:Roundup Committee Hybrid Meeting
DESCRIPTION:Meeting ID: 812 7714 5161 Passcode: 417323  CLICK TO JOIN NOW
URL:https://capeatlanticaa.org/event/roundup-committee-hybrid-meeting/2029-07-09/
LOCATION:Intergroup Office\, New Road\, Northfield\, NJ\, 08225\, United States
GEO:39.3732308;-74.5547204
X-APPLE-STRUCTURED-LOCATION;VALUE=URI;X-ADDRESS=Intergroup Office New Road Northfield NJ 08225 United States;X-APPLE-RADIUS=500;X-TITLE=New Road:geo:-74.5547204,39.3732308
END:VEVENT
BEGIN:VEVENT
DTSTART;TZID=America/New_York:20290711T193000
DTEND;TZID=America/New_York:20290711T210000
DTSTAMP:20260424T204326
CREATED:20250414T224052Z
LAST-MODIFIED:20250414T224052Z
UID:10001926-1878492600-1878498000@capeatlanticaa.org
SUMMARY:Intergroup Steering Meeting
DESCRIPTION:The 2nd Wednesday of the month\, at 7:30\n1418 New Rd\, Suite 4\, Northfield NJ 08225 \nMeeting ID 542 744 809   CLICK TO JOIN NOW
URL:https://capeatlanticaa.org/event/intergroup-steering-meeting/2029-07-11/
LOCATION:Intergroup Office\, New Road\, Northfield\, NJ\, 08225\, United States
GEO:39.3732308;-74.5547204
X-APPLE-STRUCTURED-LOCATION;VALUE=URI;X-ADDRESS=Intergroup Office New Road Northfield NJ 08225 United States;X-APPLE-RADIUS=500;X-TITLE=New Road:geo:-74.5547204,39.3732308
END:VEVENT
BEGIN:VEVENT
DTSTART;TZID=America/New_York:20290718T193000
DTEND;TZID=America/New_York:20290718T210000
DTSTAMP:20260424T204326
CREATED:20260305T004502Z
LAST-MODIFIED:20260305T005115Z
UID:10002619-1879097400-1879102800@capeatlanticaa.org
SUMMARY:Intergroup Business Meeting
DESCRIPTION:All members can attend the monthly Business Meeting for Intergroup Meeting is held monthly – 3rd Wednesday of the month. LEARN MORE \nIntergroup Reps (IGRs) from area Groups attend this meeting to hear the reports from the Intergroup Steering Panel and Committees. Hybrid Meeting ID: 83296233517   No PW   CLICK TO JOIN MEETING
URL:https://capeatlanticaa.org/event/intergroup-business-meeting-2-3/2029-07-18/
LOCATION:Intergroup Office\, New Road\, Northfield\, NJ\, 08225\, United States
GEO:39.3732308;-74.5547204
X-APPLE-STRUCTURED-LOCATION;VALUE=URI;X-ADDRESS=Intergroup Office New Road Northfield NJ 08225 United States;X-APPLE-RADIUS=500;X-TITLE=New Road:geo:-74.5547204,39.3732308
END:VEVENT
BEGIN:VEVENT
DTSTART;TZID=America/New_York:20290801T193000
DTEND;TZID=America/New_York:20290801T203000
DTSTAMP:20260424T204326
CREATED:20260415T102728Z
LAST-MODIFIED:20260415T102728Z
UID:10002690-1880307000-1880310600@capeatlanticaa.org
SUMMARY:CAYPAA Event Planning Meetings
DESCRIPTION:
URL:https://capeatlanticaa.org/event/caypaa-event-planning-meetings/2029-08-01/
LOCATION:Intergroup Office\, New Road\, Northfield\, NJ\, 08225\, United States
CATEGORIES:>Service Meetings
ATTACH;FMTTYPE=image/jpeg:https://capeatlanticaa.org/wp-content/uploads/2026/04/IMG_5091.jpeg
GEO:39.3732308;-74.5547204
X-APPLE-STRUCTURED-LOCATION;VALUE=URI;X-ADDRESS=Intergroup Office New Road Northfield NJ 08225 United States;X-APPLE-RADIUS=500;X-TITLE=New Road:geo:-74.5547204,39.3732308
END:VEVENT
BEGIN:VEVENT
DTSTART;TZID=America/New_York:20290802T183000
DTEND;TZID=America/New_York:20290802T193000
DTSTAMP:20260424T204326
CREATED:20241001T013715Z
LAST-MODIFIED:20260110T102019Z
UID:10001559-1880389800-1880393400@capeatlanticaa.org
SUMMARY:District 16 & 17 Monthly Meeting
DESCRIPTION:https://us05web.zoom.us/j/83348991388?pwd=jvkVrZe1DOyZEh2zgxQWQ2HqAMelak.1 \nZoom ID : 833 4899 1388 \nPassword : Area45
URL:https://capeatlanticaa.org/event/district-16-17-monthly-meeting/2029-08-02/
LOCATION:Intergroup Office\, New Road\, Northfield\, NJ\, 08225\, United States
GEO:39.3732308;-74.5547204
X-APPLE-STRUCTURED-LOCATION;VALUE=URI;X-ADDRESS=Intergroup Office New Road Northfield NJ 08225 United States;X-APPLE-RADIUS=500;X-TITLE=New Road:geo:-74.5547204,39.3732308
END:VEVENT
BEGIN:VEVENT
DTSTART;TZID=America/New_York:20290808T193000
DTEND;TZID=America/New_York:20290808T210000
DTSTAMP:20260424T204326
CREATED:20250414T224052Z
LAST-MODIFIED:20250414T224052Z
UID:10001927-1880911800-1880917200@capeatlanticaa.org
SUMMARY:Intergroup Steering Meeting
DESCRIPTION:The 2nd Wednesday of the month\, at 7:30\n1418 New Rd\, Suite 4\, Northfield NJ 08225 \nMeeting ID 542 744 809   CLICK TO JOIN NOW
URL:https://capeatlanticaa.org/event/intergroup-steering-meeting/2029-08-08/
LOCATION:Intergroup Office\, New Road\, Northfield\, NJ\, 08225\, United States
GEO:39.3732308;-74.5547204
X-APPLE-STRUCTURED-LOCATION;VALUE=URI;X-ADDRESS=Intergroup Office New Road Northfield NJ 08225 United States;X-APPLE-RADIUS=500;X-TITLE=New Road:geo:-74.5547204,39.3732308
END:VEVENT
BEGIN:VEVENT
DTSTART;TZID=America/New_York:20290813T183000
DTEND;TZID=America/New_York:20290813T193000
DTSTAMP:20260424T204326
CREATED:20260120T021529Z
LAST-MODIFIED:20260120T021529Z
UID:10002498-1881340200-1881343800@capeatlanticaa.org
SUMMARY:Roundup Committee Hybrid Meeting
DESCRIPTION:Meeting ID: 812 7714 5161 Passcode: 417323  CLICK TO JOIN NOW
URL:https://capeatlanticaa.org/event/roundup-committee-hybrid-meeting/2029-08-13/
LOCATION:Intergroup Office\, New Road\, Northfield\, NJ\, 08225\, United States
GEO:39.3732308;-74.5547204
X-APPLE-STRUCTURED-LOCATION;VALUE=URI;X-ADDRESS=Intergroup Office New Road Northfield NJ 08225 United States;X-APPLE-RADIUS=500;X-TITLE=New Road:geo:-74.5547204,39.3732308
END:VEVENT
BEGIN:VEVENT
DTSTART;TZID=America/New_York:20290815T193000
DTEND;TZID=America/New_York:20290815T210000
DTSTAMP:20260424T204326
CREATED:20260305T004502Z
LAST-MODIFIED:20260305T005115Z
UID:10002620-1881516600-1881522000@capeatlanticaa.org
SUMMARY:Intergroup Business Meeting
DESCRIPTION:All members can attend the monthly Business Meeting for Intergroup Meeting is held monthly – 3rd Wednesday of the month. LEARN MORE \nIntergroup Reps (IGRs) from area Groups attend this meeting to hear the reports from the Intergroup Steering Panel and Committees. Hybrid Meeting ID: 83296233517   No PW   CLICK TO JOIN MEETING
URL:https://capeatlanticaa.org/event/intergroup-business-meeting-2-3/2029-08-15/
LOCATION:Intergroup Office\, New Road\, Northfield\, NJ\, 08225\, United States
GEO:39.3732308;-74.5547204
X-APPLE-STRUCTURED-LOCATION;VALUE=URI;X-ADDRESS=Intergroup Office New Road Northfield NJ 08225 United States;X-APPLE-RADIUS=500;X-TITLE=New Road:geo:-74.5547204,39.3732308
END:VEVENT
END:VCALENDAR