BEGIN:VCALENDAR
VERSION:2.0
PRODID:-//Cape Atlantic Intergroup - ECPv6.15.20//NONSGML v1.0//EN
CALSCALE:GREGORIAN
METHOD:PUBLISH
X-WR-CALNAME:Cape Atlantic Intergroup
X-ORIGINAL-URL:https://capeatlanticaa.org
X-WR-CALDESC:Events for Cape Atlantic Intergroup
REFRESH-INTERVAL;VALUE=DURATION:PT1H
X-Robots-Tag:noindex
X-PUBLISHED-TTL:PT1H
BEGIN:VTIMEZONE
TZID:America/New_York
BEGIN:DAYLIGHT
TZOFFSETFROM:-0500
TZOFFSETTO:-0400
TZNAME:EDT
DTSTART:20250309T070000
END:DAYLIGHT
BEGIN:STANDARD
TZOFFSETFROM:-0400
TZOFFSETTO:-0500
TZNAME:EST
DTSTART:20251102T060000
END:STANDARD
BEGIN:DAYLIGHT
TZOFFSETFROM:-0500
TZOFFSETTO:-0400
TZNAME:EDT
DTSTART:20260308T070000
END:DAYLIGHT
BEGIN:STANDARD
TZOFFSETFROM:-0400
TZOFFSETTO:-0500
TZNAME:EST
DTSTART:20261101T060000
END:STANDARD
BEGIN:DAYLIGHT
TZOFFSETFROM:-0500
TZOFFSETTO:-0400
TZNAME:EDT
DTSTART:20270314T070000
END:DAYLIGHT
BEGIN:STANDARD
TZOFFSETFROM:-0400
TZOFFSETTO:-0500
TZNAME:EST
DTSTART:20271107T060000
END:STANDARD
END:VTIMEZONE
BEGIN:VEVENT
DTSTART;TZID=America/New_York:20260701T193000
DTEND;TZID=America/New_York:20260701T203000
DTSTAMP:20260423T074339
CREATED:20260415T102728Z
LAST-MODIFIED:20260415T102728Z
UID:10002653-1782934200-1782937800@capeatlanticaa.org
SUMMARY:CAYPAA Event Planning Meetings
DESCRIPTION:
URL:https://capeatlanticaa.org/event/caypaa-event-planning-meetings/2026-07-01/
LOCATION:Intergroup Office\, New Road\, Northfield\, NJ\, 08225\, United States
CATEGORIES:>Service Meetings
ATTACH;FMTTYPE=image/jpeg:https://capeatlanticaa.org/wp-content/uploads/2026/04/IMG_5091.jpeg
GEO:39.3732308;-74.5547204
X-APPLE-STRUCTURED-LOCATION;VALUE=URI;X-ADDRESS=Intergroup Office New Road Northfield NJ 08225 United States;X-APPLE-RADIUS=500;X-TITLE=New Road:geo:-74.5547204,39.3732308
END:VEVENT
BEGIN:VEVENT
DTSTART;TZID=America/New_York:20260702T183000
DTEND;TZID=America/New_York:20260702T193000
DTSTAMP:20260423T074339
CREATED:20241001T013715Z
LAST-MODIFIED:20260110T102019Z
UID:10001522-1783017000-1783020600@capeatlanticaa.org
SUMMARY:District 16 & 17 Monthly Meeting
DESCRIPTION:https://us05web.zoom.us/j/83348991388?pwd=jvkVrZe1DOyZEh2zgxQWQ2HqAMelak.1 \nZoom ID : 833 4899 1388 \nPassword : Area45
URL:https://capeatlanticaa.org/event/district-16-17-monthly-meeting/2026-07-02/
LOCATION:Intergroup Office\, New Road\, Northfield\, NJ\, 08225\, United States
GEO:39.3732308;-74.5547204
X-APPLE-STRUCTURED-LOCATION;VALUE=URI;X-ADDRESS=Intergroup Office New Road Northfield NJ 08225 United States;X-APPLE-RADIUS=500;X-TITLE=New Road:geo:-74.5547204,39.3732308
END:VEVENT
BEGIN:VEVENT
DTSTART;TZID=America/New_York:20260708T193000
DTEND;TZID=America/New_York:20260708T210000
DTSTAMP:20260423T074339
CREATED:20250414T224052Z
LAST-MODIFIED:20250414T224052Z
UID:10001890-1783539000-1783544400@capeatlanticaa.org
SUMMARY:Intergroup Steering Meeting
DESCRIPTION:The 2nd Wednesday of the month\, at 7:30\n1418 New Rd\, Suite 4\, Northfield NJ 08225 \nMeeting ID 542 744 809   CLICK TO JOIN NOW
URL:https://capeatlanticaa.org/event/intergroup-steering-meeting/2026-07-08/
LOCATION:Intergroup Office\, New Road\, Northfield\, NJ\, 08225\, United States
GEO:39.3732308;-74.5547204
X-APPLE-STRUCTURED-LOCATION;VALUE=URI;X-ADDRESS=Intergroup Office New Road Northfield NJ 08225 United States;X-APPLE-RADIUS=500;X-TITLE=New Road:geo:-74.5547204,39.3732308
END:VEVENT
BEGIN:VEVENT
DTSTART;TZID=America/New_York:20260713T183000
DTEND;TZID=America/New_York:20260713T193000
DTSTAMP:20260423T074339
CREATED:20260120T021529Z
LAST-MODIFIED:20260120T021529Z
UID:10002461-1783967400-1783971000@capeatlanticaa.org
SUMMARY:Roundup Committee Hybrid Meeting
DESCRIPTION:Meeting ID: 812 7714 5161 Passcode: 417323  CLICK TO JOIN NOW
URL:https://capeatlanticaa.org/event/roundup-committee-hybrid-meeting/2026-07-13/
LOCATION:Intergroup Office\, New Road\, Northfield\, NJ\, 08225\, United States
GEO:39.3732308;-74.5547204
X-APPLE-STRUCTURED-LOCATION;VALUE=URI;X-ADDRESS=Intergroup Office New Road Northfield NJ 08225 United States;X-APPLE-RADIUS=500;X-TITLE=New Road:geo:-74.5547204,39.3732308
END:VEVENT
BEGIN:VEVENT
DTSTART;TZID=America/New_York:20260715T193000
DTEND;TZID=America/New_York:20260715T210000
DTSTAMP:20260423T074339
CREATED:20260305T004502Z
LAST-MODIFIED:20260305T005115Z
UID:10002583-1784143800-1784149200@capeatlanticaa.org
SUMMARY:Intergroup Business Meeting
DESCRIPTION:All members can attend the monthly Business Meeting for Intergroup Meeting is held monthly – 3rd Wednesday of the month. LEARN MORE \nIntergroup Reps (IGRs) from area Groups attend this meeting to hear the reports from the Intergroup Steering Panel and Committees. Hybrid Meeting ID: 83296233517   No PW   CLICK TO JOIN MEETING
URL:https://capeatlanticaa.org/event/intergroup-business-meeting-2-3/2026-07-15/
LOCATION:Intergroup Office\, New Road\, Northfield\, NJ\, 08225\, United States
GEO:39.3732308;-74.5547204
X-APPLE-STRUCTURED-LOCATION;VALUE=URI;X-ADDRESS=Intergroup Office New Road Northfield NJ 08225 United States;X-APPLE-RADIUS=500;X-TITLE=New Road:geo:-74.5547204,39.3732308
END:VEVENT
BEGIN:VEVENT
DTSTART;TZID=America/New_York:20260805T193000
DTEND;TZID=America/New_York:20260805T203000
DTSTAMP:20260423T074339
CREATED:20260415T102728Z
LAST-MODIFIED:20260415T102728Z
UID:10002654-1785958200-1785961800@capeatlanticaa.org
SUMMARY:CAYPAA Event Planning Meetings
DESCRIPTION:
URL:https://capeatlanticaa.org/event/caypaa-event-planning-meetings/2026-08-05/
LOCATION:Intergroup Office\, New Road\, Northfield\, NJ\, 08225\, United States
CATEGORIES:>Service Meetings
ATTACH;FMTTYPE=image/jpeg:https://capeatlanticaa.org/wp-content/uploads/2026/04/IMG_5091.jpeg
GEO:39.3732308;-74.5547204
X-APPLE-STRUCTURED-LOCATION;VALUE=URI;X-ADDRESS=Intergroup Office New Road Northfield NJ 08225 United States;X-APPLE-RADIUS=500;X-TITLE=New Road:geo:-74.5547204,39.3732308
END:VEVENT
BEGIN:VEVENT
DTSTART;TZID=America/New_York:20260806T183000
DTEND;TZID=America/New_York:20260806T193000
DTSTAMP:20260423T074339
CREATED:20241001T013715Z
LAST-MODIFIED:20260110T102019Z
UID:10001523-1786041000-1786044600@capeatlanticaa.org
SUMMARY:District 16 & 17 Monthly Meeting
DESCRIPTION:https://us05web.zoom.us/j/83348991388?pwd=jvkVrZe1DOyZEh2zgxQWQ2HqAMelak.1 \nZoom ID : 833 4899 1388 \nPassword : Area45
URL:https://capeatlanticaa.org/event/district-16-17-monthly-meeting/2026-08-06/
LOCATION:Intergroup Office\, New Road\, Northfield\, NJ\, 08225\, United States
GEO:39.3732308;-74.5547204
X-APPLE-STRUCTURED-LOCATION;VALUE=URI;X-ADDRESS=Intergroup Office New Road Northfield NJ 08225 United States;X-APPLE-RADIUS=500;X-TITLE=New Road:geo:-74.5547204,39.3732308
END:VEVENT
BEGIN:VEVENT
DTSTART;TZID=America/New_York:20260810T183000
DTEND;TZID=America/New_York:20260810T193000
DTSTAMP:20260423T074339
CREATED:20260120T021529Z
LAST-MODIFIED:20260120T021529Z
UID:10002462-1786386600-1786390200@capeatlanticaa.org
SUMMARY:Roundup Committee Hybrid Meeting
DESCRIPTION:Meeting ID: 812 7714 5161 Passcode: 417323  CLICK TO JOIN NOW
URL:https://capeatlanticaa.org/event/roundup-committee-hybrid-meeting/2026-08-10/
LOCATION:Intergroup Office\, New Road\, Northfield\, NJ\, 08225\, United States
GEO:39.3732308;-74.5547204
X-APPLE-STRUCTURED-LOCATION;VALUE=URI;X-ADDRESS=Intergroup Office New Road Northfield NJ 08225 United States;X-APPLE-RADIUS=500;X-TITLE=New Road:geo:-74.5547204,39.3732308
END:VEVENT
BEGIN:VEVENT
DTSTART;TZID=America/New_York:20260812T193000
DTEND;TZID=America/New_York:20260812T210000
DTSTAMP:20260423T074339
CREATED:20250414T224052Z
LAST-MODIFIED:20250414T224052Z
UID:10001891-1786563000-1786568400@capeatlanticaa.org
SUMMARY:Intergroup Steering Meeting
DESCRIPTION:The 2nd Wednesday of the month\, at 7:30\n1418 New Rd\, Suite 4\, Northfield NJ 08225 \nMeeting ID 542 744 809   CLICK TO JOIN NOW
URL:https://capeatlanticaa.org/event/intergroup-steering-meeting/2026-08-12/
LOCATION:Intergroup Office\, New Road\, Northfield\, NJ\, 08225\, United States
GEO:39.3732308;-74.5547204
X-APPLE-STRUCTURED-LOCATION;VALUE=URI;X-ADDRESS=Intergroup Office New Road Northfield NJ 08225 United States;X-APPLE-RADIUS=500;X-TITLE=New Road:geo:-74.5547204,39.3732308
END:VEVENT
BEGIN:VEVENT
DTSTART;TZID=America/New_York:20260819T193000
DTEND;TZID=America/New_York:20260819T210000
DTSTAMP:20260423T074339
CREATED:20260305T004502Z
LAST-MODIFIED:20260305T005115Z
UID:10002584-1787167800-1787173200@capeatlanticaa.org
SUMMARY:Intergroup Business Meeting
DESCRIPTION:All members can attend the monthly Business Meeting for Intergroup Meeting is held monthly – 3rd Wednesday of the month. LEARN MORE \nIntergroup Reps (IGRs) from area Groups attend this meeting to hear the reports from the Intergroup Steering Panel and Committees. Hybrid Meeting ID: 83296233517   No PW   CLICK TO JOIN MEETING
URL:https://capeatlanticaa.org/event/intergroup-business-meeting-2-3/2026-08-19/
LOCATION:Intergroup Office\, New Road\, Northfield\, NJ\, 08225\, United States
GEO:39.3732308;-74.5547204
X-APPLE-STRUCTURED-LOCATION;VALUE=URI;X-ADDRESS=Intergroup Office New Road Northfield NJ 08225 United States;X-APPLE-RADIUS=500;X-TITLE=New Road:geo:-74.5547204,39.3732308
END:VEVENT
BEGIN:VEVENT
DTSTART;TZID=America/New_York:20260902T193000
DTEND;TZID=America/New_York:20260902T203000
DTSTAMP:20260423T074339
CREATED:20260415T102728Z
LAST-MODIFIED:20260415T102728Z
UID:10002655-1788377400-1788381000@capeatlanticaa.org
SUMMARY:CAYPAA Event Planning Meetings
DESCRIPTION:
URL:https://capeatlanticaa.org/event/caypaa-event-planning-meetings/2026-09-02/
LOCATION:Intergroup Office\, New Road\, Northfield\, NJ\, 08225\, United States
CATEGORIES:>Service Meetings
ATTACH;FMTTYPE=image/jpeg:https://capeatlanticaa.org/wp-content/uploads/2026/04/IMG_5091.jpeg
GEO:39.3732308;-74.5547204
X-APPLE-STRUCTURED-LOCATION;VALUE=URI;X-ADDRESS=Intergroup Office New Road Northfield NJ 08225 United States;X-APPLE-RADIUS=500;X-TITLE=New Road:geo:-74.5547204,39.3732308
END:VEVENT
BEGIN:VEVENT
DTSTART;TZID=America/New_York:20260903T183000
DTEND;TZID=America/New_York:20260903T193000
DTSTAMP:20260423T074339
CREATED:20241001T013715Z
LAST-MODIFIED:20260110T102019Z
UID:10001524-1788460200-1788463800@capeatlanticaa.org
SUMMARY:District 16 & 17 Monthly Meeting
DESCRIPTION:https://us05web.zoom.us/j/83348991388?pwd=jvkVrZe1DOyZEh2zgxQWQ2HqAMelak.1 \nZoom ID : 833 4899 1388 \nPassword : Area45
URL:https://capeatlanticaa.org/event/district-16-17-monthly-meeting/2026-09-03/
LOCATION:Intergroup Office\, New Road\, Northfield\, NJ\, 08225\, United States
GEO:39.3732308;-74.5547204
X-APPLE-STRUCTURED-LOCATION;VALUE=URI;X-ADDRESS=Intergroup Office New Road Northfield NJ 08225 United States;X-APPLE-RADIUS=500;X-TITLE=New Road:geo:-74.5547204,39.3732308
END:VEVENT
BEGIN:VEVENT
DTSTART;TZID=America/New_York:20260909T193000
DTEND;TZID=America/New_York:20260909T210000
DTSTAMP:20260423T074339
CREATED:20250414T224052Z
LAST-MODIFIED:20250414T224052Z
UID:10001892-1788982200-1788987600@capeatlanticaa.org
SUMMARY:Intergroup Steering Meeting
DESCRIPTION:The 2nd Wednesday of the month\, at 7:30\n1418 New Rd\, Suite 4\, Northfield NJ 08225 \nMeeting ID 542 744 809   CLICK TO JOIN NOW
URL:https://capeatlanticaa.org/event/intergroup-steering-meeting/2026-09-09/
LOCATION:Intergroup Office\, New Road\, Northfield\, NJ\, 08225\, United States
GEO:39.3732308;-74.5547204
X-APPLE-STRUCTURED-LOCATION;VALUE=URI;X-ADDRESS=Intergroup Office New Road Northfield NJ 08225 United States;X-APPLE-RADIUS=500;X-TITLE=New Road:geo:-74.5547204,39.3732308
END:VEVENT
BEGIN:VEVENT
DTSTART;TZID=America/New_York:20260914T183000
DTEND;TZID=America/New_York:20260914T193000
DTSTAMP:20260423T074339
CREATED:20260120T021529Z
LAST-MODIFIED:20260120T021529Z
UID:10002463-1789410600-1789414200@capeatlanticaa.org
SUMMARY:Roundup Committee Hybrid Meeting
DESCRIPTION:Meeting ID: 812 7714 5161 Passcode: 417323  CLICK TO JOIN NOW
URL:https://capeatlanticaa.org/event/roundup-committee-hybrid-meeting/2026-09-14/
LOCATION:Intergroup Office\, New Road\, Northfield\, NJ\, 08225\, United States
GEO:39.3732308;-74.5547204
X-APPLE-STRUCTURED-LOCATION;VALUE=URI;X-ADDRESS=Intergroup Office New Road Northfield NJ 08225 United States;X-APPLE-RADIUS=500;X-TITLE=New Road:geo:-74.5547204,39.3732308
END:VEVENT
BEGIN:VEVENT
DTSTART;TZID=America/New_York:20260916T193000
DTEND;TZID=America/New_York:20260916T210000
DTSTAMP:20260423T074339
CREATED:20260305T004502Z
LAST-MODIFIED:20260305T005115Z
UID:10002585-1789587000-1789592400@capeatlanticaa.org
SUMMARY:Intergroup Business Meeting
DESCRIPTION:All members can attend the monthly Business Meeting for Intergroup Meeting is held monthly – 3rd Wednesday of the month. LEARN MORE \nIntergroup Reps (IGRs) from area Groups attend this meeting to hear the reports from the Intergroup Steering Panel and Committees. Hybrid Meeting ID: 83296233517   No PW   CLICK TO JOIN MEETING
URL:https://capeatlanticaa.org/event/intergroup-business-meeting-2-3/2026-09-16/
LOCATION:Intergroup Office\, New Road\, Northfield\, NJ\, 08225\, United States
GEO:39.3732308;-74.5547204
X-APPLE-STRUCTURED-LOCATION;VALUE=URI;X-ADDRESS=Intergroup Office New Road Northfield NJ 08225 United States;X-APPLE-RADIUS=500;X-TITLE=New Road:geo:-74.5547204,39.3732308
END:VEVENT
BEGIN:VEVENT
DTSTART;TZID=America/New_York:20261001T183000
DTEND;TZID=America/New_York:20261001T193000
DTSTAMP:20260423T074339
CREATED:20241001T013715Z
LAST-MODIFIED:20260110T102019Z
UID:10001525-1790879400-1790883000@capeatlanticaa.org
SUMMARY:District 16 & 17 Monthly Meeting
DESCRIPTION:https://us05web.zoom.us/j/83348991388?pwd=jvkVrZe1DOyZEh2zgxQWQ2HqAMelak.1 \nZoom ID : 833 4899 1388 \nPassword : Area45
URL:https://capeatlanticaa.org/event/district-16-17-monthly-meeting/2026-10-01/
LOCATION:Intergroup Office\, New Road\, Northfield\, NJ\, 08225\, United States
GEO:39.3732308;-74.5547204
X-APPLE-STRUCTURED-LOCATION;VALUE=URI;X-ADDRESS=Intergroup Office New Road Northfield NJ 08225 United States;X-APPLE-RADIUS=500;X-TITLE=New Road:geo:-74.5547204,39.3732308
END:VEVENT
BEGIN:VEVENT
DTSTART;TZID=America/New_York:20261007T193000
DTEND;TZID=America/New_York:20261007T203000
DTSTAMP:20260423T074339
CREATED:20260415T102728Z
LAST-MODIFIED:20260415T102728Z
UID:10002656-1791401400-1791405000@capeatlanticaa.org
SUMMARY:CAYPAA Event Planning Meetings
DESCRIPTION:
URL:https://capeatlanticaa.org/event/caypaa-event-planning-meetings/2026-10-07/
LOCATION:Intergroup Office\, New Road\, Northfield\, NJ\, 08225\, United States
CATEGORIES:>Service Meetings
ATTACH;FMTTYPE=image/jpeg:https://capeatlanticaa.org/wp-content/uploads/2026/04/IMG_5091.jpeg
GEO:39.3732308;-74.5547204
X-APPLE-STRUCTURED-LOCATION;VALUE=URI;X-ADDRESS=Intergroup Office New Road Northfield NJ 08225 United States;X-APPLE-RADIUS=500;X-TITLE=New Road:geo:-74.5547204,39.3732308
END:VEVENT
BEGIN:VEVENT
DTSTART;TZID=America/New_York:20261012T183000
DTEND;TZID=America/New_York:20261012T193000
DTSTAMP:20260423T074339
CREATED:20260120T021529Z
LAST-MODIFIED:20260120T021529Z
UID:10002464-1791829800-1791833400@capeatlanticaa.org
SUMMARY:Roundup Committee Hybrid Meeting
DESCRIPTION:Meeting ID: 812 7714 5161 Passcode: 417323  CLICK TO JOIN NOW
URL:https://capeatlanticaa.org/event/roundup-committee-hybrid-meeting/2026-10-12/
LOCATION:Intergroup Office\, New Road\, Northfield\, NJ\, 08225\, United States
GEO:39.3732308;-74.5547204
X-APPLE-STRUCTURED-LOCATION;VALUE=URI;X-ADDRESS=Intergroup Office New Road Northfield NJ 08225 United States;X-APPLE-RADIUS=500;X-TITLE=New Road:geo:-74.5547204,39.3732308
END:VEVENT
BEGIN:VEVENT
DTSTART;TZID=America/New_York:20261014T193000
DTEND;TZID=America/New_York:20261014T210000
DTSTAMP:20260423T074339
CREATED:20250414T224052Z
LAST-MODIFIED:20250414T224052Z
UID:10001893-1792006200-1792011600@capeatlanticaa.org
SUMMARY:Intergroup Steering Meeting
DESCRIPTION:The 2nd Wednesday of the month\, at 7:30\n1418 New Rd\, Suite 4\, Northfield NJ 08225 \nMeeting ID 542 744 809   CLICK TO JOIN NOW
URL:https://capeatlanticaa.org/event/intergroup-steering-meeting/2026-10-14/
LOCATION:Intergroup Office\, New Road\, Northfield\, NJ\, 08225\, United States
GEO:39.3732308;-74.5547204
X-APPLE-STRUCTURED-LOCATION;VALUE=URI;X-ADDRESS=Intergroup Office New Road Northfield NJ 08225 United States;X-APPLE-RADIUS=500;X-TITLE=New Road:geo:-74.5547204,39.3732308
END:VEVENT
BEGIN:VEVENT
DTSTART;TZID=America/New_York:20261021T193000
DTEND;TZID=America/New_York:20261021T210000
DTSTAMP:20260423T074339
CREATED:20260305T004502Z
LAST-MODIFIED:20260305T005115Z
UID:10002586-1792611000-1792616400@capeatlanticaa.org
SUMMARY:Intergroup Business Meeting
DESCRIPTION:All members can attend the monthly Business Meeting for Intergroup Meeting is held monthly – 3rd Wednesday of the month. LEARN MORE \nIntergroup Reps (IGRs) from area Groups attend this meeting to hear the reports from the Intergroup Steering Panel and Committees. Hybrid Meeting ID: 83296233517   No PW   CLICK TO JOIN MEETING
URL:https://capeatlanticaa.org/event/intergroup-business-meeting-2-3/2026-10-21/
LOCATION:Intergroup Office\, New Road\, Northfield\, NJ\, 08225\, United States
GEO:39.3732308;-74.5547204
X-APPLE-STRUCTURED-LOCATION;VALUE=URI;X-ADDRESS=Intergroup Office New Road Northfield NJ 08225 United States;X-APPLE-RADIUS=500;X-TITLE=New Road:geo:-74.5547204,39.3732308
END:VEVENT
BEGIN:VEVENT
DTSTART;TZID=America/New_York:20261104T193000
DTEND;TZID=America/New_York:20261104T203000
DTSTAMP:20260423T074339
CREATED:20260415T102728Z
LAST-MODIFIED:20260415T102728Z
UID:10002657-1793820600-1793824200@capeatlanticaa.org
SUMMARY:CAYPAA Event Planning Meetings
DESCRIPTION:
URL:https://capeatlanticaa.org/event/caypaa-event-planning-meetings/2026-11-04/
LOCATION:Intergroup Office\, New Road\, Northfield\, NJ\, 08225\, United States
CATEGORIES:>Service Meetings
ATTACH;FMTTYPE=image/jpeg:https://capeatlanticaa.org/wp-content/uploads/2026/04/IMG_5091.jpeg
GEO:39.3732308;-74.5547204
X-APPLE-STRUCTURED-LOCATION;VALUE=URI;X-ADDRESS=Intergroup Office New Road Northfield NJ 08225 United States;X-APPLE-RADIUS=500;X-TITLE=New Road:geo:-74.5547204,39.3732308
END:VEVENT
BEGIN:VEVENT
DTSTART;TZID=America/New_York:20261105T183000
DTEND;TZID=America/New_York:20261105T193000
DTSTAMP:20260423T074339
CREATED:20241001T013715Z
LAST-MODIFIED:20260110T102019Z
UID:10001526-1793903400-1793907000@capeatlanticaa.org
SUMMARY:District 16 & 17 Monthly Meeting
DESCRIPTION:https://us05web.zoom.us/j/83348991388?pwd=jvkVrZe1DOyZEh2zgxQWQ2HqAMelak.1 \nZoom ID : 833 4899 1388 \nPassword : Area45
URL:https://capeatlanticaa.org/event/district-16-17-monthly-meeting/2026-11-05/
LOCATION:Intergroup Office\, New Road\, Northfield\, NJ\, 08225\, United States
GEO:39.3732308;-74.5547204
X-APPLE-STRUCTURED-LOCATION;VALUE=URI;X-ADDRESS=Intergroup Office New Road Northfield NJ 08225 United States;X-APPLE-RADIUS=500;X-TITLE=New Road:geo:-74.5547204,39.3732308
END:VEVENT
BEGIN:VEVENT
DTSTART;TZID=America/New_York:20261109T183000
DTEND;TZID=America/New_York:20261109T193000
DTSTAMP:20260423T074339
CREATED:20260120T021529Z
LAST-MODIFIED:20260120T021529Z
UID:10002465-1794249000-1794252600@capeatlanticaa.org
SUMMARY:Roundup Committee Hybrid Meeting
DESCRIPTION:Meeting ID: 812 7714 5161 Passcode: 417323  CLICK TO JOIN NOW
URL:https://capeatlanticaa.org/event/roundup-committee-hybrid-meeting/2026-11-09/
LOCATION:Intergroup Office\, New Road\, Northfield\, NJ\, 08225\, United States
GEO:39.3732308;-74.5547204
X-APPLE-STRUCTURED-LOCATION;VALUE=URI;X-ADDRESS=Intergroup Office New Road Northfield NJ 08225 United States;X-APPLE-RADIUS=500;X-TITLE=New Road:geo:-74.5547204,39.3732308
END:VEVENT
BEGIN:VEVENT
DTSTART;TZID=America/New_York:20261111T193000
DTEND;TZID=America/New_York:20261111T210000
DTSTAMP:20260423T074339
CREATED:20250414T224052Z
LAST-MODIFIED:20250414T224052Z
UID:10001894-1794425400-1794430800@capeatlanticaa.org
SUMMARY:Intergroup Steering Meeting
DESCRIPTION:The 2nd Wednesday of the month\, at 7:30\n1418 New Rd\, Suite 4\, Northfield NJ 08225 \nMeeting ID 542 744 809   CLICK TO JOIN NOW
URL:https://capeatlanticaa.org/event/intergroup-steering-meeting/2026-11-11/
LOCATION:Intergroup Office\, New Road\, Northfield\, NJ\, 08225\, United States
GEO:39.3732308;-74.5547204
X-APPLE-STRUCTURED-LOCATION;VALUE=URI;X-ADDRESS=Intergroup Office New Road Northfield NJ 08225 United States;X-APPLE-RADIUS=500;X-TITLE=New Road:geo:-74.5547204,39.3732308
END:VEVENT
BEGIN:VEVENT
DTSTART;TZID=America/New_York:20261118T193000
DTEND;TZID=America/New_York:20261118T210000
DTSTAMP:20260423T074339
CREATED:20260305T004502Z
LAST-MODIFIED:20260305T005115Z
UID:10002587-1795030200-1795035600@capeatlanticaa.org
SUMMARY:Intergroup Business Meeting
DESCRIPTION:All members can attend the monthly Business Meeting for Intergroup Meeting is held monthly – 3rd Wednesday of the month. LEARN MORE \nIntergroup Reps (IGRs) from area Groups attend this meeting to hear the reports from the Intergroup Steering Panel and Committees. Hybrid Meeting ID: 83296233517   No PW   CLICK TO JOIN MEETING
URL:https://capeatlanticaa.org/event/intergroup-business-meeting-2-3/2026-11-18/
LOCATION:Intergroup Office\, New Road\, Northfield\, NJ\, 08225\, United States
GEO:39.3732308;-74.5547204
X-APPLE-STRUCTURED-LOCATION;VALUE=URI;X-ADDRESS=Intergroup Office New Road Northfield NJ 08225 United States;X-APPLE-RADIUS=500;X-TITLE=New Road:geo:-74.5547204,39.3732308
END:VEVENT
BEGIN:VEVENT
DTSTART;TZID=America/New_York:20261202T193000
DTEND;TZID=America/New_York:20261202T203000
DTSTAMP:20260423T074339
CREATED:20260415T102728Z
LAST-MODIFIED:20260415T102728Z
UID:10002658-1796239800-1796243400@capeatlanticaa.org
SUMMARY:CAYPAA Event Planning Meetings
DESCRIPTION:
URL:https://capeatlanticaa.org/event/caypaa-event-planning-meetings/2026-12-02/
LOCATION:Intergroup Office\, New Road\, Northfield\, NJ\, 08225\, United States
CATEGORIES:>Service Meetings
ATTACH;FMTTYPE=image/jpeg:https://capeatlanticaa.org/wp-content/uploads/2026/04/IMG_5091.jpeg
GEO:39.3732308;-74.5547204
X-APPLE-STRUCTURED-LOCATION;VALUE=URI;X-ADDRESS=Intergroup Office New Road Northfield NJ 08225 United States;X-APPLE-RADIUS=500;X-TITLE=New Road:geo:-74.5547204,39.3732308
END:VEVENT
BEGIN:VEVENT
DTSTART;TZID=America/New_York:20261203T183000
DTEND;TZID=America/New_York:20261203T193000
DTSTAMP:20260423T074339
CREATED:20241001T013715Z
LAST-MODIFIED:20260110T102019Z
UID:10001527-1796322600-1796326200@capeatlanticaa.org
SUMMARY:District 16 & 17 Monthly Meeting
DESCRIPTION:https://us05web.zoom.us/j/83348991388?pwd=jvkVrZe1DOyZEh2zgxQWQ2HqAMelak.1 \nZoom ID : 833 4899 1388 \nPassword : Area45
URL:https://capeatlanticaa.org/event/district-16-17-monthly-meeting/2026-12-03/
LOCATION:Intergroup Office\, New Road\, Northfield\, NJ\, 08225\, United States
GEO:39.3732308;-74.5547204
X-APPLE-STRUCTURED-LOCATION;VALUE=URI;X-ADDRESS=Intergroup Office New Road Northfield NJ 08225 United States;X-APPLE-RADIUS=500;X-TITLE=New Road:geo:-74.5547204,39.3732308
END:VEVENT
BEGIN:VEVENT
DTSTART;TZID=America/New_York:20261209T193000
DTEND;TZID=America/New_York:20261209T210000
DTSTAMP:20260423T074339
CREATED:20250414T224052Z
LAST-MODIFIED:20250414T224052Z
UID:10001895-1796844600-1796850000@capeatlanticaa.org
SUMMARY:Intergroup Steering Meeting
DESCRIPTION:The 2nd Wednesday of the month\, at 7:30\n1418 New Rd\, Suite 4\, Northfield NJ 08225 \nMeeting ID 542 744 809   CLICK TO JOIN NOW
URL:https://capeatlanticaa.org/event/intergroup-steering-meeting/2026-12-09/
LOCATION:Intergroup Office\, New Road\, Northfield\, NJ\, 08225\, United States
GEO:39.3732308;-74.5547204
X-APPLE-STRUCTURED-LOCATION;VALUE=URI;X-ADDRESS=Intergroup Office New Road Northfield NJ 08225 United States;X-APPLE-RADIUS=500;X-TITLE=New Road:geo:-74.5547204,39.3732308
END:VEVENT
BEGIN:VEVENT
DTSTART;TZID=America/New_York:20261214T183000
DTEND;TZID=America/New_York:20261214T193000
DTSTAMP:20260423T074339
CREATED:20260120T021529Z
LAST-MODIFIED:20260120T021529Z
UID:10002466-1797273000-1797276600@capeatlanticaa.org
SUMMARY:Roundup Committee Hybrid Meeting
DESCRIPTION:Meeting ID: 812 7714 5161 Passcode: 417323  CLICK TO JOIN NOW
URL:https://capeatlanticaa.org/event/roundup-committee-hybrid-meeting/2026-12-14/
LOCATION:Intergroup Office\, New Road\, Northfield\, NJ\, 08225\, United States
GEO:39.3732308;-74.5547204
X-APPLE-STRUCTURED-LOCATION;VALUE=URI;X-ADDRESS=Intergroup Office New Road Northfield NJ 08225 United States;X-APPLE-RADIUS=500;X-TITLE=New Road:geo:-74.5547204,39.3732308
END:VEVENT
BEGIN:VEVENT
DTSTART;TZID=America/New_York:20261216T193000
DTEND;TZID=America/New_York:20261216T210000
DTSTAMP:20260423T074339
CREATED:20260305T004502Z
LAST-MODIFIED:20260305T005115Z
UID:10002588-1797449400-1797454800@capeatlanticaa.org
SUMMARY:Intergroup Business Meeting
DESCRIPTION:All members can attend the monthly Business Meeting for Intergroup Meeting is held monthly – 3rd Wednesday of the month. LEARN MORE \nIntergroup Reps (IGRs) from area Groups attend this meeting to hear the reports from the Intergroup Steering Panel and Committees. Hybrid Meeting ID: 83296233517   No PW   CLICK TO JOIN MEETING
URL:https://capeatlanticaa.org/event/intergroup-business-meeting-2-3/2026-12-16/
LOCATION:Intergroup Office\, New Road\, Northfield\, NJ\, 08225\, United States
GEO:39.3732308;-74.5547204
X-APPLE-STRUCTURED-LOCATION;VALUE=URI;X-ADDRESS=Intergroup Office New Road Northfield NJ 08225 United States;X-APPLE-RADIUS=500;X-TITLE=New Road:geo:-74.5547204,39.3732308
END:VEVENT
END:VCALENDAR