BEGIN:VCALENDAR
VERSION:2.0
PRODID:-//Cape Atlantic Intergroup - ECPv6.15.20//NONSGML v1.0//EN
CALSCALE:GREGORIAN
METHOD:PUBLISH
X-WR-CALNAME:Cape Atlantic Intergroup
X-ORIGINAL-URL:https://capeatlanticaa.org
X-WR-CALDESC:Events for Cape Atlantic Intergroup
REFRESH-INTERVAL;VALUE=DURATION:PT1H
X-Robots-Tag:noindex
X-PUBLISHED-TTL:PT1H
BEGIN:VTIMEZONE
TZID:America/New_York
BEGIN:DAYLIGHT
TZOFFSETFROM:-0500
TZOFFSETTO:-0400
TZNAME:EDT
DTSTART:20270314T070000
END:DAYLIGHT
BEGIN:STANDARD
TZOFFSETFROM:-0400
TZOFFSETTO:-0500
TZNAME:EST
DTSTART:20271107T060000
END:STANDARD
BEGIN:DAYLIGHT
TZOFFSETFROM:-0500
TZOFFSETTO:-0400
TZNAME:EDT
DTSTART:20280312T070000
END:DAYLIGHT
BEGIN:STANDARD
TZOFFSETFROM:-0400
TZOFFSETTO:-0500
TZNAME:EST
DTSTART:20281105T060000
END:STANDARD
BEGIN:DAYLIGHT
TZOFFSETFROM:-0500
TZOFFSETTO:-0400
TZNAME:EDT
DTSTART:20290311T070000
END:DAYLIGHT
BEGIN:STANDARD
TZOFFSETFROM:-0400
TZOFFSETTO:-0500
TZNAME:EST
DTSTART:20291104T060000
END:STANDARD
BEGIN:DAYLIGHT
TZOFFSETFROM:-0500
TZOFFSETTO:-0400
TZNAME:EDT
DTSTART:20300310T070000
END:DAYLIGHT
BEGIN:STANDARD
TZOFFSETFROM:-0400
TZOFFSETTO:-0500
TZNAME:EST
DTSTART:20301103T060000
END:STANDARD
BEGIN:DAYLIGHT
TZOFFSETFROM:-0500
TZOFFSETTO:-0400
TZNAME:EDT
DTSTART:20310309T070000
END:DAYLIGHT
BEGIN:STANDARD
TZOFFSETFROM:-0400
TZOFFSETTO:-0500
TZNAME:EST
DTSTART:20311102T060000
END:STANDARD
END:VTIMEZONE
BEGIN:VEVENT
DTSTART;TZID=America/New_York:20281029T160000
DTEND;TZID=America/New_York:20281029T170000
DTSTAMP:20260423T123919
CREATED:20251104T004639Z
LAST-MODIFIED:20251111T021618Z
UID:10002402-1856448000-1856451600@capeatlanticaa.org
SUMMARY:District 19 Monthly Hybrid Meeting
DESCRIPTION:Meeting ID:  861 1052 1946 \nPassword:  GSR19
URL:https://capeatlanticaa.org/event/district-19-monthly-hybrid-meeting/2028-10-29/
LOCATION:The Twelve Step House\, West Oak Avenue\, Wildwood\, New Jersey\, 08260\, United States
GEO:38.9921249;-74.8162518
X-APPLE-STRUCTURED-LOCATION;VALUE=URI;X-ADDRESS=The Twelve Step House West Oak Avenue Wildwood New Jersey 08260 United States;X-APPLE-RADIUS=500;X-TITLE=West Oak Avenue:geo:-74.8162518,38.9921249
END:VEVENT
BEGIN:VEVENT
DTSTART;TZID=America/New_York:20281126T160000
DTEND;TZID=America/New_York:20281126T170000
DTSTAMP:20260423T123919
CREATED:20251104T004639Z
LAST-MODIFIED:20251111T021618Z
UID:10002403-1858867200-1858870800@capeatlanticaa.org
SUMMARY:District 19 Monthly Hybrid Meeting
DESCRIPTION:Meeting ID:  861 1052 1946 \nPassword:  GSR19
URL:https://capeatlanticaa.org/event/district-19-monthly-hybrid-meeting/2028-11-26/
LOCATION:The Twelve Step House\, West Oak Avenue\, Wildwood\, New Jersey\, 08260\, United States
GEO:38.9921249;-74.8162518
X-APPLE-STRUCTURED-LOCATION;VALUE=URI;X-ADDRESS=The Twelve Step House West Oak Avenue Wildwood New Jersey 08260 United States;X-APPLE-RADIUS=500;X-TITLE=West Oak Avenue:geo:-74.8162518,38.9921249
END:VEVENT
BEGIN:VEVENT
DTSTART;TZID=America/New_York:20281231T160000
DTEND;TZID=America/New_York:20281231T170000
DTSTAMP:20260423T123919
CREATED:20251104T004639Z
LAST-MODIFIED:20251111T021618Z
UID:10002404-1861891200-1861894800@capeatlanticaa.org
SUMMARY:District 19 Monthly Hybrid Meeting
DESCRIPTION:Meeting ID:  861 1052 1946 \nPassword:  GSR19
URL:https://capeatlanticaa.org/event/district-19-monthly-hybrid-meeting/2028-12-31/
LOCATION:The Twelve Step House\, West Oak Avenue\, Wildwood\, New Jersey\, 08260\, United States
GEO:38.9921249;-74.8162518
X-APPLE-STRUCTURED-LOCATION;VALUE=URI;X-ADDRESS=The Twelve Step House West Oak Avenue Wildwood New Jersey 08260 United States;X-APPLE-RADIUS=500;X-TITLE=West Oak Avenue:geo:-74.8162518,38.9921249
END:VEVENT
BEGIN:VEVENT
DTSTART;TZID=America/New_York:20290128T160000
DTEND;TZID=America/New_York:20290128T170000
DTSTAMP:20260423T123919
CREATED:20251104T004639Z
LAST-MODIFIED:20251111T021618Z
UID:10002405-1864310400-1864314000@capeatlanticaa.org
SUMMARY:District 19 Monthly Hybrid Meeting
DESCRIPTION:Meeting ID:  861 1052 1946 \nPassword:  GSR19
URL:https://capeatlanticaa.org/event/district-19-monthly-hybrid-meeting/2029-01-28/
LOCATION:The Twelve Step House\, West Oak Avenue\, Wildwood\, New Jersey\, 08260\, United States
GEO:38.9921249;-74.8162518
X-APPLE-STRUCTURED-LOCATION;VALUE=URI;X-ADDRESS=The Twelve Step House West Oak Avenue Wildwood New Jersey 08260 United States;X-APPLE-RADIUS=500;X-TITLE=West Oak Avenue:geo:-74.8162518,38.9921249
END:VEVENT
BEGIN:VEVENT
DTSTART;TZID=America/New_York:20290225T160000
DTEND;TZID=America/New_York:20290225T170000
DTSTAMP:20260423T123919
CREATED:20251104T004639Z
LAST-MODIFIED:20251111T021618Z
UID:10002406-1866729600-1866733200@capeatlanticaa.org
SUMMARY:District 19 Monthly Hybrid Meeting
DESCRIPTION:Meeting ID:  861 1052 1946 \nPassword:  GSR19
URL:https://capeatlanticaa.org/event/district-19-monthly-hybrid-meeting/2029-02-25/
LOCATION:The Twelve Step House\, West Oak Avenue\, Wildwood\, New Jersey\, 08260\, United States
GEO:38.9921249;-74.8162518
X-APPLE-STRUCTURED-LOCATION;VALUE=URI;X-ADDRESS=The Twelve Step House West Oak Avenue Wildwood New Jersey 08260 United States;X-APPLE-RADIUS=500;X-TITLE=West Oak Avenue:geo:-74.8162518,38.9921249
END:VEVENT
BEGIN:VEVENT
DTSTART;TZID=America/New_York:20290325T160000
DTEND;TZID=America/New_York:20290325T170000
DTSTAMP:20260423T123919
CREATED:20251104T004639Z
LAST-MODIFIED:20251111T021618Z
UID:10002407-1869148800-1869152400@capeatlanticaa.org
SUMMARY:District 19 Monthly Hybrid Meeting
DESCRIPTION:Meeting ID:  861 1052 1946 \nPassword:  GSR19
URL:https://capeatlanticaa.org/event/district-19-monthly-hybrid-meeting/2029-03-25/
LOCATION:The Twelve Step House\, West Oak Avenue\, Wildwood\, New Jersey\, 08260\, United States
GEO:38.9921249;-74.8162518
X-APPLE-STRUCTURED-LOCATION;VALUE=URI;X-ADDRESS=The Twelve Step House West Oak Avenue Wildwood New Jersey 08260 United States;X-APPLE-RADIUS=500;X-TITLE=West Oak Avenue:geo:-74.8162518,38.9921249
END:VEVENT
BEGIN:VEVENT
DTSTART;TZID=America/New_York:20290429T160000
DTEND;TZID=America/New_York:20290429T170000
DTSTAMP:20260423T123919
CREATED:20251104T004639Z
LAST-MODIFIED:20251111T021618Z
UID:10002408-1872172800-1872176400@capeatlanticaa.org
SUMMARY:District 19 Monthly Hybrid Meeting
DESCRIPTION:Meeting ID:  861 1052 1946 \nPassword:  GSR19
URL:https://capeatlanticaa.org/event/district-19-monthly-hybrid-meeting/2029-04-29/
LOCATION:The Twelve Step House\, West Oak Avenue\, Wildwood\, New Jersey\, 08260\, United States
GEO:38.9921249;-74.8162518
X-APPLE-STRUCTURED-LOCATION;VALUE=URI;X-ADDRESS=The Twelve Step House West Oak Avenue Wildwood New Jersey 08260 United States;X-APPLE-RADIUS=500;X-TITLE=West Oak Avenue:geo:-74.8162518,38.9921249
END:VEVENT
BEGIN:VEVENT
DTSTART;TZID=America/New_York:20290527T160000
DTEND;TZID=America/New_York:20290527T170000
DTSTAMP:20260423T123919
CREATED:20251104T004639Z
LAST-MODIFIED:20251111T021618Z
UID:10002409-1874592000-1874595600@capeatlanticaa.org
SUMMARY:District 19 Monthly Hybrid Meeting
DESCRIPTION:Meeting ID:  861 1052 1946 \nPassword:  GSR19
URL:https://capeatlanticaa.org/event/district-19-monthly-hybrid-meeting/2029-05-27/
LOCATION:The Twelve Step House\, West Oak Avenue\, Wildwood\, New Jersey\, 08260\, United States
GEO:38.9921249;-74.8162518
X-APPLE-STRUCTURED-LOCATION;VALUE=URI;X-ADDRESS=The Twelve Step House West Oak Avenue Wildwood New Jersey 08260 United States;X-APPLE-RADIUS=500;X-TITLE=West Oak Avenue:geo:-74.8162518,38.9921249
END:VEVENT
BEGIN:VEVENT
DTSTART;TZID=America/New_York:20290624T160000
DTEND;TZID=America/New_York:20290624T170000
DTSTAMP:20260423T123919
CREATED:20251104T004639Z
LAST-MODIFIED:20251111T021618Z
UID:10002410-1877011200-1877014800@capeatlanticaa.org
SUMMARY:District 19 Monthly Hybrid Meeting
DESCRIPTION:Meeting ID:  861 1052 1946 \nPassword:  GSR19
URL:https://capeatlanticaa.org/event/district-19-monthly-hybrid-meeting/2029-06-24/
LOCATION:The Twelve Step House\, West Oak Avenue\, Wildwood\, New Jersey\, 08260\, United States
GEO:38.9921249;-74.8162518
X-APPLE-STRUCTURED-LOCATION;VALUE=URI;X-ADDRESS=The Twelve Step House West Oak Avenue Wildwood New Jersey 08260 United States;X-APPLE-RADIUS=500;X-TITLE=West Oak Avenue:geo:-74.8162518,38.9921249
END:VEVENT
BEGIN:VEVENT
DTSTART;TZID=America/New_York:20290729T160000
DTEND;TZID=America/New_York:20290729T170000
DTSTAMP:20260423T123919
CREATED:20251104T004639Z
LAST-MODIFIED:20251111T021618Z
UID:10002411-1880035200-1880038800@capeatlanticaa.org
SUMMARY:District 19 Monthly Hybrid Meeting
DESCRIPTION:Meeting ID:  861 1052 1946 \nPassword:  GSR19
URL:https://capeatlanticaa.org/event/district-19-monthly-hybrid-meeting/2029-07-29/
LOCATION:The Twelve Step House\, West Oak Avenue\, Wildwood\, New Jersey\, 08260\, United States
GEO:38.9921249;-74.8162518
X-APPLE-STRUCTURED-LOCATION;VALUE=URI;X-ADDRESS=The Twelve Step House West Oak Avenue Wildwood New Jersey 08260 United States;X-APPLE-RADIUS=500;X-TITLE=West Oak Avenue:geo:-74.8162518,38.9921249
END:VEVENT
BEGIN:VEVENT
DTSTART;TZID=America/New_York:20290826T160000
DTEND;TZID=America/New_York:20290826T170000
DTSTAMP:20260423T123919
CREATED:20251104T004639Z
LAST-MODIFIED:20251111T021618Z
UID:10002412-1882454400-1882458000@capeatlanticaa.org
SUMMARY:District 19 Monthly Hybrid Meeting
DESCRIPTION:Meeting ID:  861 1052 1946 \nPassword:  GSR19
URL:https://capeatlanticaa.org/event/district-19-monthly-hybrid-meeting/2029-08-26/
LOCATION:The Twelve Step House\, West Oak Avenue\, Wildwood\, New Jersey\, 08260\, United States
GEO:38.9921249;-74.8162518
X-APPLE-STRUCTURED-LOCATION;VALUE=URI;X-ADDRESS=The Twelve Step House West Oak Avenue Wildwood New Jersey 08260 United States;X-APPLE-RADIUS=500;X-TITLE=West Oak Avenue:geo:-74.8162518,38.9921249
END:VEVENT
BEGIN:VEVENT
DTSTART;TZID=America/New_York:20290930T160000
DTEND;TZID=America/New_York:20290930T170000
DTSTAMP:20260423T123920
CREATED:20251104T004639Z
LAST-MODIFIED:20251111T021618Z
UID:10002413-1885478400-1885482000@capeatlanticaa.org
SUMMARY:District 19 Monthly Hybrid Meeting
DESCRIPTION:Meeting ID:  861 1052 1946 \nPassword:  GSR19
URL:https://capeatlanticaa.org/event/district-19-monthly-hybrid-meeting/2029-09-30/
LOCATION:The Twelve Step House\, West Oak Avenue\, Wildwood\, New Jersey\, 08260\, United States
GEO:38.9921249;-74.8162518
X-APPLE-STRUCTURED-LOCATION;VALUE=URI;X-ADDRESS=The Twelve Step House West Oak Avenue Wildwood New Jersey 08260 United States;X-APPLE-RADIUS=500;X-TITLE=West Oak Avenue:geo:-74.8162518,38.9921249
END:VEVENT
BEGIN:VEVENT
DTSTART;TZID=America/New_York:20291028T160000
DTEND;TZID=America/New_York:20291028T170000
DTSTAMP:20260423T123920
CREATED:20251104T004639Z
LAST-MODIFIED:20251111T021618Z
UID:10002414-1887897600-1887901200@capeatlanticaa.org
SUMMARY:District 19 Monthly Hybrid Meeting
DESCRIPTION:Meeting ID:  861 1052 1946 \nPassword:  GSR19
URL:https://capeatlanticaa.org/event/district-19-monthly-hybrid-meeting/2029-10-28/
LOCATION:The Twelve Step House\, West Oak Avenue\, Wildwood\, New Jersey\, 08260\, United States
GEO:38.9921249;-74.8162518
X-APPLE-STRUCTURED-LOCATION;VALUE=URI;X-ADDRESS=The Twelve Step House West Oak Avenue Wildwood New Jersey 08260 United States;X-APPLE-RADIUS=500;X-TITLE=West Oak Avenue:geo:-74.8162518,38.9921249
END:VEVENT
BEGIN:VEVENT
DTSTART;TZID=America/New_York:20291125T160000
DTEND;TZID=America/New_York:20291125T170000
DTSTAMP:20260423T123920
CREATED:20251104T004639Z
LAST-MODIFIED:20251111T021618Z
UID:10002415-1890316800-1890320400@capeatlanticaa.org
SUMMARY:District 19 Monthly Hybrid Meeting
DESCRIPTION:Meeting ID:  861 1052 1946 \nPassword:  GSR19
URL:https://capeatlanticaa.org/event/district-19-monthly-hybrid-meeting/2029-11-25/
LOCATION:The Twelve Step House\, West Oak Avenue\, Wildwood\, New Jersey\, 08260\, United States
GEO:38.9921249;-74.8162518
X-APPLE-STRUCTURED-LOCATION;VALUE=URI;X-ADDRESS=The Twelve Step House West Oak Avenue Wildwood New Jersey 08260 United States;X-APPLE-RADIUS=500;X-TITLE=West Oak Avenue:geo:-74.8162518,38.9921249
END:VEVENT
BEGIN:VEVENT
DTSTART;TZID=America/New_York:20291230T160000
DTEND;TZID=America/New_York:20291230T170000
DTSTAMP:20260423T123920
CREATED:20251104T004639Z
LAST-MODIFIED:20251111T021618Z
UID:10002416-1893340800-1893344400@capeatlanticaa.org
SUMMARY:District 19 Monthly Hybrid Meeting
DESCRIPTION:Meeting ID:  861 1052 1946 \nPassword:  GSR19
URL:https://capeatlanticaa.org/event/district-19-monthly-hybrid-meeting/2029-12-30/
LOCATION:The Twelve Step House\, West Oak Avenue\, Wildwood\, New Jersey\, 08260\, United States
GEO:38.9921249;-74.8162518
X-APPLE-STRUCTURED-LOCATION;VALUE=URI;X-ADDRESS=The Twelve Step House West Oak Avenue Wildwood New Jersey 08260 United States;X-APPLE-RADIUS=500;X-TITLE=West Oak Avenue:geo:-74.8162518,38.9921249
END:VEVENT
BEGIN:VEVENT
DTSTART;TZID=America/New_York:20300127T160000
DTEND;TZID=America/New_York:20300127T170000
DTSTAMP:20260423T123920
CREATED:20251104T004639Z
LAST-MODIFIED:20251111T021618Z
UID:10002417-1895760000-1895763600@capeatlanticaa.org
SUMMARY:District 19 Monthly Hybrid Meeting
DESCRIPTION:Meeting ID:  861 1052 1946 \nPassword:  GSR19
URL:https://capeatlanticaa.org/event/district-19-monthly-hybrid-meeting/2030-01-27/
LOCATION:The Twelve Step House\, West Oak Avenue\, Wildwood\, New Jersey\, 08260\, United States
GEO:38.9921249;-74.8162518
X-APPLE-STRUCTURED-LOCATION;VALUE=URI;X-ADDRESS=The Twelve Step House West Oak Avenue Wildwood New Jersey 08260 United States;X-APPLE-RADIUS=500;X-TITLE=West Oak Avenue:geo:-74.8162518,38.9921249
END:VEVENT
BEGIN:VEVENT
DTSTART;TZID=America/New_York:20300224T160000
DTEND;TZID=America/New_York:20300224T170000
DTSTAMP:20260423T123920
CREATED:20251104T004639Z
LAST-MODIFIED:20251111T021618Z
UID:10002418-1898179200-1898182800@capeatlanticaa.org
SUMMARY:District 19 Monthly Hybrid Meeting
DESCRIPTION:Meeting ID:  861 1052 1946 \nPassword:  GSR19
URL:https://capeatlanticaa.org/event/district-19-monthly-hybrid-meeting/2030-02-24/
LOCATION:The Twelve Step House\, West Oak Avenue\, Wildwood\, New Jersey\, 08260\, United States
GEO:38.9921249;-74.8162518
X-APPLE-STRUCTURED-LOCATION;VALUE=URI;X-ADDRESS=The Twelve Step House West Oak Avenue Wildwood New Jersey 08260 United States;X-APPLE-RADIUS=500;X-TITLE=West Oak Avenue:geo:-74.8162518,38.9921249
END:VEVENT
BEGIN:VEVENT
DTSTART;TZID=America/New_York:20300331T160000
DTEND;TZID=America/New_York:20300331T170000
DTSTAMP:20260423T123920
CREATED:20251104T004639Z
LAST-MODIFIED:20251111T021618Z
UID:10002419-1901203200-1901206800@capeatlanticaa.org
SUMMARY:District 19 Monthly Hybrid Meeting
DESCRIPTION:Meeting ID:  861 1052 1946 \nPassword:  GSR19
URL:https://capeatlanticaa.org/event/district-19-monthly-hybrid-meeting/2030-03-31/
LOCATION:The Twelve Step House\, West Oak Avenue\, Wildwood\, New Jersey\, 08260\, United States
GEO:38.9921249;-74.8162518
X-APPLE-STRUCTURED-LOCATION;VALUE=URI;X-ADDRESS=The Twelve Step House West Oak Avenue Wildwood New Jersey 08260 United States;X-APPLE-RADIUS=500;X-TITLE=West Oak Avenue:geo:-74.8162518,38.9921249
END:VEVENT
BEGIN:VEVENT
DTSTART;TZID=America/New_York:20300428T160000
DTEND;TZID=America/New_York:20300428T170000
DTSTAMP:20260423T123920
CREATED:20251104T004639Z
LAST-MODIFIED:20251111T021618Z
UID:10002420-1903622400-1903626000@capeatlanticaa.org
SUMMARY:District 19 Monthly Hybrid Meeting
DESCRIPTION:Meeting ID:  861 1052 1946 \nPassword:  GSR19
URL:https://capeatlanticaa.org/event/district-19-monthly-hybrid-meeting/2030-04-28/
LOCATION:The Twelve Step House\, West Oak Avenue\, Wildwood\, New Jersey\, 08260\, United States
GEO:38.9921249;-74.8162518
X-APPLE-STRUCTURED-LOCATION;VALUE=URI;X-ADDRESS=The Twelve Step House West Oak Avenue Wildwood New Jersey 08260 United States;X-APPLE-RADIUS=500;X-TITLE=West Oak Avenue:geo:-74.8162518,38.9921249
END:VEVENT
BEGIN:VEVENT
DTSTART;TZID=America/New_York:20300526T160000
DTEND;TZID=America/New_York:20300526T170000
DTSTAMP:20260423T123920
CREATED:20251104T004639Z
LAST-MODIFIED:20251111T021618Z
UID:10002421-1906041600-1906045200@capeatlanticaa.org
SUMMARY:District 19 Monthly Hybrid Meeting
DESCRIPTION:Meeting ID:  861 1052 1946 \nPassword:  GSR19
URL:https://capeatlanticaa.org/event/district-19-monthly-hybrid-meeting/2030-05-26/
LOCATION:The Twelve Step House\, West Oak Avenue\, Wildwood\, New Jersey\, 08260\, United States
GEO:38.9921249;-74.8162518
X-APPLE-STRUCTURED-LOCATION;VALUE=URI;X-ADDRESS=The Twelve Step House West Oak Avenue Wildwood New Jersey 08260 United States;X-APPLE-RADIUS=500;X-TITLE=West Oak Avenue:geo:-74.8162518,38.9921249
END:VEVENT
BEGIN:VEVENT
DTSTART;TZID=America/New_York:20300630T160000
DTEND;TZID=America/New_York:20300630T170000
DTSTAMP:20260423T123920
CREATED:20251104T004639Z
LAST-MODIFIED:20251111T021618Z
UID:10002422-1909065600-1909069200@capeatlanticaa.org
SUMMARY:District 19 Monthly Hybrid Meeting
DESCRIPTION:Meeting ID:  861 1052 1946 \nPassword:  GSR19
URL:https://capeatlanticaa.org/event/district-19-monthly-hybrid-meeting/2030-06-30/
LOCATION:The Twelve Step House\, West Oak Avenue\, Wildwood\, New Jersey\, 08260\, United States
GEO:38.9921249;-74.8162518
X-APPLE-STRUCTURED-LOCATION;VALUE=URI;X-ADDRESS=The Twelve Step House West Oak Avenue Wildwood New Jersey 08260 United States;X-APPLE-RADIUS=500;X-TITLE=West Oak Avenue:geo:-74.8162518,38.9921249
END:VEVENT
BEGIN:VEVENT
DTSTART;TZID=America/New_York:20300728T160000
DTEND;TZID=America/New_York:20300728T170000
DTSTAMP:20260423T123920
CREATED:20251104T004639Z
LAST-MODIFIED:20251111T021618Z
UID:10002423-1911484800-1911488400@capeatlanticaa.org
SUMMARY:District 19 Monthly Hybrid Meeting
DESCRIPTION:Meeting ID:  861 1052 1946 \nPassword:  GSR19
URL:https://capeatlanticaa.org/event/district-19-monthly-hybrid-meeting/2030-07-28/
LOCATION:The Twelve Step House\, West Oak Avenue\, Wildwood\, New Jersey\, 08260\, United States
GEO:38.9921249;-74.8162518
X-APPLE-STRUCTURED-LOCATION;VALUE=URI;X-ADDRESS=The Twelve Step House West Oak Avenue Wildwood New Jersey 08260 United States;X-APPLE-RADIUS=500;X-TITLE=West Oak Avenue:geo:-74.8162518,38.9921249
END:VEVENT
BEGIN:VEVENT
DTSTART;TZID=America/New_York:20300825T160000
DTEND;TZID=America/New_York:20300825T170000
DTSTAMP:20260423T123920
CREATED:20251104T004639Z
LAST-MODIFIED:20251111T021618Z
UID:10002424-1913904000-1913907600@capeatlanticaa.org
SUMMARY:District 19 Monthly Hybrid Meeting
DESCRIPTION:Meeting ID:  861 1052 1946 \nPassword:  GSR19
URL:https://capeatlanticaa.org/event/district-19-monthly-hybrid-meeting/2030-08-25/
LOCATION:The Twelve Step House\, West Oak Avenue\, Wildwood\, New Jersey\, 08260\, United States
GEO:38.9921249;-74.8162518
X-APPLE-STRUCTURED-LOCATION;VALUE=URI;X-ADDRESS=The Twelve Step House West Oak Avenue Wildwood New Jersey 08260 United States;X-APPLE-RADIUS=500;X-TITLE=West Oak Avenue:geo:-74.8162518,38.9921249
END:VEVENT
BEGIN:VEVENT
DTSTART;TZID=America/New_York:20300929T160000
DTEND;TZID=America/New_York:20300929T170000
DTSTAMP:20260423T123920
CREATED:20251104T004639Z
LAST-MODIFIED:20251111T021618Z
UID:10002425-1916928000-1916931600@capeatlanticaa.org
SUMMARY:District 19 Monthly Hybrid Meeting
DESCRIPTION:Meeting ID:  861 1052 1946 \nPassword:  GSR19
URL:https://capeatlanticaa.org/event/district-19-monthly-hybrid-meeting/2030-09-29/
LOCATION:The Twelve Step House\, West Oak Avenue\, Wildwood\, New Jersey\, 08260\, United States
GEO:38.9921249;-74.8162518
X-APPLE-STRUCTURED-LOCATION;VALUE=URI;X-ADDRESS=The Twelve Step House West Oak Avenue Wildwood New Jersey 08260 United States;X-APPLE-RADIUS=500;X-TITLE=West Oak Avenue:geo:-74.8162518,38.9921249
END:VEVENT
BEGIN:VEVENT
DTSTART;TZID=America/New_York:20301027T160000
DTEND;TZID=America/New_York:20301027T170000
DTSTAMP:20260423T123920
CREATED:20251104T004639Z
LAST-MODIFIED:20251111T021618Z
UID:10002426-1919347200-1919350800@capeatlanticaa.org
SUMMARY:District 19 Monthly Hybrid Meeting
DESCRIPTION:Meeting ID:  861 1052 1946 \nPassword:  GSR19
URL:https://capeatlanticaa.org/event/district-19-monthly-hybrid-meeting/2030-10-27/
LOCATION:The Twelve Step House\, West Oak Avenue\, Wildwood\, New Jersey\, 08260\, United States
GEO:38.9921249;-74.8162518
X-APPLE-STRUCTURED-LOCATION;VALUE=URI;X-ADDRESS=The Twelve Step House West Oak Avenue Wildwood New Jersey 08260 United States;X-APPLE-RADIUS=500;X-TITLE=West Oak Avenue:geo:-74.8162518,38.9921249
END:VEVENT
END:VCALENDAR